Workbook

Sheet مهلت‌ها
A1: ردیاب مهلت‌ها
A2: هر مهلت یک ردیف: تاریخ نامه و تعداد روز را بنویسید؛ روز آخر، روزهای مانده و رنگ خودکار است. فقط سلول‌های آبیِ زمینه‌زرد را پر کنید.
A4: پروژه | B4: مجتمع مسکونی نمونه | E4: تعطیلی | F4: فقط جمعه | G4: امروز | H4: =IF(TODAY()="","",IFERROR(INDEX(cal!$A$2:$A$52,MATCH(TODAY(),cal!$B$2:$B$52,1))&"/"&TEXT(IF((TODAY()-INDEX(cal!$B$2:$B$52,MATCH(TODAY(),cal!$B$2:$B$52,1)))<186,INT((TODAY()-INDEX(cal!$B$2:$B$52,MATCH(TODAY(),cal!$B$2:$B$52,1)))/31)+1,INT(((TODAY()-INDEX(cal!$B$2:$B$52,MATCH(TODAY(),cal!$B$2:$B$52,1)))-186)/30)+7),"00")&"/"&TEXT(IF((TODAY()-INDEX(cal!$B$2:$B$52,MATCH(TODAY(),cal!$B$2:$B$52,1)))<186,MOD((TODAY()-INDEX(cal!$B$2:$B$52,MATCH(TODAY(),cal!$B$2:$B$52,1))),31)+1,MOD((TODAY()-INDEX(cal!$B$2:$B$52,MATCH(TODAY(),cal!$B$2:$B$52,1)))-186,30)+1),"00"),""))
A5: مهلت گذشته | C5: تا ۷ روز دیگر | E5: نزدیک‌ترین مهلت
A6: =COUNTIF($G$9:$G$158,"<0") | C6: =COUNTIFS($G$9:$G$158,">=0",$G$9:$G$158,"<=7") | E6: =IFERROR(INDEX($B$9:$B$158,MATCH(SMALL($M$9:$M$158,COUNTIF($G$9:$G$158,"<0")+1),$M$9:$M$158,0))&CHAR(10)&IF(SMALL($M$9:$M$158,COUNTIF($G$9:$G$158,"<0")+1)="","",IFERROR(INDEX(cal!$A$2:$A$52,MATCH(SMALL($M$9:$M$158,COUNTIF($G$9:$G$158,"<0")+1),cal!$B$2:$B$52,1))&"/"&TEXT(IF((SMALL($M$9:$M$158,COUNTIF($G$9:$G$158,"<0")+1)-INDEX(cal!$B$2:$B$52,MATCH(SMALL($M$9:$M$158,COUNTIF($G$9:$G$158,"<0")+1),cal!$B$2:$B$52,1)))<186,INT((SMALL($M$9:$M$158,COUNTIF($G$9:$G$158,"<0")+1)-INDEX(cal!$B$2:$B$52,MATCH(SMALL($M$9:$M$158,COUNTIF($G$9:$G$158,"<0")+1),cal!$B$2:$B$52,1)))/31)+1,INT(((SMALL($M$9:$M$158,COUNTIF($G$9:$G$158,"<0")+1)-INDEX(cal!$B$2:$B$52,MATCH(SMALL($M$9:$M$158,COUNTIF($G$9:$G$158,"<0")+1),cal!$B$2:$B$52,1)))-186)/30)+7),"00")&"/"&TEXT(IF((SMALL($M$9:$M$158,COUNTIF($G$9:$G$158,"<0")+1)-INDEX(cal!$B$2:$B$52,MATCH(SMALL($M$9:$M$158,COUNTIF($G$9:$G$158,"<0")+1),cal!$B$2:$B$52,1)))<186,MOD((SMALL($M$9:$M$158,COUNTIF($G$9:$G$158,"<0")+1)-INDEX(cal!$B$2:$B$52,MATCH(SMALL($M$9:$M$158,COUNTIF($G$9:$G$158,"<0")+1),cal!$B$2:$B$52,1))),31)+1,MOD((SMALL($M$9:$M$158,COUNTIF($G$9:$G$158,"<0")+1)-INDEX(cal!$B$2:$B$52,MATCH(SMALL($M$9:$M$158,COUNTIF($G$9:$G$158,"<0")+1),cal!$B$2:$B$52,1)))-186,30)+1),"00"),"")),"—")
A8: ردیف | B8: موضوع مهلت | C8: تاریخ نامه | D8: تعداد روز | E8: نوع روز | F8: روز آخر | G8: روز مانده | H8: وضعیت
A9: =IF(B9="","",ROW()-8) | B9: پاسخ به نامه‌ی کارفرما درباره‌ی تغییر نما | C9: 1405/07/28 | D9: 10 | E9: کاری | F9: =IF(M9="","",IFERROR(INDEX(cal!$A$2:$A$52,MATCH(M9,cal!$B$2:$B$52,1))&"/"&TEXT(IF((M9-INDEX(cal!$B$2:$B$52,MATCH(M9,cal!$B$2:$B$52,1)))<186,INT((M9-INDEX(cal!$B$2:$B$52,MATCH(M9,cal!$B$2:$B$52,1)))/31)+1,INT(((M9-INDEX(cal!$B$2:$B$52,MATCH(M9,cal!$B$2:$B$52,1)))-186)/30)+7),"00")&"/"&TEXT(IF((M9-INDEX(cal!$B$2:$B$52,MATCH(M9,cal!$B$2:$B$52,1)))<186,MOD((M9-INDEX(cal!$B$2:$B$52,MATCH(M9,cal!$B$2:$B$52,1))),31)+1,MOD((M9-INDEX(cal!$B$2:$B$52,MATCH(M9,cal!$B$2:$B$52,1)))-186,30)+1),"00"),"")) | G9: =IF(M9="","",M9-TODAY()) | H9: =IF(M9="","",IF(G9<0,"گذشته",IF(G9=0,"امروز!",IF(G9<=7,"نزدیک",IF(G9<=14,"حواست باشه","فرصت هست"))))) | K9: =IF(ISNUMBER(C9),"",SUBSTITUTE(SUBSTITUTE(SUBSTITUTE(SUBSTITUTE(SUBSTITUTE(SUBSTITUTE(SUBSTITUTE(SUBSTITUTE(SUBSTITUTE(SUBSTITUTE(SUBSTITUTE(SUBSTITUTE(TRIM(C9&""),"۰","0"),"۱","1"),"۲","2"),"۳","3"),"۴","4"),"۵","5"),"۶","6"),"۷","7"),"۸","8"),"۹","9"),"-","/"),".","/")) | L9: =IF(C9="","",IF(ISNUMBER(C9),C9,IFERROR(IF(VALUE(LEFT(K9,FIND("/",K9)-1))>1700,DATE(VALUE(LEFT(K9,FIND("/",K9)-1)),VALUE(LEFT(MID(K9,FIND("/",K9)+1,20),FIND("/",MID(K9,FIND("/",K9)+1,20))-1)),VALUE(MID(MID(K9,FIND("/",K9)+1,20),FIND("/",MID(K9,FIND("/",K9)+1,20))+1,20))),INDEX(cal!$B$2:$B$52,MATCH(VALUE(LEFT(K9,FIND("/",K9)-1)),cal!$A$2:$A$52,0))+IF(VALUE(LEFT(MID(K9,FIND("/",K9)+1,20),FIND("/",MID(K9,FIND("/",K9)+1,20))-1))<=6,(VALUE(LEFT(MID(K9,FIND("/",K9)+1,20),FIND("/",MID(K9,FIND("/",K9)+1,20))-1))-1)*31,186+(VALUE(LEFT(MID(K9,FIND("/",K9)+1,20),FIND("/",MID(K9,FIND("/",K9)+1,20))-1))-7)*30)+VALUE(MID(MID(K9,FIND("/",K9)+1,20),FIND("/",MID(K9,FIND("/",K9)+1,20))+1,20))-1),""))) | M9: =IF(OR(L9="",D9=""),"",IFERROR(IF(E9="تقویمی",L9+D9,WORKDAY.INTL(L9,D9,IF($F$4="پنجشنبه و جمعه","0001100",16),'تعطیلات'!$E$5:$E$64)),""))
A10: =IF(B10="","",ROW()-8) | B10: ارسال صورت‌وضعیت شماره‌ی ۵ | C10: 1405/07/20 | D10: 15 | E10: کاری | F10: =IF(M10="","",IFERROR(INDEX(cal!$A$2:$A$52,MATCH(M10,cal!$B$2:$B$52,1))&"/"&TEXT(IF((M10-INDEX(cal!$B$2:$B$52,MATCH(M10,cal!$B$2:$B$52,1)))<186,INT((M10-INDEX(cal!$B$2:$B$52,MATCH(M10,cal!$B$2:$B$52,1)))/31)+1,INT(((M10-INDEX(cal!$B$2:$B$52,MATCH(M10,cal!$B$2:$B$52,1)))-186)/30)+7),"00")&"/"&TEXT(IF((M10-INDEX(cal!$B$2:$B$52,MATCH(M10,cal!$B$2:$B$52,1)))<186,MOD((M10-INDEX(cal!$B$2:$B$52,MATCH(M10,cal!$B$2:$B$52,1))),31)+1,MOD((M10-INDEX(cal!$B$2:$B$52,MATCH(M10,cal!$B$2:$B$52,1)))-186,30)+1),"00"),"")) | G10: =IF(M10="","",M10-TODAY()) | H10: =IF(M10="","",IF(G10<0,"گذشته",IF(G10=0,"امروز!",IF(G10<=7,"نزدیک",IF(G10<=14,"حواست باشه","فرصت هست"))))) | K10: =IF(ISNUMBER(C10),"",SUBSTITUTE(SUBSTITUTE(SUBSTITUTE(SUBSTITUTE(SUBSTITUTE(SUBSTITUTE(SUBSTITUTE(SUBSTITUTE(SUBSTITUTE(SUBSTITUTE(SUBSTITUTE(SUBSTITUTE(TRIM(C10&""),"۰","0"),"۱","1"),"۲","2"),"۳","3"),"۴","4"),"۵","5"),"۶","6"),"۷","7"),"۸","8"),"۹","9"),"-","/"),".","/")) | L10: =IF(C10="","",IF(ISNUMBER(C10),C10,IFERROR(IF(VALUE(LEFT(K10,FIND("/",K10)-1))>1700,DATE(VALUE(LEFT(K10,FIND("/",K10)-1)),VALUE(LEFT(MID(K10,FIND("/",K10)+1,20),FIND("/",MID(K10,FIND("/",K10)+1,20))-1)),VALUE(MID(MID(K10,FIND("/",K10)+1,20),FIND("/",MID(K10,FIND("/",K10)+1,20))+1,20))),INDEX(cal!$B$2:$B$52,MATCH(VALUE(LEFT(K10,FIND("/",K10)-1)),cal!$A$2:$A$52,0))+IF(VALUE(LEFT(MID(K10,FIND("/",K10)+1,20),FIND("/",MID(K10,FIND("/",K10)+1,20))-1))<=6,(VALUE(LEFT(MID(K10,FIND("/",K10)+1,20),FIND("/",MID(K10,FIND("/",K10)+1,20))-1))-1)*31,186+(VALUE(LEFT(MID(K10,FIND("/",K10)+1,20),FIND("/",MID(K10,FIND("/",K10)+1,20))-1))-7)*30)+VALUE(MID(MID(K10,FIND("/",K10)+1,20),FIND("/",MID(K10,FIND("/",K10)+1,20))+1,20))-1),""))) | M10: =IF(OR(L10="",D10=""),"",IFERROR(IF(E10="تقویمی",L10+D10,WORKDAY.INTL(L10,D10,IF($F$4="پنجشنبه و جمعه","0001100",16),'تعطیلات'!$E$5:$E$64)),""))
A11: =IF(B11="","",ROW()-8) | B11: اعلام کتبی تأخیر مصالح به مشاور | C11: 1405/07/25 | D11: 7 | E11: تقویمی | F11: =IF(M11="","",IFERROR(INDEX(cal!$A$2:$A$52,MATCH(M11,cal!$B$2:$B$52,1))&"/"&TEXT(IF((M11-INDEX(cal!$B$2:$B$52,MATCH(M11,cal!$B$2:$B$52,1)))<186,INT((M11-INDEX(cal!$B$2:$B$52,MATCH(M11,cal!$B$2:$B$52,1)))/31)+1,INT(((M11-INDEX(cal!$B$2:$B$52,MATCH(M11,cal!$B$2:$B$52,1)))-186)/30)+7),"00")&"/"&TEXT(IF((M11-INDEX(cal!$B$2:$B$52,MATCH(M11,cal!$B$2:$B$52,1)))<186,MOD((M11-INDEX(cal!$B$2:$B$52,MATCH(M11,cal!$B$2:$B$52,1))),31)+1,MOD((M11-INDEX(cal!$B$2:$B$52,MATCH(M11,cal!$B$2:$B$52,1)))-186,30)+1),"00"),"")) | G11: =IF(M11="","",M11-TODAY()) | H11: =IF(M11="","",IF(G11<0,"گذشته",IF(G11=0,"امروز!",IF(G11<=7,"نزدیک",IF(G11<=14,"حواست باشه","فرصت هست"))))) | K11: =IF(ISNUMBER(C11),"",SUBSTITUTE(SUBSTITUTE(SUBSTITUTE(SUBSTITUTE(SUBSTITUTE(SUBSTITUTE(SUBSTITUTE(SUBSTITUTE(SUBSTITUTE(SUBSTITUTE(SUBSTITUTE(SUBSTITUTE(TRIM(C11&""),"۰","0"),"۱","1"),"۲","2"),"۳","3"),"۴","4"),"۵","5"),"۶","6"),"۷","7"),"۸","8"),"۹","9"),"-","/"),".","/")) | L11: =IF(C11="","",IF(ISNUMBER(C11),C11,IFERROR(IF(VALUE(LEFT(K11,FIND("/",K11)-1))>1700,DATE(VALUE(LEFT(K11,FIND("/",K11)-1)),VALUE(LEFT(MID(K11,FIND("/",K11)+1,20),FIND("/",MID(K11,FIND("/",K11)+1,20))-1)),VALUE(MID(MID(K11,FIND("/",K11)+1,20),FIND("/",MID(K11,FIND("/",K11)+1,20))+1,20))),INDEX(cal!$B$2:$B$52,MATCH(VALUE(LEFT(K11,FIND("/",K11)-1)),cal!$A$2:$A$52,0))+IF(VALUE(LEFT(MID(K11,FIND("/",K11)+1,20),FIND("/",MID(K11,FIND("/",K11)+1,20))-1))<=6,(VALUE(LEFT(MID(K11,FIND("/",K11)+1,20),FIND("/",MID(K11,FIND("/",K11)+1,20))-1))-1)*31,186+(VALUE(LEFT(MID(K11,FIND("/",K11)+1,20),FIND("/",MID(K11,FIND("/",K11)+1,20))-1))-7)*30)+VALUE(MID(MID(K11,FIND("/",K11)+1,20),FIND("/",MID(K11,FIND("/",K11)+1,20))+1,20))-1),""))) | M11: =IF(OR(L11="",D11=""),"",IFERROR(IF(E11="تقویمی",L11+D11,WORKDAY.INTL(L11,D11,IF($F$4="پنجشنبه و جمعه","0001100",16),'تعطیلات'!$E$5:$E$64)),""))
A12: =IF(B12="","",ROW()-8) | B12: تحویل نقشه‌های کارگاهی سازه | C12: 1405/07/22 | D12: 20 | E12: کاری | F12: =IF(M12="","",IFERROR(INDEX(cal!$A$2:$A$52,MATCH(M12,cal!$B$2:$B$52,1))&"/"&TEXT(IF((M12-INDEX(cal!$B$2:$B$52,MATCH(M12,cal!$B$2:$B$52,1)))<186,INT((M12-INDEX(cal!$B$2:$B$52,MATCH(M12,cal!$B$2:$B$52,1)))/31)+1,INT(((M12-INDEX(cal!$B$2:$B$52,MATCH(M12,cal!$B$2:$B$52,1)))-186)/30)+7),"00")&"/"&TEXT(IF((M12-INDEX(cal!$B$2:$B$52,MATCH(M12,cal!$B$2:$B$52,1)))<186,MOD((M12-INDEX(cal!$B$2:$B$52,MATCH(M12,cal!$B$2:$B$52,1))),31)+1,MOD((M12-INDEX(cal!$B$2:$B$52,MATCH(M12,cal!$B$2:$B$52,1)))-186,30)+1),"00"),"")) | G12: =IF(M12="","",M12-TODAY()) | H12: =IF(M12="","",IF(G12<0,"گذشته",IF(G12=0,"امروز!",IF(G12<=7,"نزدیک",IF(G12<=14,"حواست باشه","فرصت هست"))))) | K12: =IF(ISNUMBER(C12),"",SUBSTITUTE(SUBSTITUTE(SUBSTITUTE(SUBSTITUTE(SUBSTITUTE(SUBSTITUTE(SUBSTITUTE(SUBSTITUTE(SUBSTITUTE(SUBSTITUTE(SUBSTITUTE(SUBSTITUTE(TRIM(C12&""),"۰","0"),"۱","1"),"۲","2"),"۳","3"),"۴","4"),"۵","5"),"۶","6"),"۷","7"),"۸","8"),"۹","9"),"-","/"),".","/")) | L12: =IF(C12="","",IF(ISNUMBER(C12),C12,IFERROR(IF(VALUE(LEFT(K12,FIND("/",K12)-1))>1700,DATE(VALUE(LEFT(K12,FIND("/",K12)-1)),VALUE(LEFT(MID(K12,FIND("/",K12)+1,20),FIND("/",MID(K12,FIND("/",K12)+1,20))-1)),VALUE(MID(MID(K12,FIND("/",K12)+1,20),FIND("/",MID(K12,FIND("/",K12)+1,20))+1,20))),INDEX(cal!$B$2:$B$52,MATCH(VALUE(LEFT(K12,FIND("/",K12)-1)),cal!$A$2:$A$52,0))+IF(VALUE(LEFT(MID(K12,FIND("/",K12)+1,20),FIND("/",MID(K12,FIND("/",K12)+1,20))-1))<=6,(VALUE(LEFT(MID(K12,FIND("/",K12)+1,20),FIND("/",MID(K12,FIND("/",K12)+1,20))-1))-1)*31,186+(VALUE(LEFT(MID(K12,FIND("/",K12)+1,20),FIND("/",MID(K12,FIND("/",K12)+1,20))-1))-7)*30)+VALUE(MID(MID(K12,FIND("/",K12)+1,20),FIND("/",MID(K12,FIND("/",K12)+1,20))+1,20))-1),""))) | M12: =IF(OR(L12="",D12=""),"",IFERROR(IF(E12="تقویمی",L12+D12,WORKDAY.INTL(L12,D12,IF($F$4="پنجشنبه و جمعه","0001100",16),'تعطیلات'!$E$5:$E$64)),""))
A13: =IF(B13="","",ROW()-8) | B13: تمدید ضمانت‌نامه‌ی حسن انجام کار | C13: 1405/06/20 | D13: 90 | E13: تقویمی | F13: =IF(M13="","",IFERROR(INDEX(cal!$A$2:$A$52,MATCH(M13,cal!$B$2:$B$52,1))&"/"&TEXT(IF((M13-INDEX(cal!$B$2:$B$52,MATCH(M13,cal!$B$2:$B$52,1)))<186,INT((M13-INDEX(cal!$B$2:$B$52,MATCH(M13,cal!$B$2:$B$52,1)))/31)+1,INT(((M13-INDEX(cal!$B$2:$B$52,MATCH(M13,cal!$B$2:$B$52,1)))-186)/30)+7),"00")&"/"&TEXT(IF((M13-INDEX(cal!$B$2:$B$52,MATCH(M13,cal!$B$2:$B$52,1)))<186,MOD((M13-INDEX(cal!$B$2:$B$52,MATCH(M13,cal!$B$2:$B$52,1))),31)+1,MOD((M13-INDEX(cal!$B$2:$B$52,MATCH(M13,cal!$B$2:$B$52,1)))-186,30)+1),"00"),"")) | G13: =IF(M13="","",M13-TODAY()) | H13: =IF(M13="","",IF(G13<0,"گذشته",IF(G13=0,"امروز!",IF(G13<=7,"نزدیک",IF(G13<=14,"حواست باشه","فرصت هست"))))) | K13: =IF(ISNUMBER(C13),"",SUBSTITUTE(SUBSTITUTE(SUBSTITUTE(SUBSTITUTE(SUBSTITUTE(SUBSTITUTE(SUBSTITUTE(SUBSTITUTE(SUBSTITUTE(SUBSTITUTE(SUBSTITUTE(SUBSTITUTE(TRIM(C13&""),"۰","0"),"۱","1"),"۲","2"),"۳","3"),"۴","4"),"۵","5"),"۶","6"),"۷","7"),"۸","8"),"۹","9"),"-","/"),".","/")) | L13: =IF(C13="","",IF(ISNUMBER(C13),C13,IFERROR(IF(VALUE(LEFT(K13,FIND("/",K13)-1))>1700,DATE(VALUE(LEFT(K13,FIND("/",K13)-1)),VALUE(LEFT(MID(K13,FIND("/",K13)+1,20),FIND("/",MID(K13,FIND("/",K13)+1,20))-1)),VALUE(MID(MID(K13,FIND("/",K13)+1,20),FIND("/",MID(K13,FIND("/",K13)+1,20))+1,20))),INDEX(cal!$B$2:$B$52,MATCH(VALUE(LEFT(K13,FIND("/",K13)-1)),cal!$A$2:$A$52,0))+IF(VALUE(LEFT(MID(K13,FIND("/",K13)+1,20),FIND("/",MID(K13,FIND("/",K13)+1,20))-1))<=6,(VALUE(LEFT(MID(K13,FIND("/",K13)+1,20),FIND("/",MID(K13,FIND("/",K13)+1,20))-1))-1)*31,186+(VALUE(LEFT(MID(K13,FIND("/",K13)+1,20),FIND("/",MID(K13,FIND("/",K13)+1,20))-1))-7)*30)+VALUE(MID(MID(K13,FIND("/",K13)+1,20),FIND("/",MID(K13,FIND("/",K13)+1,20))+1,20))-1),""))) | M13: =IF(OR(L13="",D13=""),"",IFERROR(IF(E13="تقویمی",L13+D13,WORKDAY.INTL(L13,D13,IF($F$4="پنجشنبه و جمعه","0001100",16),'تعطیلات'!$E$5:$E$64)),""))
A14: =IF(B14="","",ROW()-8) | F14: =IF(M14="","",IFERROR(INDEX(cal!$A$2:$A$52,MATCH(M14,cal!$B$2:$B$52,1))&"/"&TEXT(IF((M14-INDEX(cal!$B$2:$B$52,MATCH(M14,cal!$B$2:$B$52,1)))<186,INT((M14-INDEX(cal!$B$2:$B$52,MATCH(M14,cal!$B$2:$B$52,1)))/31)+1,INT(((M14-INDEX(cal!$B$2:$B$52,MATCH(M14,cal!$B$2:$B$52,1)))-186)/30)+7),"00")&"/"&TEXT(IF((M14-INDEX(cal!$B$2:$B$52,MATCH(M14,cal!$B$2:$B$52,1)))<186,MOD((M14-INDEX(cal!$B$2:$B$52,MATCH(M14,cal!$B$2:$B$52,1))),31)+1,MOD((M14-INDEX(cal!$B$2:$B$52,MATCH(M14,cal!$B$2:$B$52,1)))-186,30)+1),"00"),"")) | G14: =IF(M14="","",M14-TODAY()) | H14: =IF(M14="","",IF(G14<0,"گذشته",IF(G14=0,"امروز!",IF(G14<=7,"نزدیک",IF(G14<=14,"حواست باشه","فرصت هست"))))) | K14: =IF(ISNUMBER(C14),"",SUBSTITUTE(SUBSTITUTE(SUBSTITUTE(SUBSTITUTE(SUBSTITUTE(SUBSTITUTE(SUBSTITUTE(SUBSTITUTE(SUBSTITUTE(SUBSTITUTE(SUBSTITUTE(SUBSTITUTE(TRIM(C14&""),"۰","0"),"۱","1"),"۲","2"),"۳","3"),"۴","4"),"۵","5"),"۶","6"),"۷","7"),"۸","8"),"۹","9"),"-","/"),".","/")) | L14: =IF(C14="","",IF(ISNUMBER(C14),C14,IFERROR(IF(VALUE(LEFT(K14,FIND("/",K14)-1))>1700,DATE(VALUE(LEFT(K14,FIND("/",K14)-1)),VALUE(LEFT(MID(K14,FIND("/",K14)+1,20),FIND("/",MID(K14,FIND("/",K14)+1,20))-1)),VALUE(MID(MID(K14,FIND("/",K14)+1,20),FIND("/",MID(K14,FIND("/",K14)+1,20))+1,20))),INDEX(cal!$B$2:$B$52,MATCH(VALUE(LEFT(K14,FIND("/",K14)-1)),cal!$A$2:$A$52,0))+IF(VALUE(LEFT(MID(K14,FIND("/",K14)+1,20),FIND("/",MID(K14,FIND("/",K14)+1,20))-1))<=6,(VALUE(LEFT(MID(K14,FIND("/",K14)+1,20),FIND("/",MID(K14,FIND("/",K14)+1,20))-1))-1)*31,186+(VALUE(LEFT(MID(K14,FIND("/",K14)+1,20),FIND("/",MID(K14,FIND("/",K14)+1,20))-1))-7)*30)+VALUE(MID(MID(K14,FIND("/",K14)+1,20),FIND("/",MID(K14,FIND("/",K14)+1,20))+1,20))-1),""))) | M14: =IF(OR(L14="",D14=""),"",IFERROR(IF(E14="تقویمی",L14+D14,WORKDAY.INTL(L14,D14,IF($F$4="پنجشنبه و جمعه","0001100",16),'تعطیلات'!$E$5:$E$64)),""))
A15: =IF(B15="","",ROW()-8) | F15: =IF(M15="","",IFERROR(INDEX(cal!$A$2:$A$52,MATCH(M15,cal!$B$2:$B$52,1))&"/"&TEXT(IF((M15-INDEX(cal!$B$2:$B$52,MATCH(M15,cal!$B$2:$B$52,1)))<186,INT((M15-INDEX(cal!$B$2:$B$52,MATCH(M15,cal!$B$2:$B$52,1)))/31)+1,INT(((M15-INDEX(cal!$B$2:$B$52,MATCH(M15,cal!$B$2:$B$52,1)))-186)/30)+7),"00")&"/"&TEXT(IF((M15-INDEX(cal!$B$2:$B$52,MATCH(M15,cal!$B$2:$B$52,1)))<186,MOD((M15-INDEX(cal!$B$2:$B$52,MATCH(M15,cal!$B$2:$B$52,1))),31)+1,MOD((M15-INDEX(cal!$B$2:$B$52,MATCH(M15,cal!$B$2:$B$52,1)))-186,30)+1),"00"),"")) | G15: =IF(M15="","",M15-TODAY()) | H15: =IF(M15="","",IF(G15<0,"گذشته",IF(G15=0,"امروز!",IF(G15<=7,"نزدیک",IF(G15<=14,"حواست باشه","فرصت هست"))))) | K15: =IF(ISNUMBER(C15),"",SUBSTITUTE(SUBSTITUTE(SUBSTITUTE(SUBSTITUTE(SUBSTITUTE(SUBSTITUTE(SUBSTITUTE(SUBSTITUTE(SUBSTITUTE(SUBSTITUTE(SUBSTITUTE(SUBSTITUTE(TRIM(C15&""),"۰","0"),"۱","1"),"۲","2"),"۳","3"),"۴","4"),"۵","5"),"۶","6"),"۷","7"),"۸","8"),"۹","9"),"-","/"),".","/")) | L15: =IF(C15="","",IF(ISNUMBER(C15),C15,IFERROR(IF(VALUE(LEFT(K15,FIND("/",K15)-1))>1700,DATE(VALUE(LEFT(K15,FIND("/",K15)-1)),VALUE(LEFT(MID(K15,FIND("/",K15)+1,20),FIND("/",MID(K15,FIND("/",K15)+1,20))-1)),VALUE(MID(MID(K15,FIND("/",K15)+1,20),FIND("/",MID(K15,FIND("/",K15)+1,20))+1,20))),INDEX(cal!$B$2:$B$52,MATCH(VALUE(LEFT(K15,FIND("/",K15)-1)),cal!$A$2:$A$52,0))+IF(VALUE(LEFT(MID(K15,FIND("/",K15)+1,20),FIND("/",MID(K15,FIND("/",K15)+1,20))-1))<=6,(VALUE(LEFT(MID(K15,FIND("/",K15)+1,20),FIND("/",MID(K15,FIND("/",K15)+1,20))-1))-1)*31,186+(VALUE(LEFT(MID(K15,FIND("/",K15)+1,20),FIND("/",MID(K15,FIND("/",K15)+1,20))-1))-7)*30)+VALUE(MID(MID(K15,FIND("/",K15)+1,20),FIND("/",MID(K15,FIND("/",K15)+1,20))+1,20))-1),""))) | M15: =IF(OR(L15="",D15=""),"",IFERROR(IF(E15="تقویمی",L15+D15,WORKDAY.INTL(L15,D15,IF($F$4="پنجشنبه و جمعه","0001100",16),'تعطیلات'!$E$5:$E$64)),""))
A16: =IF(B16="","",ROW()-8) | F16: =IF(M16="","",IFERROR(INDEX(cal!$A$2:$A$52,MATCH(M16,cal!$B$2:$B$52,1))&"/"&TEXT(IF((M16-INDEX(cal!$B$2:$B$52,MATCH(M16,cal!$B$2:$B$52,1)))<186,INT((M16-INDEX(cal!$B$2:$B$52,MATCH(M16,cal!$B$2:$B$52,1)))/31)+1,INT(((M16-INDEX(cal!$B$2:$B$52,MATCH(M16,cal!$B$2:$B$52,1)))-186)/30)+7),"00")&"/"&TEXT(IF((M16-INDEX(cal!$B$2:$B$52,MATCH(M16,cal!$B$2:$B$52,1)))<186,MOD((M16-INDEX(cal!$B$2:$B$52,MATCH(M16,cal!$B$2:$B$52,1))),31)+1,MOD((M16-INDEX(cal!$B$2:$B$52,MATCH(M16,cal!$B$2:$B$52,1)))-186,30)+1),"00"),"")) | G16: =IF(M16="","",M16-TODAY()) | H16: =IF(M16="","",IF(G16<0,"گذشته",IF(G16=0,"امروز!",IF(G16<=7,"نزدیک",IF(G16<=14,"حواست باشه","فرصت هست"))))) | K16: =IF(ISNUMBER(C16),"",SUBSTITUTE(SUBSTITUTE(SUBSTITUTE(SUBSTITUTE(SUBSTITUTE(SUBSTITUTE(SUBSTITUTE(SUBSTITUTE(SUBSTITUTE(SUBSTITUTE(SUBSTITUTE(SUBSTITUTE(TRIM(C16&""),"۰","0"),"۱","1"),"۲","2"),"۳","3"),"۴","4"),"۵","5"),"۶","6"),"۷","7"),"۸","8"),"۹","9"),"-","/"),".","/")) | L16: =IF(C16="","",IF(ISNUMBER(C16),C16,IFERROR(IF(VALUE(LEFT(K16,FIND("/",K16)-1))>1700,DATE(VALUE(LEFT(K16,FIND("/",K16)-1)),VALUE(LEFT(MID(K16,FIND("/",K16)+1,20),FIND("/",MID(K16,FIND("/",K16)+1,20))-1)),VALUE(MID(MID(K16,FIND("/",K16)+1,20),FIND("/",MID(K16,FIND("/",K16)+1,20))+1,20))),INDEX(cal!$B$2:$B$52,MATCH(VALUE(LEFT(K16,FIND("/",K16)-1)),cal!$A$2:$A$52,0))+IF(VALUE(LEFT(MID(K16,FIND("/",K16)+1,20),FIND("/",MID(K16,FIND("/",K16)+1,20))-1))<=6,(VALUE(LEFT(MID(K16,FIND("/",K16)+1,20),FIND("/",MID(K16,FIND("/",K16)+1,20))-1))-1)*31,186+(VALUE(LEFT(MID(K16,FIND("/",K16)+1,20),FIND("/",MID(K16,FIND("/",K16)+1,20))-1))-7)*30)+VALUE(MID(MID(K16,FIND("/",K16)+1,20),FIND("/",MID(K16,FIND("/",K16)+1,20))+1,20))-1),""))) | M16: =IF(OR(L16="",D16=""),"",IFERROR(IF(E16="تقویمی",L16+D16,WORKDAY.INTL(L16,D16,IF($F$4="پنجشنبه و جمعه","0001100",16),'تعطیلات'!$E$5:$E$64)),""))
A17: =IF(B17="","",ROW()-8) | F17: =IF(M17="","",IFERROR(INDEX(cal!$A$2:$A$52,MATCH(M17,cal!$B$2:$B$52,1))&"/"&TEXT(IF((M17-INDEX(cal!$B$2:$B$52,MATCH(M17,cal!$B$2:$B$52,1)))<186,INT((M17-INDEX(cal!$B$2:$B$52,MATCH(M17,cal!$B$2:$B$52,1)))/31)+1,INT(((M17-INDEX(cal!$B$2:$B$52,MATCH(M17,cal!$B$2:$B$52,1)))-186)/30)+7),"00")&"/"&TEXT(IF((M17-INDEX(cal!$B$2:$B$52,MATCH(M17,cal!$B$2:$B$52,1)))<186,MOD((M17-INDEX(cal!$B$2:$B$52,MATCH(M17,cal!$B$2:$B$52,1))),31)+1,MOD((M17-INDEX(cal!$B$2:$B$52,MATCH(M17,cal!$B$2:$B$52,1)))-186,30)+1),"00"),"")) | G17: =IF(M17="","",M17-TODAY()) | H17: =IF(M17="","",IF(G17<0,"گذشته",IF(G17=0,"امروز!",IF(G17<=7,"نزدیک",IF(G17<=14,"حواست باشه","فرصت هست"))))) | K17: =IF(ISNUMBER(C17),"",SUBSTITUTE(SUBSTITUTE(SUBSTITUTE(SUBSTITUTE(SUBSTITUTE(SUBSTITUTE(SUBSTITUTE(SUBSTITUTE(SUBSTITUTE(SUBSTITUTE(SUBSTITUTE(SUBSTITUTE(TRIM(C17&""),"۰","0"),"۱","1"),"۲","2"),"۳","3"),"۴","4"),"۵","5"),"۶","6"),"۷","7"),"۸","8"),"۹","9"),"-","/"),".","/")) | L17: =IF(C17="","",IF(ISNUMBER(C17),C17,IFERROR(IF(VALUE(LEFT(K17,FIND("/",K17)-1))>1700,DATE(VALUE(LEFT(K17,FIND("/",K17)-1)),VALUE(LEFT(MID(K17,FIND("/",K17)+1,20),FIND("/",MID(K17,FIND("/",K17)+1,20))-1)),VALUE(MID(MID(K17,FIND("/",K17)+1,20),FIND("/",MID(K17,FIND("/",K17)+1,20))+1,20))),INDEX(cal!$B$2:$B$52,MATCH(VALUE(LEFT(K17,FIND("/",K17)-1)),cal!$A$2:$A$52,0))+IF(VALUE(LEFT(MID(K17,FIND("/",K17)+1,20),FIND("/",MID(K17,FIND("/",K17)+1,20))-1))<=6,(VALUE(LEFT(MID(K17,FIND("/",K17)+1,20),FIND("/",MID(K17,FIND("/",K17)+1,20))-1))-1)*31,186+(VALUE(LEFT(MID(K17,FIND("/",K17)+1,20),FIND("/",MID(K17,FIND("/",K17)+1,20))-1))-7)*30)+VALUE(MID(MID(K17,FIND("/",K17)+1,20),FIND("/",MID(K17,FIND("/",K17)+1,20))+1,20))-1),""))) | M17: =IF(OR(L17="",D17=""),"",IFERROR(IF(E17="تقویمی",L17+D17,WORKDAY.INTL(L17,D17,IF($F$4="پنجشنبه و جمعه","0001100",16),'تعطیلات'!$E$5:$E$64)),""))
A18: =IF(B18="","",ROW()-8) | F18: =IF(M18="","",IFERROR(INDEX(cal!$A$2:$A$52,MATCH(M18,cal!$B$2:$B$52,1))&"/"&TEXT(IF((M18-INDEX(cal!$B$2:$B$52,MATCH(M18,cal!$B$2:$B$52,1)))<186,INT((M18-INDEX(cal!$B$2:$B$52,MATCH(M18,cal!$B$2:$B$52,1)))/31)+1,INT(((M18-INDEX(cal!$B$2:$B$52,MATCH(M18,cal!$B$2:$B$52,1)))-186)/30)+7),"00")&"/"&TEXT(IF((M18-INDEX(cal!$B$2:$B$52,MATCH(M18,cal!$B$2:$B$52,1)))<186,MOD((M18-INDEX(cal!$B$2:$B$52,MATCH(M18,cal!$B$2:$B$52,1))),31)+1,MOD((M18-INDEX(cal!$B$2:$B$52,MATCH(M18,cal!$B$2:$B$52,1)))-186,30)+1),"00"),"")) | G18: =IF(M18="","",M18-TODAY()) | H18: =IF(M18="","",IF(G18<0,"گذشته",IF(G18=0,"امروز!",IF(G18<=7,"نزدیک",IF(G18<=14,"حواست باشه","فرصت هست"))))) | K18: =IF(ISNUMBER(C18),"",SUBSTITUTE(SUBSTITUTE(SUBSTITUTE(SUBSTITUTE(SUBSTITUTE(SUBSTITUTE(SUBSTITUTE(SUBSTITUTE(SUBSTITUTE(SUBSTITUTE(SUBSTITUTE(SUBSTITUTE(TRIM(C18&""),"۰","0"),"۱","1"),"۲","2"),"۳","3"),"۴","4"),"۵","5"),"۶","6"),"۷","7"),"۸","8"),"۹","9"),"-","/"),".","/")) | L18: =IF(C18="","",IF(ISNUMBER(C18),C18,IFERROR(IF(VALUE(LEFT(K18,FIND("/",K18)-1))>1700,DATE(VALUE(LEFT(K18,FIND("/",K18)-1)),VALUE(LEFT(MID(K18,FIND("/",K18)+1,20),FIND("/",MID(K18,FIND("/",K18)+1,20))-1)),VALUE(MID(MID(K18,FIND("/",K18)+1,20),FIND("/",MID(K18,FIND("/",K18)+1,20))+1,20))),INDEX(cal!$B$2:$B$52,MATCH(VALUE(LEFT(K18,FIND("/",K18)-1)),cal!$A$2:$A$52,0))+IF(VALUE(LEFT(MID(K18,FIND("/",K18)+1,20),FIND("/",MID(K18,FIND("/",K18)+1,20))-1))<=6,(VALUE(LEFT(MID(K18,FIND("/",K18)+1,20),FIND("/",MID(K18,FIND("/",K18)+1,20))-1))-1)*31,186+(VALUE(LEFT(MID(K18,FIND("/",K18)+1,20),FIND("/",MID(K18,FIND("/",K18)+1,20))-1))-7)*30)+VALUE(MID(MID(K18,FIND("/",K18)+1,20),FIND("/",MID(K18,FIND("/",K18)+1,20))+1,20))-1),""))) | M18: =IF(OR(L18="",D18=""),"",IFERROR(IF(E18="تقویمی",L18+D18,WORKDAY.INTL(L18,D18,IF($F$4="پنجشنبه و جمعه","0001100",16),'تعطیلات'!$E$5:$E$64)),""))
A19: =IF(B19="","",ROW()-8) | F19: =IF(M19="","",IFERROR(INDEX(cal!$A$2:$A$52,MATCH(M19,cal!$B$2:$B$52,1))&"/"&TEXT(IF((M19-INDEX(cal!$B$2:$B$52,MATCH(M19,cal!$B$2:$B$52,1)))<186,INT((M19-INDEX(cal!$B$2:$B$52,MATCH(M19,cal!$B$2:$B$52,1)))/31)+1,INT(((M19-INDEX(cal!$B$2:$B$52,MATCH(M19,cal!$B$2:$B$52,1)))-186)/30)+7),"00")&"/"&TEXT(IF((M19-INDEX(cal!$B$2:$B$52,MATCH(M19,cal!$B$2:$B$52,1)))<186,MOD((M19-INDEX(cal!$B$2:$B$52,MATCH(M19,cal!$B$2:$B$52,1))),31)+1,MOD((M19-INDEX(cal!$B$2:$B$52,MATCH(M19,cal!$B$2:$B$52,1)))-186,30)+1),"00"),"")) | G19: =IF(M19="","",M19-TODAY()) | H19: =IF(M19="","",IF(G19<0,"گذشته",IF(G19=0,"امروز!",IF(G19<=7,"نزدیک",IF(G19<=14,"حواست باشه","فرصت هست"))))) | K19: =IF(ISNUMBER(C19),"",SUBSTITUTE(SUBSTITUTE(SUBSTITUTE(SUBSTITUTE(SUBSTITUTE(SUBSTITUTE(SUBSTITUTE(SUBSTITUTE(SUBSTITUTE(SUBSTITUTE(SUBSTITUTE(SUBSTITUTE(TRIM(C19&""),"۰","0"),"۱","1"),"۲","2"),"۳","3"),"۴","4"),"۵","5"),"۶","6"),"۷","7"),"۸","8"),"۹","9"),"-","/"),".","/")) | L19: =IF(C19="","",IF(ISNUMBER(C19),C19,IFERROR(IF(VALUE(LEFT(K19,FIND("/",K19)-1))>1700,DATE(VALUE(LEFT(K19,FIND("/",K19)-1)),VALUE(LEFT(MID(K19,FIND("/",K19)+1,20),FIND("/",MID(K19,FIND("/",K19)+1,20))-1)),VALUE(MID(MID(K19,FIND("/",K19)+1,20),FIND("/",MID(K19,FIND("/",K19)+1,20))+1,20))),INDEX(cal!$B$2:$B$52,MATCH(VALUE(LEFT(K19,FIND("/",K19)-1)),cal!$A$2:$A$52,0))+IF(VALUE(LEFT(MID(K19,FIND("/",K19)+1,20),FIND("/",MID(K19,FIND("/",K19)+1,20))-1))<=6,(VALUE(LEFT(MID(K19,FIND("/",K19)+1,20),FIND("/",MID(K19,FIND("/",K19)+1,20))-1))-1)*31,186+(VALUE(LEFT(MID(K19,FIND("/",K19)+1,20),FIND("/",MID(K19,FIND("/",K19)+1,20))-1))-7)*30)+VALUE(MID(MID(K19,FIND("/",K19)+1,20),FIND("/",MID(K19,FIND("/",K19)+1,20))+1,20))-1),""))) | M19: =IF(OR(L19="",D19=""),"",IFERROR(IF(E19="تقویمی",L19+D19,WORKDAY.INTL(L19,D19,IF($F$4="پنجشنبه و جمعه","0001100",16),'تعطیلات'!$E$5:$E$64)),""))
A20: =IF(B20="","",ROW()-8) | F20: =IF(M20="","",IFERROR(INDEX(cal!$A$2:$A$52,MATCH(M20,cal!$B$2:$B$52,1))&"/"&TEXT(IF((M20-INDEX(cal!$B$2:$B$52,MATCH(M20,cal!$B$2:$B$52,1)))<186,INT((M20-INDEX(cal!$B$2:$B$52,MATCH(M20,cal!$B$2:$B$52,1)))/31)+1,INT(((M20-INDEX(cal!$B$2:$B$52,MATCH(M20,cal!$B$2:$B$52,1)))-186)/30)+7),"00")&"/"&TEXT(IF((M20-INDEX(cal!$B$2:$B$52,MATCH(M20,cal!$B$2:$B$52,1)))<186,MOD((M20-INDEX(cal!$B$2:$B$52,MATCH(M20,cal!$B$2:$B$52,1))),31)+1,MOD((M20-INDEX(cal!$B$2:$B$52,MATCH(M20,cal!$B$2:$B$52,1)))-186,30)+1),"00"),"")) | G20: =IF(M20="","",M20-TODAY()) | H20: =IF(M20="","",IF(G20<0,"گذشته",IF(G20=0,"امروز!",IF(G20<=7,"نزدیک",IF(G20<=14,"حواست باشه","فرصت هست"))))) | K20: =IF(ISNUMBER(C20),"",SUBSTITUTE(SUBSTITUTE(SUBSTITUTE(SUBSTITUTE(SUBSTITUTE(SUBSTITUTE(SUBSTITUTE(SUBSTITUTE(SUBSTITUTE(SUBSTITUTE(SUBSTITUTE(SUBSTITUTE(TRIM(C20&""),"۰","0"),"۱","1"),"۲","2"),"۳","3"),"۴","4"),"۵","5"),"۶","6"),"۷","7"),"۸","8"),"۹","9"),"-","/"),".","/")) | L20: =IF(C20="","",IF(ISNUMBER(C20),C20,IFERROR(IF(VALUE(LEFT(K20,FIND("/",K20)-1))>1700,DATE(VALUE(LEFT(K20,FIND("/",K20)-1)),VALUE(LEFT(MID(K20,FIND("/",K20)+1,20),FIND("/",MID(K20,FIND("/",K20)+1,20))-1)),VALUE(MID(MID(K20,FIND("/",K20)+1,20),FIND("/",MID(K20,FIND("/",K20)+1,20))+1,20))),INDEX(cal!$B$2:$B$52,MATCH(VALUE(LEFT(K20,FIND("/",K20)-1)),cal!$A$2:$A$52,0))+IF(VALUE(LEFT(MID(K20,FIND("/",K20)+1,20),FIND("/",MID(K20,FIND("/",K20)+1,20))-1))<=6,(VALUE(LEFT(MID(K20,FIND("/",K20)+1,20),FIND("/",MID(K20,FIND("/",K20)+1,20))-1))-1)*31,186+(VALUE(LEFT(MID(K20,FIND("/",K20)+1,20),FIND("/",MID(K20,FIND("/",K20)+1,20))-1))-7)*30)+VALUE(MID(MID(K20,FIND("/",K20)+1,20),FIND("/",MID(K20,FIND("/",K20)+1,20))+1,20))-1),""))) | M20: =IF(OR(L20="",D20=""),"",IFERROR(IF(E20="تقویمی",L20+D20,WORKDAY.INTL(L20,D20,IF($F$4="پنجشنبه و جمعه","0001100",16),'تعطیلات'!$E$5:$E$64)),""))
A21: =IF(B21="","",ROW()-8) | F21: =IF(M21="","",IFERROR(INDEX(cal!$A$2:$A$52,MATCH(M21,cal!$B$2:$B$52,1))&"/"&TEXT(IF((M21-INDEX(cal!$B$2:$B$52,MATCH(M21,cal!$B$2:$B$52,1)))<186,INT((M21-INDEX(cal!$B$2:$B$52,MATCH(M21,cal!$B$2:$B$52,1)))/31)+1,INT(((M21-INDEX(cal!$B$2:$B$52,MATCH(M21,cal!$B$2:$B$52,1)))-186)/30)+7),"00")&"/"&TEXT(IF((M21-INDEX(cal!$B$2:$B$52,MATCH(M21,cal!$B$2:$B$52,1)))<186,MOD((M21-INDEX(cal!$B$2:$B$52,MATCH(M21,cal!$B$2:$B$52,1))),31)+1,MOD((M21-INDEX(cal!$B$2:$B$52,MATCH(M21,cal!$B$2:$B$52,1)))-186,30)+1),"00"),"")) | G21: =IF(M21="","",M21-TODAY()) | H21: =IF(M21="","",IF(G21<0,"گذشته",IF(G21=0,"امروز!",IF(G21<=7,"نزدیک",IF(G21<=14,"حواست باشه","فرصت هست"))))) | K21: =IF(ISNUMBER(C21),"",SUBSTITUTE(SUBSTITUTE(SUBSTITUTE(SUBSTITUTE(SUBSTITUTE(SUBSTITUTE(SUBSTITUTE(SUBSTITUTE(SUBSTITUTE(SUBSTITUTE(SUBSTITUTE(SUBSTITUTE(TRIM(C21&""),"۰","0"),"۱","1"),"۲","2"),"۳","3"),"۴","4"),"۵","5"),"۶","6"),"۷","7"),"۸","8"),"۹","9"),"-","/"),".","/")) | L21: =IF(C21="","",IF(ISNUMBER(C21),C21,IFERROR(IF(VALUE(LEFT(K21,FIND("/",K21)-1))>1700,DATE(VALUE(LEFT(K21,FIND("/",K21)-1)),VALUE(LEFT(MID(K21,FIND("/",K21)+1,20),FIND("/",MID(K21,FIND("/",K21)+1,20))-1)),VALUE(MID(MID(K21,FIND("/",K21)+1,20),FIND("/",MID(K21,FIND("/",K21)+1,20))+1,20))),INDEX(cal!$B$2:$B$52,MATCH(VALUE(LEFT(K21,FIND("/",K21)-1)),cal!$A$2:$A$52,0))+IF(VALUE(LEFT(MID(K21,FIND("/",K21)+1,20),FIND("/",MID(K21,FIND("/",K21)+1,20))-1))<=6,(VALUE(LEFT(MID(K21,FIND("/",K21)+1,20),FIND("/",MID(K21,FIND("/",K21)+1,20))-1))-1)*31,186+(VALUE(LEFT(MID(K21,FIND("/",K21)+1,20),FIND("/",MID(K21,FIND("/",K21)+1,20))-1))-7)*30)+VALUE(MID(MID(K21,FIND("/",K21)+1,20),FIND("/",MID(K21,FIND("/",K21)+1,20))+1,20))-1),""))) | M21: =IF(OR(L21="",D21=""),"",IFERROR(IF(E21="تقویمی",L21+D21,WORKDAY.INTL(L21,D21,IF($F$4="پنجشنبه و جمعه","0001100",16),'تعطیلات'!$E$5:$E$64)),""))
A22: =IF(B22="","",ROW()-8) | F22: =IF(M22="","",IFERROR(INDEX(cal!$A$2:$A$52,MATCH(M22,cal!$B$2:$B$52,1))&"/"&TEXT(IF((M22-INDEX(cal!$B$2:$B$52,MATCH(M22,cal!$B$2:$B$52,1)))<186,INT((M22-INDEX(cal!$B$2:$B$52,MATCH(M22,cal!$B$2:$B$52,1)))/31)+1,INT(((M22-INDEX(cal!$B$2:$B$52,MATCH(M22,cal!$B$2:$B$52,1)))-186)/30)+7),"00")&"/"&TEXT(IF((M22-INDEX(cal!$B$2:$B$52,MATCH(M22,cal!$B$2:$B$52,1)))<186,MOD((M22-INDEX(cal!$B$2:$B$52,MATCH(M22,cal!$B$2:$B$52,1))),31)+1,MOD((M22-INDEX(cal!$B$2:$B$52,MATCH(M22,cal!$B$2:$B$52,1)))-186,30)+1),"00"),"")) | G22: =IF(M22="","",M22-TODAY()) | H22: =IF(M22="","",IF(G22<0,"گذشته",IF(G22=0,"امروز!",IF(G22<=7,"نزدیک",IF(G22<=14,"حواست باشه","فرصت هست"))))) | K22: =IF(ISNUMBER(C22),"",SUBSTITUTE(SUBSTITUTE(SUBSTITUTE(SUBSTITUTE(SUBSTITUTE(SUBSTITUTE(SUBSTITUTE(SUBSTITUTE(SUBSTITUTE(SUBSTITUTE(SUBSTITUTE(SUBSTITUTE(TRIM(C22&""),"۰","0"),"۱","1"),"۲","2"),"۳","3"),"۴","4"),"۵","5"),"۶","6"),"۷","7"),"۸","8"),"۹","9"),"-","/"),".","/")) | L22: =IF(C22="","",IF(ISNUMBER(C22),C22,IFERROR(IF(VALUE(LEFT(K22,FIND("/",K22)-1))>1700,DATE(VALUE(LEFT(K22,FIND("/",K22)-1)),VALUE(LEFT(MID(K22,FIND("/",K22)+1,20),FIND("/",MID(K22,FIND("/",K22)+1,20))-1)),VALUE(MID(MID(K22,FIND("/",K22)+1,20),FIND("/",MID(K22,FIND("/",K22)+1,20))+1,20))),INDEX(cal!$B$2:$B$52,MATCH(VALUE(LEFT(K22,FIND("/",K22)-1)),cal!$A$2:$A$52,0))+IF(VALUE(LEFT(MID(K22,FIND("/",K22)+1,20),FIND("/",MID(K22,FIND("/",K22)+1,20))-1))<=6,(VALUE(LEFT(MID(K22,FIND("/",K22)+1,20),FIND("/",MID(K22,FIND("/",K22)+1,20))-1))-1)*31,186+(VALUE(LEFT(MID(K22,FIND("/",K22)+1,20),FIND("/",MID(K22,FIND("/",K22)+1,20))-1))-7)*30)+VALUE(MID(MID(K22,FIND("/",K22)+1,20),FIND("/",MID(K22,FIND("/",K22)+1,20))+1,20))-1),""))) | M22: =IF(OR(L22="",D22=""),"",IFERROR(IF(E22="تقویمی",L22+D22,WORKDAY.INTL(L22,D22,IF($F$4="پنجشنبه و جمعه","0001100",16),'تعطیلات'!$E$5:$E$64)),""))
A23: =IF(B23="","",ROW()-8) | F23: =IF(M23="","",IFERROR(INDEX(cal!$A$2:$A$52,MATCH(M23,cal!$B$2:$B$52,1))&"/"&TEXT(IF((M23-INDEX(cal!$B$2:$B$52,MATCH(M23,cal!$B$2:$B$52,1)))<186,INT((M23-INDEX(cal!$B$2:$B$52,MATCH(M23,cal!$B$2:$B$52,1)))/31)+1,INT(((M23-INDEX(cal!$B$2:$B$52,MATCH(M23,cal!$B$2:$B$52,1)))-186)/30)+7),"00")&"/"&TEXT(IF((M23-INDEX(cal!$B$2:$B$52,MATCH(M23,cal!$B$2:$B$52,1)))<186,MOD((M23-INDEX(cal!$B$2:$B$52,MATCH(M23,cal!$B$2:$B$52,1))),31)+1,MOD((M23-INDEX(cal!$B$2:$B$52,MATCH(M23,cal!$B$2:$B$52,1)))-186,30)+1),"00"),"")) | G23: =IF(M23="","",M23-TODAY()) | H23: =IF(M23="","",IF(G23<0,"گذشته",IF(G23=0,"امروز!",IF(G23<=7,"نزدیک",IF(G23<=14,"حواست باشه","فرصت هست"))))) | K23: =IF(ISNUMBER(C23),"",SUBSTITUTE(SUBSTITUTE(SUBSTITUTE(SUBSTITUTE(SUBSTITUTE(SUBSTITUTE(SUBSTITUTE(SUBSTITUTE(SUBSTITUTE(SUBSTITUTE(SUBSTITUTE(SUBSTITUTE(TRIM(C23&""),"۰","0"),"۱","1"),"۲","2"),"۳","3"),"۴","4"),"۵","5"),"۶","6"),"۷","7"),"۸","8"),"۹","9"),"-","/"),".","/")) | L23: =IF(C23="","",IF(ISNUMBER(C23),C23,IFERROR(IF(VALUE(LEFT(K23,FIND("/",K23)-1))>1700,DATE(VALUE(LEFT(K23,FIND("/",K23)-1)),VALUE(LEFT(MID(K23,FIND("/",K23)+1,20),FIND("/",MID(K23,FIND("/",K23)+1,20))-1)),VALUE(MID(MID(K23,FIND("/",K23)+1,20),FIND("/",MID(K23,FIND("/",K23)+1,20))+1,20))),INDEX(cal!$B$2:$B$52,MATCH(VALUE(LEFT(K23,FIND("/",K23)-1)),cal!$A$2:$A$52,0))+IF(VALUE(LEFT(MID(K23,FIND("/",K23)+1,20),FIND("/",MID(K23,FIND("/",K23)+1,20))-1))<=6,(VALUE(LEFT(MID(K23,FIND("/",K23)+1,20),FIND("/",MID(K23,FIND("/",K23)+1,20))-1))-1)*31,186+(VALUE(LEFT(MID(K23,FIND("/",K23)+1,20),FIND("/",MID(K23,FIND("/",K23)+1,20))-1))-7)*30)+VALUE(MID(MID(K23,FIND("/",K23)+1,20),FIND("/",MID(K23,FIND("/",K23)+1,20))+1,20))-1),""))) | M23: =IF(OR(L23="",D23=""),"",IFERROR(IF(E23="تقویمی",L23+D23,WORKDAY.INTL(L23,D23,IF($F$4="پنجشنبه و جمعه","0001100",16),'تعطیلات'!$E$5:$E$64)),""))
A24: =IF(B24="","",ROW()-8) | F24: =IF(M24="","",IFERROR(INDEX(cal!$A$2:$A$52,MATCH(M24,cal!$B$2:$B$52,1))&"/"&TEXT(IF((M24-INDEX(cal!$B$2:$B$52,MATCH(M24,cal!$B$2:$B$52,1)))<186,INT((M24-INDEX(cal!$B$2:$B$52,MATCH(M24,cal!$B$2:$B$52,1)))/31)+1,INT(((M24-INDEX(cal!$B$2:$B$52,MATCH(M24,cal!$B$2:$B$52,1)))-186)/30)+7),"00")&"/"&TEXT(IF((M24-INDEX(cal!$B$2:$B$52,MATCH(M24,cal!$B$2:$B$52,1)))<186,MOD((M24-INDEX(cal!$B$2:$B$52,MATCH(M24,cal!$B$2:$B$52,1))),31)+1,MOD((M24-INDEX(cal!$B$2:$B$52,MATCH(M24,cal!$B$2:$B$52,1)))-186,30)+1),"00"),"")) | G24: =IF(M24="","",M24-TODAY()) | H24: =IF(M24="","",IF(G24<0,"گذشته",IF(G24=0,"امروز!",IF(G24<=7,"نزدیک",IF(G24<=14,"حواست باشه","فرصت هست"))))) | K24: =IF(ISNUMBER(C24),"",SUBSTITUTE(SUBSTITUTE(SUBSTITUTE(SUBSTITUTE(SUBSTITUTE(SUBSTITUTE(SUBSTITUTE(SUBSTITUTE(SUBSTITUTE(SUBSTITUTE(SUBSTITUTE(SUBSTITUTE(TRIM(C24&""),"۰","0"),"۱","1"),"۲","2"),"۳","3"),"۴","4"),"۵","5"),"۶","6"),"۷","7"),"۸","8"),"۹","9"),"-","/"),".","/")) | L24: =IF(C24="","",IF(ISNUMBER(C24),C24,IFERROR(IF(VALUE(LEFT(K24,FIND("/",K24)-1))>1700,DATE(VALUE(LEFT(K24,FIND("/",K24)-1)),VALUE(LEFT(MID(K24,FIND("/",K24)+1,20),FIND("/",MID(K24,FIND("/",K24)+1,20))-1)),VALUE(MID(MID(K24,FIND("/",K24)+1,20),FIND("/",MID(K24,FIND("/",K24)+1,20))+1,20))),INDEX(cal!$B$2:$B$52,MATCH(VALUE(LEFT(K24,FIND("/",K24)-1)),cal!$A$2:$A$52,0))+IF(VALUE(LEFT(MID(K24,FIND("/",K24)+1,20),FIND("/",MID(K24,FIND("/",K24)+1,20))-1))<=6,(VALUE(LEFT(MID(K24,FIND("/",K24)+1,20),FIND("/",MID(K24,FIND("/",K24)+1,20))-1))-1)*31,186+(VALUE(LEFT(MID(K24,FIND("/",K24)+1,20),FIND("/",MID(K24,FIND("/",K24)+1,20))-1))-7)*30)+VALUE(MID(MID(K24,FIND("/",K24)+1,20),FIND("/",MID(K24,FIND("/",K24)+1,20))+1,20))-1),""))) | M24: =IF(OR(L24="",D24=""),"",IFERROR(IF(E24="تقویمی",L24+D24,WORKDAY.INTL(L24,D24,IF($F$4="پنجشنبه و جمعه","0001100",16),'تعطیلات'!$E$5:$E$64)),""))
A25: =IF(B25="","",ROW()-8) | F25: =IF(M25="","",IFERROR(INDEX(cal!$A$2:$A$52,MATCH(M25,cal!$B$2:$B$52,1))&"/"&TEXT(IF((M25-INDEX(cal!$B$2:$B$52,MATCH(M25,cal!$B$2:$B$52,1)))<186,INT((M25-INDEX(cal!$B$2:$B$52,MATCH(M25,cal!$B$2:$B$52,1)))/31)+1,INT(((M25-INDEX(cal!$B$2:$B$52,MATCH(M25,cal!$B$2:$B$52,1)))-186)/30)+7),"00")&"/"&TEXT(IF((M25-INDEX(cal!$B$2:$B$52,MATCH(M25,cal!$B$2:$B$52,1)))<186,MOD((M25-INDEX(cal!$B$2:$B$52,MATCH(M25,cal!$B$2:$B$52,1))),31)+1,MOD((M25-INDEX(cal!$B$2:$B$52,MATCH(M25,cal!$B$2:$B$52,1)))-186,30)+1),"00"),"")) | G25: =IF(M25="","",M25-TODAY()) | H25: =IF(M25="","",IF(G25<0,"گذشته",IF(G25=0,"امروز!",IF(G25<=7,"نزدیک",IF(G25<=14,"حواست باشه","فرصت هست"))))) | K25: =IF(ISNUMBER(C25),"",SUBSTITUTE(SUBSTITUTE(SUBSTITUTE(SUBSTITUTE(SUBSTITUTE(SUBSTITUTE(SUBSTITUTE(SUBSTITUTE(SUBSTITUTE(SUBSTITUTE(SUBSTITUTE(SUBSTITUTE(TRIM(C25&""),"۰","0"),"۱","1"),"۲","2"),"۳","3"),"۴","4"),"۵","5"),"۶","6"),"۷","7"),"۸","8"),"۹","9"),"-","/"),".","/")) | L25: =IF(C25="","",IF(ISNUMBER(C25),C25,IFERROR(IF(VALUE(LEFT(K25,FIND("/",K25)-1))>1700,DATE(VALUE(LEFT(K25,FIND("/",K25)-1)),VALUE(LEFT(MID(K25,FIND("/",K25)+1,20),FIND("/",MID(K25,FIND("/",K25)+1,20))-1)),VALUE(MID(MID(K25,FIND("/",K25)+1,20),FIND("/",MID(K25,FIND("/",K25)+1,20))+1,20))),INDEX(cal!$B$2:$B$52,MATCH(VALUE(LEFT(K25,FIND("/",K25)-1)),cal!$A$2:$A$52,0))+IF(VALUE(LEFT(MID(K25,FIND("/",K25)+1,20),FIND("/",MID(K25,FIND("/",K25)+1,20))-1))<=6,(VALUE(LEFT(MID(K25,FIND("/",K25)+1,20),FIND("/",MID(K25,FIND("/",K25)+1,20))-1))-1)*31,186+(VALUE(LEFT(MID(K25,FIND("/",K25)+1,20),FIND("/",MID(K25,FIND("/",K25)+1,20))-1))-7)*30)+VALUE(MID(MID(K25,FIND("/",K25)+1,20),FIND("/",MID(K25,FIND("/",K25)+1,20))+1,20))-1),""))) | M25: =IF(OR(L25="",D25=""),"",IFERROR(IF(E25="تقویمی",L25+D25,WORKDAY.INTL(L25,D25,IF($F$4="پنجشنبه و جمعه","0001100",16),'تعطیلات'!$E$5:$E$64)),""))
... A158: =IF(B158="","",ROW()-8) | F158: =IF(M158="","",IFERROR(INDEX(cal!$A$2:$A$52,MATCH(M158,cal!$B$2:$B$52,1))&"/"&TEXT(IF((M158-INDEX(cal!$B$2:$B$52,MATCH(M158,cal!$B$2:$B$52,1)))<186,INT((M158-INDEX(cal!$B$2:$B$52,MATCH(M158,cal!$B$2:$B$52,1)))/31)+1,INT(((M158-INDEX(cal!$B$2:$B$52,MATCH(M158,cal!$B$2:$B$52,1)))-186)/30)+7),"00")&"/"&TEXT(IF((M158-INDEX(cal!$B$2:$B$52,MATCH(M158,cal!$B$2:$B$52,1)))<186,MOD((M158-INDEX(cal!$B$2:$B$52,MATCH(M158,cal!$B$2:$B$52,1))),31)+1,MOD((M158-INDEX(cal!$B$2:$B$52,MATCH(M158,cal!$B$2:$B$52,1)))-186,30)+1),"00"),"")) | G158: =IF(M158="","",M158-TODAY()) | H158: =IF(M158="","",IF(G158<0,"گذشته",IF(G158=0,"امروز!",IF(G158<=7,"نزدیک",IF(G158<=14,"حواست باشه","فرصت هست"))))) | K158: =IF(ISNUMBER(C158),"",SUBSTITUTE(SUBSTITUTE(SUBSTITUTE(SUBSTITUTE(SUBSTITUTE(SUBSTITUTE(SUBSTITUTE(SUBSTITUTE(SUBSTITUTE(SUBSTITUTE(SUBSTITUTE(SUBSTITUTE(TRIM(C158&""),"۰","0"),"۱","1"),"۲","2"),"۳","3"),"۴","4"),"۵","5"),"۶","6"),"۷","7"),"۸","8"),"۹","9"),"-","/"),".","/")) | L158: =IF(C158="","",IF(ISNUMBER(C158),C158,IFERROR(IF(VALUE(LEFT(K158,FIND("/",K158)-1))>1700,DATE(VALUE(LEFT(K158,FIND("/",K158)-1)),VALUE(LEFT(MID(K158,FIND("/",K158)+1,20),FIND("/",MID(K158,FIND("/",K158)+1,20))-1)),VALUE(MID(MID(K158,FIND("/",K158)+1,20),FIND("/",MID(K158,FIND("/",K158)+1,20))+1,20))),INDEX(cal!$B$2:$B$52,MATCH(VALUE(LEFT(K158,FIND("/",K158)-1)),cal!$A$2:$A$52,0))+IF(VALUE(LEFT(MID(K158,FIND("/",K158)+1,20),FIND("/",MID(K158,FIND("/",K158)+1,20))-1))<=6,(VALUE(LEFT(MID(K158,FIND("/",K158)+1,20),FIND("/",MID(K158,FIND("/",K158)+1,20))-1))-1)*31,186+(VALUE(LEFT(MID(K158,FIND("/",K158)+1,20),FIND("/",MID(K158,FIND("/",K158)+1,20))-1))-7)*30)+VALUE(MID(MID(K158,FIND("/",K158)+1,20),FIND("/",MID(K158,FIND("/",K158)+1,20))+1,20))-1),""))) | M158: =IF(OR(L158="",D158=""),"",IFERROR(IF(E158="تقویمی",L158+D158,WORKDAY.INTL(L158,D158,IF($F$4="پنجشنبه و جمعه","0001100",16),'تعطیلات'!$E$5:$E$64)),""))

Sheet تعطیلات
A1: تعطیلات رسمی
A2: تاریخ تعطیلات رسمی سال را از تقویم رسمی کشور اینجا بنویسید (مثل 1405/11/22). جمعه‌ها لازم نیست؛ خودکار حساب می‌شوند.
A4: تاریخ (شمسی) | B4: مناسبت
D5: =IF(ISNUMBER(A5),"",SUBSTITUTE(SUBSTITUTE(SUBSTITUTE(SUBSTITUTE(SUBSTITUTE(SUBSTITUTE(SUBSTITUTE(SUBSTITUTE(SUBSTITUTE(SUBSTITUTE(SUBSTITUTE(SUBSTITUTE(TRIM(A5&""),"۰","0"),"۱","1"),"۲","2"),"۳","3"),"۴","4"),"۵","5"),"۶","6"),"۷","7"),"۸","8"),"۹","9"),"-","/"),".","/")) | E5: =IFERROR(--(IF(A5="","",IF(ISNUMBER(A5),A5,IFERROR(IF(VALUE(LEFT(D5,FIND("/",D5)-1))>1700,DATE(VALUE(LEFT(D5,FIND("/",D5)-1)),VALUE(LEFT(MID(D5,FIND("/",D5)+1,20),FIND("/",MID(D5,FIND("/",D5)+1,20))-1)),VALUE(MID(MID(D5,FIND("/",D5)+1,20),FIND("/",MID(D5,FIND("/",D5)+1,20))+1,20))),INDEX(cal!$B$2:$B$52,MATCH(VALUE(LEFT(D5,FIND("/",D5)-1)),cal!$A$2:$A$52,0))+IF(VALUE(LEFT(MID(D5,FIND("/",D5)+1,20),FIND("/",MID(D5,FIND("/",D5)+1,20))-1))<=6,(VALUE(LEFT(MID(D5,FIND("/",D5)+1,20),FIND("/",MID(D5,FIND("/",D5)+1,20))-1))-1)*31,186+(VALUE(LEFT(MID(D5,FIND("/",D5)+1,20),FIND("/",MID(D5,FIND("/",D5)+1,20))-1))-7)*30)+VALUE(MID(MID(D5,FIND("/",D5)+1,20),FIND("/",MID(D5,FIND("/",D5)+1,20))+1,20))-1),"")))),0)
D6: =IF(ISNUMBER(A6),"",SUBSTITUTE(SUBSTITUTE(SUBSTITUTE(SUBSTITUTE(SUBSTITUTE(SUBSTITUTE(SUBSTITUTE(SUBSTITUTE(SUBSTITUTE(SUBSTITUTE(SUBSTITUTE(SUBSTITUTE(TRIM(A6&""),"۰","0"),"۱","1"),"۲","2"),"۳","3"),"۴","4"),"۵","5"),"۶","6"),"۷","7"),"۸","8"),"۹","9"),"-","/"),".","/")) | E6: =IFERROR(--(IF(A6="","",IF(ISNUMBER(A6),A6,IFERROR(IF(VALUE(LEFT(D6,FIND("/",D6)-1))>1700,DATE(VALUE(LEFT(D6,FIND("/",D6)-1)),VALUE(LEFT(MID(D6,FIND("/",D6)+1,20),FIND("/",MID(D6,FIND("/",D6)+1,20))-1)),VALUE(MID(MID(D6,FIND("/",D6)+1,20),FIND("/",MID(D6,FIND("/",D6)+1,20))+1,20))),INDEX(cal!$B$2:$B$52,MATCH(VALUE(LEFT(D6,FIND("/",D6)-1)),cal!$A$2:$A$52,0))+IF(VALUE(LEFT(MID(D6,FIND("/",D6)+1,20),FIND("/",MID(D6,FIND("/",D6)+1,20))-1))<=6,(VALUE(LEFT(MID(D6,FIND("/",D6)+1,20),FIND("/",MID(D6,FIND("/",D6)+1,20))-1))-1)*31,186+(VALUE(LEFT(MID(D6,FIND("/",D6)+1,20),FIND("/",MID(D6,FIND("/",D6)+1,20))-1))-7)*30)+VALUE(MID(MID(D6,FIND("/",D6)+1,20),FIND("/",MID(D6,FIND("/",D6)+1,20))+1,20))-1),"")))),0)
D7: =IF(ISNUMBER(A7),"",SUBSTITUTE(SUBSTITUTE(SUBSTITUTE(SUBSTITUTE(SUBSTITUTE(SUBSTITUTE(SUBSTITUTE(SUBSTITUTE(SUBSTITUTE(SUBSTITUTE(SUBSTITUTE(SUBSTITUTE(TRIM(A7&""),"۰","0"),"۱","1"),"۲","2"),"۳","3"),"۴","4"),"۵","5"),"۶","6"),"۷","7"),"۸","8"),"۹","9"),"-","/"),".","/")) | E7: =IFERROR(--(IF(A7="","",IF(ISNUMBER(A7),A7,IFERROR(IF(VALUE(LEFT(D7,FIND("/",D7)-1))>1700,DATE(VALUE(LEFT(D7,FIND("/",D7)-1)),VALUE(LEFT(MID(D7,FIND("/",D7)+1,20),FIND("/",MID(D7,FIND("/",D7)+1,20))-1)),VALUE(MID(MID(D7,FIND("/",D7)+1,20),FIND("/",MID(D7,FIND("/",D7)+1,20))+1,20))),INDEX(cal!$B$2:$B$52,MATCH(VALUE(LEFT(D7,FIND("/",D7)-1)),cal!$A$2:$A$52,0))+IF(VALUE(LEFT(MID(D7,FIND("/",D7)+1,20),FIND("/",MID(D7,FIND("/",D7)+1,20))-1))<=6,(VALUE(LEFT(MID(D7,FIND("/",D7)+1,20),FIND("/",MID(D7,FIND("/",D7)+1,20))-1))-1)*31,186+(VALUE(LEFT(MID(D7,FIND("/",D7)+1,20),FIND("/",MID(D7,FIND("/",D7)+1,20))-1))-7)*30)+VALUE(MID(MID(D7,FIND("/",D7)+1,20),FIND("/",MID(D7,FIND("/",D7)+1,20))+1,20))-1),"")))),0)
D8: =IF(ISNUMBER(A8),"",SUBSTITUTE(SUBSTITUTE(SUBSTITUTE(SUBSTITUTE(SUBSTITUTE(SUBSTITUTE(SUBSTITUTE(SUBSTITUTE(SUBSTITUTE(SUBSTITUTE(SUBSTITUTE(SUBSTITUTE(TRIM(A8&""),"۰","0"),"۱","1"),"۲","2"),"۳","3"),"۴","4"),"۵","5"),"۶","6"),"۷","7"),"۸","8"),"۹","9"),"-","/"),".","/")) | E8: =IFERROR(--(IF(A8="","",IF(ISNUMBER(A8),A8,IFERROR(IF(VALUE(LEFT(D8,FIND("/",D8)-1))>1700,DATE(VALUE(LEFT(D8,FIND("/",D8)-1)),VALUE(LEFT(MID(D8,FIND("/",D8)+1,20),FIND("/",MID(D8,FIND("/",D8)+1,20))-1)),VALUE(MID(MID(D8,FIND("/",D8)+1,20),FIND("/",MID(D8,FIND("/",D8)+1,20))+1,20))),INDEX(cal!$B$2:$B$52,MATCH(VALUE(LEFT(D8,FIND("/",D8)-1)),cal!$A$2:$A$52,0))+IF(VALUE(LEFT(MID(D8,FIND("/",D8)+1,20),FIND("/",MID(D8,FIND("/",D8)+1,20))-1))<=6,(VALUE(LEFT(MID(D8,FIND("/",D8)+1,20),FIND("/",MID(D8,FIND("/",D8)+1,20))-1))-1)*31,186+(VALUE(LEFT(MID(D8,FIND("/",D8)+1,20),FIND("/",MID(D8,FIND("/",D8)+1,20))-1))-7)*30)+VALUE(MID(MID(D8,FIND("/",D8)+1,20),FIND("/",MID(D8,FIND("/",D8)+1,20))+1,20))-1),"")))),0)
D9: =IF(ISNUMBER(A9),"",SUBSTITUTE(SUBSTITUTE(SUBSTITUTE(SUBSTITUTE(SUBSTITUTE(SUBSTITUTE(SUBSTITUTE(SUBSTITUTE(SUBSTITUTE(SUBSTITUTE(SUBSTITUTE(SUBSTITUTE(TRIM(A9&""),"۰","0"),"۱","1"),"۲","2"),"۳","3"),"۴","4"),"۵","5"),"۶","6"),"۷","7"),"۸","8"),"۹","9"),"-","/"),".","/")) | E9: =IFERROR(--(IF(A9="","",IF(ISNUMBER(A9),A9,IFERROR(IF(VALUE(LEFT(D9,FIND("/",D9)-1))>1700,DATE(VALUE(LEFT(D9,FIND("/",D9)-1)),VALUE(LEFT(MID(D9,FIND("/",D9)+1,20),FIND("/",MID(D9,FIND("/",D9)+1,20))-1)),VALUE(MID(MID(D9,FIND("/",D9)+1,20),FIND("/",MID(D9,FIND("/",D9)+1,20))+1,20))),INDEX(cal!$B$2:$B$52,MATCH(VALUE(LEFT(D9,FIND("/",D9)-1)),cal!$A$2:$A$52,0))+IF(VALUE(LEFT(MID(D9,FIND("/",D9)+1,20),FIND("/",MID(D9,FIND("/",D9)+1,20))-1))<=6,(VALUE(LEFT(MID(D9,FIND("/",D9)+1,20),FIND("/",MID(D9,FIND("/",D9)+1,20))-1))-1)*31,186+(VALUE(LEFT(MID(D9,FIND("/",D9)+1,20),FIND("/",MID(D9,FIND("/",D9)+1,20))-1))-7)*30)+VALUE(MID(MID(D9,FIND("/",D9)+1,20),FIND("/",MID(D9,FIND("/",D9)+1,20))+1,20))-1),"")))),0)
D10: =IF(ISNUMBER(A10),"",SUBSTITUTE(SUBSTITUTE(SUBSTITUTE(SUBSTITUTE(SUBSTITUTE(SUBSTITUTE(SUBSTITUTE(SUBSTITUTE(SUBSTITUTE(SUBSTITUTE(SUBSTITUTE(SUBSTITUTE(TRIM(A10&""),"۰","0"),"۱","1"),"۲","2"),"۳","3"),"۴","4"),"۵","5"),"۶","6"),"۷","7"),"۸","8"),"۹","9"),"-","/"),".","/")) | E10: =IFERROR(--(IF(A10="","",IF(ISNUMBER(A10),A10,IFERROR(IF(VALUE(LEFT(D10,FIND("/",D10)-1))>1700,DATE(VALUE(LEFT(D10,FIND("/",D10)-1)),VALUE(LEFT(MID(D10,FIND("/",D10)+1,20),FIND("/",MID(D10,FIND("/",D10)+1,20))-1)),VALUE(MID(MID(D10,FIND("/",D10)+1,20),FIND("/",MID(D10,FIND("/",D10)+1,20))+1,20))),INDEX(cal!$B$2:$B$52,MATCH(VALUE(LEFT(D10,FIND("/",D10)-1)),cal!$A$2:$A$52,0))+IF(VALUE(LEFT(MID(D10,FIND("/",D10)+1,20),FIND("/",MID(D10,FIND("/",D10)+1,20))-1))<=6,(VALUE(LEFT(MID(D10,FIND("/",D10)+1,20),FIND("/",MID(D10,FIND("/",D10)+1,20))-1))-1)*31,186+(VALUE(LEFT(MID(D10,FIND("/",D10)+1,20),FIND("/",MID(D10,FIND("/",D10)+1,20))-1))-7)*30)+VALUE(MID(MID(D10,FIND("/",D10)+1,20),FIND("/",MID(D10,FIND("/",D10)+1,20))+1,20))-1),"")))),0)
D11: =IF(ISNUMBER(A11),"",SUBSTITUTE(SUBSTITUTE(SUBSTITUTE(SUBSTITUTE(SUBSTITUTE(SUBSTITUTE(SUBSTITUTE(SUBSTITUTE(SUBSTITUTE(SUBSTITUTE(SUBSTITUTE(SUBSTITUTE(TRIM(A11&""),"۰","0"),"۱","1"),"۲","2"),"۳","3"),"۴","4"),"۵","5"),"۶","6"),"۷","7"),"۸","8"),"۹","9"),"-","/"),".","/")) | E11: =IFERROR(--(IF(A11="","",IF(ISNUMBER(A11),A11,IFERROR(IF(VALUE(LEFT(D11,FIND("/",D11)-1))>1700,DATE(VALUE(LEFT(D11,FIND("/",D11)-1)),VALUE(LEFT(MID(D11,FIND("/",D11)+1,20),FIND("/",MID(D11,FIND("/",D11)+1,20))-1)),VALUE(MID(MID(D11,FIND("/",D11)+1,20),FIND("/",MID(D11,FIND("/",D11)+1,20))+1,20))),INDEX(cal!$B$2:$B$52,MATCH(VALUE(LEFT(D11,FIND("/",D11)-1)),cal!$A$2:$A$52,0))+IF(VALUE(LEFT(MID(D11,FIND("/",D11)+1,20),FIND("/",MID(D11,FIND("/",D11)+1,20))-1))<=6,(VALUE(LEFT(MID(D11,FIND("/",D11)+1,20),FIND("/",MID(D11,FIND("/",D11)+1,20))-1))-1)*31,186+(VALUE(LEFT(MID(D11,FIND("/",D11)+1,20),FIND("/",MID(D11,FIND("/",D11)+1,20))-1))-7)*30)+VALUE(MID(MID(D11,FIND("/",D11)+1,20),FIND("/",MID(D11,FIND("/",D11)+1,20))+1,20))-1),"")))),0)
D12: =IF(ISNUMBER(A12),"",SUBSTITUTE(SUBSTITUTE(SUBSTITUTE(SUBSTITUTE(SUBSTITUTE(SUBSTITUTE(SUBSTITUTE(SUBSTITUTE(SUBSTITUTE(SUBSTITUTE(SUBSTITUTE(SUBSTITUTE(TRIM(A12&""),"۰","0"),"۱","1"),"۲","2"),"۳","3"),"۴","4"),"۵","5"),"۶","6"),"۷","7"),"۸","8"),"۹","9"),"-","/"),".","/")) | E12: =IFERROR(--(IF(A12="","",IF(ISNUMBER(A12),A12,IFERROR(IF(VALUE(LEFT(D12,FIND("/",D12)-1))>1700,DATE(VALUE(LEFT(D12,FIND("/",D12)-1)),VALUE(LEFT(MID(D12,FIND("/",D12)+1,20),FIND("/",MID(D12,FIND("/",D12)+1,20))-1)),VALUE(MID(MID(D12,FIND("/",D12)+1,20),FIND("/",MID(D12,FIND("/",D12)+1,20))+1,20))),INDEX(cal!$B$2:$B$52,MATCH(VALUE(LEFT(D12,FIND("/",D12)-1)),cal!$A$2:$A$52,0))+IF(VALUE(LEFT(MID(D12,FIND("/",D12)+1,20),FIND("/",MID(D12,FIND("/",D12)+1,20))-1))<=6,(VALUE(LEFT(MID(D12,FIND("/",D12)+1,20),FIND("/",MID(D12,FIND("/",D12)+1,20))-1))-1)*31,186+(VALUE(LEFT(MID(D12,FIND("/",D12)+1,20),FIND("/",MID(D12,FIND("/",D12)+1,20))-1))-7)*30)+VALUE(MID(MID(D12,FIND("/",D12)+1,20),FIND("/",MID(D12,FIND("/",D12)+1,20))+1,20))-1),"")))),0)
D13: =IF(ISNUMBER(A13),"",SUBSTITUTE(SUBSTITUTE(SUBSTITUTE(SUBSTITUTE(SUBSTITUTE(SUBSTITUTE(SUBSTITUTE(SUBSTITUTE(SUBSTITUTE(SUBSTITUTE(SUBSTITUTE(SUBSTITUTE(TRIM(A13&""),"۰","0"),"۱","1"),"۲","2"),"۳","3"),"۴","4"),"۵","5"),"۶","6"),"۷","7"),"۸","8"),"۹","9"),"-","/"),".","/")) | E13: =IFERROR(--(IF(A13="","",IF(ISNUMBER(A13),A13,IFERROR(IF(VALUE(LEFT(D13,FIND("/",D13)-1))>1700,DATE(VALUE(LEFT(D13,FIND("/",D13)-1)),VALUE(LEFT(MID(D13,FIND("/",D13)+1,20),FIND("/",MID(D13,FIND("/",D13)+1,20))-1)),VALUE(MID(MID(D13,FIND("/",D13)+1,20),FIND("/",MID(D13,FIND("/",D13)+1,20))+1,20))),INDEX(cal!$B$2:$B$52,MATCH(VALUE(LEFT(D13,FIND("/",D13)-1)),cal!$A$2:$A$52,0))+IF(VALUE(LEFT(MID(D13,FIND("/",D13)+1,20),FIND("/",MID(D13,FIND("/",D13)+1,20))-1))<=6,(VALUE(LEFT(MID(D13,FIND("/",D13)+1,20),FIND("/",MID(D13,FIND("/",D13)+1,20))-1))-1)*31,186+(VALUE(LEFT(MID(D13,FIND("/",D13)+1,20),FIND("/",MID(D13,FIND("/",D13)+1,20))-1))-7)*30)+VALUE(MID(MID(D13,FIND("/",D13)+1,20),FIND("/",MID(D13,FIND("/",D13)+1,20))+1,20))-1),"")))),0)
D14: =IF(ISNUMBER(A14),"",SUBSTITUTE(SUBSTITUTE(SUBSTITUTE(SUBSTITUTE(SUBSTITUTE(SUBSTITUTE(SUBSTITUTE(SUBSTITUTE(SUBSTITUTE(SUBSTITUTE(SUBSTITUTE(SUBSTITUTE(TRIM(A14&""),"۰","0"),"۱","1"),"۲","2"),"۳","3"),"۴","4"),"۵","5"),"۶","6"),"۷","7"),"۸","8"),"۹","9"),"-","/"),".","/")) | E14: =IFERROR(--(IF(A14="","",IF(ISNUMBER(A14),A14,IFERROR(IF(VALUE(LEFT(D14,FIND("/",D14)-1))>1700,DATE(VALUE(LEFT(D14,FIND("/",D14)-1)),VALUE(LEFT(MID(D14,FIND("/",D14)+1,20),FIND("/",MID(D14,FIND("/",D14)+1,20))-1)),VALUE(MID(MID(D14,FIND("/",D14)+1,20),FIND("/",MID(D14,FIND("/",D14)+1,20))+1,20))),INDEX(cal!$B$2:$B$52,MATCH(VALUE(LEFT(D14,FIND("/",D14)-1)),cal!$A$2:$A$52,0))+IF(VALUE(LEFT(MID(D14,FIND("/",D14)+1,20),FIND("/",MID(D14,FIND("/",D14)+1,20))-1))<=6,(VALUE(LEFT(MID(D14,FIND("/",D14)+1,20),FIND("/",MID(D14,FIND("/",D14)+1,20))-1))-1)*31,186+(VALUE(LEFT(MID(D14,FIND("/",D14)+1,20),FIND("/",MID(D14,FIND("/",D14)+1,20))-1))-7)*30)+VALUE(MID(MID(D14,FIND("/",D14)+1,20),FIND("/",MID(D14,FIND("/",D14)+1,20))+1,20))-1),"")))),0)
D15: =IF(ISNUMBER(A15),"",SUBSTITUTE(SUBSTITUTE(SUBSTITUTE(SUBSTITUTE(SUBSTITUTE(SUBSTITUTE(SUBSTITUTE(SUBSTITUTE(SUBSTITUTE(SUBSTITUTE(SUBSTITUTE(SUBSTITUTE(TRIM(A15&""),"۰","0"),"۱","1"),"۲","2"),"۳","3"),"۴","4"),"۵","5"),"۶","6"),"۷","7"),"۸","8"),"۹","9"),"-","/"),".","/")) | E15: =IFERROR(--(IF(A15="","",IF(ISNUMBER(A15),A15,IFERROR(IF(VALUE(LEFT(D15,FIND("/",D15)-1))>1700,DATE(VALUE(LEFT(D15,FIND("/",D15)-1)),VALUE(LEFT(MID(D15,FIND("/",D15)+1,20),FIND("/",MID(D15,FIND("/",D15)+1,20))-1)),VALUE(MID(MID(D15,FIND("/",D15)+1,20),FIND("/",MID(D15,FIND("/",D15)+1,20))+1,20))),INDEX(cal!$B$2:$B$52,MATCH(VALUE(LEFT(D15,FIND("/",D15)-1)),cal!$A$2:$A$52,0))+IF(VALUE(LEFT(MID(D15,FIND("/",D15)+1,20),FIND("/",MID(D15,FIND("/",D15)+1,20))-1))<=6,(VALUE(LEFT(MID(D15,FIND("/",D15)+1,20),FIND("/",MID(D15,FIND("/",D15)+1,20))-1))-1)*31,186+(VALUE(LEFT(MID(D15,FIND("/",D15)+1,20),FIND("/",MID(D15,FIND("/",D15)+1,20))-1))-7)*30)+VALUE(MID(MID(D15,FIND("/",D15)+1,20),FIND("/",MID(D15,FIND("/",D15)+1,20))+1,20))-1),"")))),0)
D16: =IF(ISNUMBER(A16),"",SUBSTITUTE(SUBSTITUTE(SUBSTITUTE(SUBSTITUTE(SUBSTITUTE(SUBSTITUTE(SUBSTITUTE(SUBSTITUTE(SUBSTITUTE(SUBSTITUTE(SUBSTITUTE(SUBSTITUTE(TRIM(A16&""),"۰","0"),"۱","1"),"۲","2"),"۳","3"),"۴","4"),"۵","5"),"۶","6"),"۷","7"),"۸","8"),"۹","9"),"-","/"),".","/")) | E16: =IFERROR(--(IF(A16="","",IF(ISNUMBER(A16),A16,IFERROR(IF(VALUE(LEFT(D16,FIND("/",D16)-1))>1700,DATE(VALUE(LEFT(D16,FIND("/",D16)-1)),VALUE(LEFT(MID(D16,FIND("/",D16)+1,20),FIND("/",MID(D16,FIND("/",D16)+1,20))-1)),VALUE(MID(MID(D16,FIND("/",D16)+1,20),FIND("/",MID(D16,FIND("/",D16)+1,20))+1,20))),INDEX(cal!$B$2:$B$52,MATCH(VALUE(LEFT(D16,FIND("/",D16)-1)),cal!$A$2:$A$52,0))+IF(VALUE(LEFT(MID(D16,FIND("/",D16)+1,20),FIND("/",MID(D16,FIND("/",D16)+1,20))-1))<=6,(VALUE(LEFT(MID(D16,FIND("/",D16)+1,20),FIND("/",MID(D16,FIND("/",D16)+1,20))-1))-1)*31,186+(VALUE(LEFT(MID(D16,FIND("/",D16)+1,20),FIND("/",MID(D16,FIND("/",D16)+1,20))-1))-7)*30)+VALUE(MID(MID(D16,FIND("/",D16)+1,20),FIND("/",MID(D16,FIND("/",D16)+1,20))+1,20))-1),"")))),0)
... D64: =IF(ISNUMBER(A64),"",SUBSTITUTE(SUBSTITUTE(SUBSTITUTE(SUBSTITUTE(SUBSTITUTE(SUBSTITUTE(SUBSTITUTE(SUBSTITUTE(SUBSTITUTE(SUBSTITUTE(SUBSTITUTE(SUBSTITUTE(TRIM(A64&""),"۰","0"),"۱","1"),"۲","2"),"۳","3"),"۴","4"),"۵","5"),"۶","6"),"۷","7"),"۸","8"),"۹","9"),"-","/"),".","/")) | E64: =IFERROR(--(IF(A64="","",IF(ISNUMBER(A64),A64,IFERROR(IF(VALUE(LEFT(D64,FIND("/",D64)-1))>1700,DATE(VALUE(LEFT(D64,FIND("/",D64)-1)),VALUE(LEFT(MID(D64,FIND("/",D64)+1,20),FIND("/",MID(D64,FIND("/",D64)+1,20))-1)),VALUE(MID(MID(D64,FIND("/",D64)+1,20),FIND("/",MID(D64,FIND("/",D64)+1,20))+1,20))),INDEX(cal!$B$2:$B$52,MATCH(VALUE(LEFT(D64,FIND("/",D64)-1)),cal!$A$2:$A$52,0))+IF(VALUE(LEFT(MID(D64,FIND("/",D64)+1,20),FIND("/",MID(D64,FIND("/",D64)+1,20))-1))<=6,(VALUE(LEFT(MID(D64,FIND("/",D64)+1,20),FIND("/",MID(D64,FIND("/",D64)+1,20))-1))-1)*31,186+(VALUE(LEFT(MID(D64,FIND("/",D64)+1,20),FIND("/",MID(D64,FIND("/",D64)+1,20))-1))-7)*30)+VALUE(MID(MID(D64,FIND("/",D64)+1,20),FIND("/",MID(D64,FIND("/",D64)+1,20))+1,20))-1),"")))),0)

Sheet راهنما
A1: راهنمای ردیاب مهلت‌ها
A3: ۱) هر مهلت یک ردیف در برگه‌ی «مهلت‌ها»: موضوع، تاریخ نامه (شمسی، مثل 1405/08/06؛ اعداد فارسی هم قبول است) و تعداد روز. نمونه‌ها را پاک کنید.
A4: ۲) «نوع روز»: اگر قرارداد یا نامه گفته «روز کاری» کاری را انتخاب کنید؛ اگر گفته «روز»، تقویمی.
A5: ۳) روز کاری با تعطیلی هفتگی بالای برگه (فقط جمعه، یا پنجشنبه و جمعه) و تعطیلات رسمیِ برگه‌ی «تعطیلات» حساب می‌شود.
A6: ۴) روز آخر، روزهای مانده و وضعیت خودکارند. قرمز: ۷ روز یا کمتر مانده یا گذشته. زرد: تا ۱۴ روز. سبز: فرصت هست.
A7: ۵) کارت‌های بالا تعداد مهلت‌های گذشته و نزدیک و نزدیک‌ترین مهلت را نشان می‌دهند.
A9: روز آخر با تابع WORKDAY.INTL اکسل حساب می‌شود؛ کد 16 یعنی فقط جمعه تعطیل (Microsoft Support).
A10: اینکه شمارش از روز بعد از نامه شروع شود یا از روز ابلاغ، با متن قرارداد است؛ این فایل از روز بعد از تاریخ نامه می‌شمارد.
A11: قالب‌های رایگان گانت‌چارت، منحنی S، گزارش هفتگی و دفتر تأخیرات هم در axislabs.ir هست.
A13: AXISLABS · اکسیس لبز — از داده تا تصمیم · axislabs.ir · t.me/iraxislabs

Sheet cal
A1: سال شمسی | B1: اول فروردین (میلادی)
A2: 1390 | B2: 40623
A3: 1391 | B3: 40988
A4: 1392 | B4: 41354
A5: 1393 | B5: 41719
A6: 1394 | B6: 42084
A7: 1395 | B7: 42449
A8: 1396 | B8: 42815
A9: 1397 | B9: 43180
A10: 1398 | B10: 43545
A11: 1399 | B11: 43910
A12: 1400 | B12: 44276
A13: 1401 | B13: 44641
... A52: 1440 | B52: 58885
