Workbook

Sheet گزارش
A1: گزارش هفتگی پیشرفت پروژه
A2: ='ورودی‌ها'!C5&" · هفته‌ی "&'ورودی‌ها'!C6&" · "&IF('ورودی‌ها'!I7="",'ورودی‌ها'!C7,IF('ورودی‌ها'!I7="","",IFERROR(INDEX(cal!$A$2:$A$52,MATCH('ورودی‌ها'!I7,cal!$B$2:$B$52,1))&"/"&TEXT(IF(('ورودی‌ها'!I7-INDEX(cal!$B$2:$B$52,MATCH('ورودی‌ها'!I7,cal!$B$2:$B$52,1)))<186,INT(('ورودی‌ها'!I7-INDEX(cal!$B$2:$B$52,MATCH('ورودی‌ها'!I7,cal!$B$2:$B$52,1)))/31)+1,INT((('ورودی‌ها'!I7-INDEX(cal!$B$2:$B$52,MATCH('ورودی‌ها'!I7,cal!$B$2:$B$52,1)))-186)/30)+7),"00")&"/"&TEXT(IF(('ورودی‌ها'!I7-INDEX(cal!$B$2:$B$52,MATCH('ورودی‌ها'!I7,cal!$B$2:$B$52,1)))<186,MOD(('ورودی‌ها'!I7-INDEX(cal!$B$2:$B$52,MATCH('ورودی‌ها'!I7,cal!$B$2:$B$52,1))),31)+1,MOD(('ورودی‌ها'!I7-INDEX(cal!$B$2:$B$52,MATCH('ورودی‌ها'!I7,cal!$B$2:$B$52,1)))-186,30)+1),"00"),"")))&IF('ورودی‌ها'!C8="",""," · "&'ورودی‌ها'!C8)
A4: پیشرفت واقعی | C4: پیشرفت برنامه‌ای | E4: انحراف | G4: شاخص SPI
A5: ='ورودی‌ها'!$C$11 | C5: ='ورودی‌ها'!$C$12 | E5: =IF('ورودی‌ها'!$C$12="","",'ورودی‌ها'!$C$11-'ورودی‌ها'!$C$12) | G5: =IF(OR('ورودی‌ها'!$C$12="",'ورودی‌ها'!$C$12=0),"",'ورودی‌ها'!$C$11/'ورودی‌ها'!$C$12)
A8: =IF(IF(OR('ورودی‌ها'!$C$12="",'ورودی‌ها'!$C$12=0),"",'ورودی‌ها'!$C$11/'ورودی‌ها'!$C$12)="","",IF(IF(OR('ورودی‌ها'!$C$12="",'ورودی‌ها'!$C$12=0),"",'ورودی‌ها'!$C$11/'ورودی‌ها'!$C$12)>=0.95,"وضعیت: در برنامه",IF(IF(OR('ورودی‌ها'!$C$12="",'ورودی‌ها'!$C$12=0),"",'ورودی‌ها'!$C$11/'ورودی‌ها'!$C$12)>=0.85,"وضعیت: هشدار","وضعیت: عقب‌افتاده")))
A10: واقعی | B10: =IF('ورودی‌ها'!$C$11="","",REPT("█",ROUND(MIN(1,'ورودی‌ها'!$C$11)*40,0))) | H10: ='ورودی‌ها'!$C$11
A11: برنامه | B11: =IF('ورودی‌ها'!$C$12="","",REPT("█",ROUND(MIN(1,'ورودی‌ها'!$C$12)*40,0))) | H11: ='ورودی‌ها'!$C$12
A12: =IF(OR('ورودی‌ها'!$C$13="",'ورودی‌ها'!$C$14=""),"","پیشرفت همین هفته: "&TEXT('ورودی‌ها'!$C$11-'ورودی‌ها'!$C$13,"+0%;-0%")&" · طبق برنامه باید: "&TEXT('ورودی‌ها'!$C$12-'ورودی‌ها'!$C$14,"+0%;-0%"))
A14: ۳ فعالیت با بیشترین تأخیر
A15: فعالیت | D15: تأخیر | E15: پایان پیش‌بینی | F15: علت
A16: =IFERROR(INDEX('ورودی‌ها'!$A$17:$A$26,MATCH(LARGE('ورودی‌ها'!$L$17:$L$26,1),'ورودی‌ها'!$L$17:$L$26,0)),IF(0=0,"— بدون فعالیت عقب‌افتاده —","")) | D16: =IFERROR(INDEX('ورودی‌ها'!$D$17:$D$26,MATCH(LARGE('ورودی‌ها'!$L$17:$L$26,1),'ورودی‌ها'!$L$17:$L$26,0))&" روز","") | E16: =IFERROR(INDEX('ورودی‌ها'!$C$17:$C$26,MATCH(LARGE('ورودی‌ها'!$L$17:$L$26,1),'ورودی‌ها'!$L$17:$L$26,0)),"") | F16: =IFERROR(INDEX('ورودی‌ها'!$E$17:$E$26,MATCH(LARGE('ورودی‌ها'!$L$17:$L$26,1),'ورودی‌ها'!$L$17:$L$26,0)),"")
A17: =IFERROR(INDEX('ورودی‌ها'!$A$17:$A$26,MATCH(LARGE('ورودی‌ها'!$L$17:$L$26,2),'ورودی‌ها'!$L$17:$L$26,0)),IF(1=0,"— بدون فعالیت عقب‌افتاده —","")) | D17: =IFERROR(INDEX('ورودی‌ها'!$D$17:$D$26,MATCH(LARGE('ورودی‌ها'!$L$17:$L$26,2),'ورودی‌ها'!$L$17:$L$26,0))&" روز","") | E17: =IFERROR(INDEX('ورودی‌ها'!$C$17:$C$26,MATCH(LARGE('ورودی‌ها'!$L$17:$L$26,2),'ورودی‌ها'!$L$17:$L$26,0)),"") | F17: =IFERROR(INDEX('ورودی‌ها'!$E$17:$E$26,MATCH(LARGE('ورودی‌ها'!$L$17:$L$26,2),'ورودی‌ها'!$L$17:$L$26,0)),"")
A18: =IFERROR(INDEX('ورودی‌ها'!$A$17:$A$26,MATCH(LARGE('ورودی‌ها'!$L$17:$L$26,3),'ورودی‌ها'!$L$17:$L$26,0)),IF(2=0,"— بدون فعالیت عقب‌افتاده —","")) | D18: =IFERROR(INDEX('ورودی‌ها'!$D$17:$D$26,MATCH(LARGE('ورودی‌ها'!$L$17:$L$26,3),'ورودی‌ها'!$L$17:$L$26,0))&" روز","") | E18: =IFERROR(INDEX('ورودی‌ها'!$C$17:$C$26,MATCH(LARGE('ورودی‌ها'!$L$17:$L$26,3),'ورودی‌ها'!$L$17:$L$26,0)),"") | F18: =IFERROR(INDEX('ورودی‌ها'!$E$17:$E$26,MATCH(LARGE('ورودی‌ها'!$L$17:$L$26,3),'ورودی‌ها'!$L$17:$L$26,0)),"")
A20: برنامه‌ی هفته‌ی بعد
A21: =IF('ورودی‌ها'!A30="","",'ورودی‌ها'!A30)
A22: =IF('ورودی‌ها'!A31="","",'ورودی‌ها'!A31)
A23: =IF('ورودی‌ها'!A32="","",'ورودی‌ها'!A32)
A24: =IF('ورودی‌ها'!A33="","",'ورودی‌ها'!A33)
A25: =IF('ورودی‌ها'!A34="","",'ورودی‌ها'!A34)
A27: تصمیم‌های لازم از مدیریت
A28: موضوع | E28: از چه کسی | G28: تا چه تاریخی
A29: =IF('ورودی‌ها'!A38="","",'ورودی‌ها'!A38) | E29: =IF('ورودی‌ها'!C38="","",'ورودی‌ها'!C38) | G29: =IF('ورودی‌ها'!E38="","",'ورودی‌ها'!E38)
A30: =IF('ورودی‌ها'!A39="","",'ورودی‌ها'!A39) | E30: =IF('ورودی‌ها'!C39="","",'ورودی‌ها'!C39) | G30: =IF('ورودی‌ها'!E39="","",'ورودی‌ها'!E39)
A31: =IF('ورودی‌ها'!A40="","",'ورودی‌ها'!A40) | E31: =IF('ورودی‌ها'!C40="","",'ورودی‌ها'!C40) | G31: =IF('ورودی‌ها'!E40="","",'ورودی‌ها'!E40)
A33: AXISLABS · اکسیس لبز — از داده تا تصمیم · axislabs.ir · t.me/iraxislabs

Sheet ورودی‌ها
A1: ورودی‌های گزارش هفتگی
A2: فقط سلول‌های آبیِ زمینه‌زرد را پر کنید؛ برگه‌ی «گزارش» خودکار ساخته می‌شود. تاریخ‌ها شمسی: 1405/07/20
A4: ۱. مشخصات
A5: نام پروژه | C5: مجتمع مسکونی نمونه
A6: شماره‌ی هفته | C6: 14
A7: تاریخ گزارش | C7: 1405/07/20 | H7: =IF(ISNUMBER(C7),"",SUBSTITUTE(SUBSTITUTE(SUBSTITUTE(SUBSTITUTE(SUBSTITUTE(SUBSTITUTE(SUBSTITUTE(SUBSTITUTE(SUBSTITUTE(SUBSTITUTE(SUBSTITUTE(SUBSTITUTE(TRIM(C7&""),"۰","0"),"۱","1"),"۲","2"),"۳","3"),"۴","4"),"۵","5"),"۶","6"),"۷","7"),"۸","8"),"۹","9"),"-","/"),".","/")) | I7: =IF(C7="","",IF(ISNUMBER(C7),C7,IFERROR(IF(VALUE(LEFT(H7,FIND("/",H7)-1))>1700,DATE(VALUE(LEFT(H7,FIND("/",H7)-1)),VALUE(LEFT(MID(H7,FIND("/",H7)+1,20),FIND("/",MID(H7,FIND("/",H7)+1,20))-1)),VALUE(MID(MID(H7,FIND("/",H7)+1,20),FIND("/",MID(H7,FIND("/",H7)+1,20))+1,20))),INDEX(cal!$B$2:$B$52,MATCH(VALUE(LEFT(H7,FIND("/",H7)-1)),cal!$A$2:$A$52,0))+IF(VALUE(LEFT(MID(H7,FIND("/",H7)+1,20),FIND("/",MID(H7,FIND("/",H7)+1,20))-1))<=6,(VALUE(LEFT(MID(H7,FIND("/",H7)+1,20),FIND("/",MID(H7,FIND("/",H7)+1,20))-1))-1)*31,186+(VALUE(LEFT(MID(H7,FIND("/",H7)+1,20),FIND("/",MID(H7,FIND("/",H7)+1,20))-1))-7)*30)+VALUE(MID(MID(H7,FIND("/",H7)+1,20),FIND("/",MID(H7,FIND("/",H7)+1,20))+1,20))-1),"")))
A8: تهیه‌کننده | C8: واحد کنترل پروژه
A10: ۲. پیشرفت تجمعی (از منحنی S یا برنامه‌ی زمان‌بندی)
A11: واقعی، این هفته | C11: 0.43
A12: برنامه‌ای، این هفته | C12: 0.54
A13: واقعی، هفته‌ی قبل | C13: 0.39
A14: برنامه‌ای، هفته‌ی قبل | C14: 0.49
A15: ۳. فعالیت‌های عقب‌افتاده (هر چند تا؛ گزارش ۳ تای بیشترین تأخیر را نشان می‌دهد)
A16: فعالیت | B16: پایان طبق برنامه | C16: پایان پیش‌بینی‌شده | D16: تأخیر (روز) | E16: علت
A17: اسکلت فلزی طبقه ۳ | B17: 1405/07/12 | C17: 1405/07/24 | D17: =IF(OR(I17="",K17=""),"",K17-I17) | E17: تأخیر در تحویل تیرآهن | H17: =IF(ISNUMBER(B17),"",SUBSTITUTE(SUBSTITUTE(SUBSTITUTE(SUBSTITUTE(SUBSTITUTE(SUBSTITUTE(SUBSTITUTE(SUBSTITUTE(SUBSTITUTE(SUBSTITUTE(SUBSTITUTE(SUBSTITUTE(TRIM(B17&""),"۰","0"),"۱","1"),"۲","2"),"۳","3"),"۴","4"),"۵","5"),"۶","6"),"۷","7"),"۸","8"),"۹","9"),"-","/"),".","/")) | I17: =IF(B17="","",IF(ISNUMBER(B17),B17,IFERROR(IF(VALUE(LEFT(H17,FIND("/",H17)-1))>1700,DATE(VALUE(LEFT(H17,FIND("/",H17)-1)),VALUE(LEFT(MID(H17,FIND("/",H17)+1,20),FIND("/",MID(H17,FIND("/",H17)+1,20))-1)),VALUE(MID(MID(H17,FIND("/",H17)+1,20),FIND("/",MID(H17,FIND("/",H17)+1,20))+1,20))),INDEX(cal!$B$2:$B$52,MATCH(VALUE(LEFT(H17,FIND("/",H17)-1)),cal!$A$2:$A$52,0))+IF(VALUE(LEFT(MID(H17,FIND("/",H17)+1,20),FIND("/",MID(H17,FIND("/",H17)+1,20))-1))<=6,(VALUE(LEFT(MID(H17,FIND("/",H17)+1,20),FIND("/",MID(H17,FIND("/",H17)+1,20))-1))-1)*31,186+(VALUE(LEFT(MID(H17,FIND("/",H17)+1,20),FIND("/",MID(H17,FIND("/",H17)+1,20))-1))-7)*30)+VALUE(MID(MID(H17,FIND("/",H17)+1,20),FIND("/",MID(H17,FIND("/",H17)+1,20))+1,20))-1),""))) | J17: =IF(ISNUMBER(C17),"",SUBSTITUTE(SUBSTITUTE(SUBSTITUTE(SUBSTITUTE(SUBSTITUTE(SUBSTITUTE(SUBSTITUTE(SUBSTITUTE(SUBSTITUTE(SUBSTITUTE(SUBSTITUTE(SUBSTITUTE(TRIM(C17&""),"۰","0"),"۱","1"),"۲","2"),"۳","3"),"۴","4"),"۵","5"),"۶","6"),"۷","7"),"۸","8"),"۹","9"),"-","/"),".","/")) | K17: =IF(C17="","",IF(ISNUMBER(C17),C17,IFERROR(IF(VALUE(LEFT(J17,FIND("/",J17)-1))>1700,DATE(VALUE(LEFT(J17,FIND("/",J17)-1)),VALUE(LEFT(MID(J17,FIND("/",J17)+1,20),FIND("/",MID(J17,FIND("/",J17)+1,20))-1)),VALUE(MID(MID(J17,FIND("/",J17)+1,20),FIND("/",MID(J17,FIND("/",J17)+1,20))+1,20))),INDEX(cal!$B$2:$B$52,MATCH(VALUE(LEFT(J17,FIND("/",J17)-1)),cal!$A$2:$A$52,0))+IF(VALUE(LEFT(MID(J17,FIND("/",J17)+1,20),FIND("/",MID(J17,FIND("/",J17)+1,20))-1))<=6,(VALUE(LEFT(MID(J17,FIND("/",J17)+1,20),FIND("/",MID(J17,FIND("/",J17)+1,20))-1))-1)*31,186+(VALUE(LEFT(MID(J17,FIND("/",J17)+1,20),FIND("/",MID(J17,FIND("/",J17)+1,20))-1))-7)*30)+VALUE(MID(MID(J17,FIND("/",J17)+1,20),FIND("/",MID(J17,FIND("/",J17)+1,20))+1,20))-1),""))) | L17: =IF(AND(ISNUMBER(D17),D17>0),D17+(100-ROW())/1000,"")
A18: لوله‌کشی موتورخانه | B18: 1405/07/18 | C18: 1405/07/26 | D18: =IF(OR(I18="",K18=""),"",K18-I18) | E18: کمبود نیرو | H18: =IF(ISNUMBER(B18),"",SUBSTITUTE(SUBSTITUTE(SUBSTITUTE(SUBSTITUTE(SUBSTITUTE(SUBSTITUTE(SUBSTITUTE(SUBSTITUTE(SUBSTITUTE(SUBSTITUTE(SUBSTITUTE(SUBSTITUTE(TRIM(B18&""),"۰","0"),"۱","1"),"۲","2"),"۳","3"),"۴","4"),"۵","5"),"۶","6"),"۷","7"),"۸","8"),"۹","9"),"-","/"),".","/")) | I18: =IF(B18="","",IF(ISNUMBER(B18),B18,IFERROR(IF(VALUE(LEFT(H18,FIND("/",H18)-1))>1700,DATE(VALUE(LEFT(H18,FIND("/",H18)-1)),VALUE(LEFT(MID(H18,FIND("/",H18)+1,20),FIND("/",MID(H18,FIND("/",H18)+1,20))-1)),VALUE(MID(MID(H18,FIND("/",H18)+1,20),FIND("/",MID(H18,FIND("/",H18)+1,20))+1,20))),INDEX(cal!$B$2:$B$52,MATCH(VALUE(LEFT(H18,FIND("/",H18)-1)),cal!$A$2:$A$52,0))+IF(VALUE(LEFT(MID(H18,FIND("/",H18)+1,20),FIND("/",MID(H18,FIND("/",H18)+1,20))-1))<=6,(VALUE(LEFT(MID(H18,FIND("/",H18)+1,20),FIND("/",MID(H18,FIND("/",H18)+1,20))-1))-1)*31,186+(VALUE(LEFT(MID(H18,FIND("/",H18)+1,20),FIND("/",MID(H18,FIND("/",H18)+1,20))-1))-7)*30)+VALUE(MID(MID(H18,FIND("/",H18)+1,20),FIND("/",MID(H18,FIND("/",H18)+1,20))+1,20))-1),""))) | J18: =IF(ISNUMBER(C18),"",SUBSTITUTE(SUBSTITUTE(SUBSTITUTE(SUBSTITUTE(SUBSTITUTE(SUBSTITUTE(SUBSTITUTE(SUBSTITUTE(SUBSTITUTE(SUBSTITUTE(SUBSTITUTE(SUBSTITUTE(TRIM(C18&""),"۰","0"),"۱","1"),"۲","2"),"۳","3"),"۴","4"),"۵","5"),"۶","6"),"۷","7"),"۸","8"),"۹","9"),"-","/"),".","/")) | K18: =IF(C18="","",IF(ISNUMBER(C18),C18,IFERROR(IF(VALUE(LEFT(J18,FIND("/",J18)-1))>1700,DATE(VALUE(LEFT(J18,FIND("/",J18)-1)),VALUE(LEFT(MID(J18,FIND("/",J18)+1,20),FIND("/",MID(J18,FIND("/",J18)+1,20))-1)),VALUE(MID(MID(J18,FIND("/",J18)+1,20),FIND("/",MID(J18,FIND("/",J18)+1,20))+1,20))),INDEX(cal!$B$2:$B$52,MATCH(VALUE(LEFT(J18,FIND("/",J18)-1)),cal!$A$2:$A$52,0))+IF(VALUE(LEFT(MID(J18,FIND("/",J18)+1,20),FIND("/",MID(J18,FIND("/",J18)+1,20))-1))<=6,(VALUE(LEFT(MID(J18,FIND("/",J18)+1,20),FIND("/",MID(J18,FIND("/",J18)+1,20))-1))-1)*31,186+(VALUE(LEFT(MID(J18,FIND("/",J18)+1,20),FIND("/",MID(J18,FIND("/",J18)+1,20))-1))-7)*30)+VALUE(MID(MID(J18,FIND("/",J18)+1,20),FIND("/",MID(J18,FIND("/",J18)+1,20))+1,20))-1),""))) | L18: =IF(AND(ISNUMBER(D18),D18>0),D18+(100-ROW())/1000,"")
A19: نمای شمالی | B19: 1405/07/25 | C19: 1405/07/30 | D19: =IF(OR(I19="",K19=""),"",K19-I19) | E19: آب‌وهوا | H19: =IF(ISNUMBER(B19),"",SUBSTITUTE(SUBSTITUTE(SUBSTITUTE(SUBSTITUTE(SUBSTITUTE(SUBSTITUTE(SUBSTITUTE(SUBSTITUTE(SUBSTITUTE(SUBSTITUTE(SUBSTITUTE(SUBSTITUTE(TRIM(B19&""),"۰","0"),"۱","1"),"۲","2"),"۳","3"),"۴","4"),"۵","5"),"۶","6"),"۷","7"),"۸","8"),"۹","9"),"-","/"),".","/")) | I19: =IF(B19="","",IF(ISNUMBER(B19),B19,IFERROR(IF(VALUE(LEFT(H19,FIND("/",H19)-1))>1700,DATE(VALUE(LEFT(H19,FIND("/",H19)-1)),VALUE(LEFT(MID(H19,FIND("/",H19)+1,20),FIND("/",MID(H19,FIND("/",H19)+1,20))-1)),VALUE(MID(MID(H19,FIND("/",H19)+1,20),FIND("/",MID(H19,FIND("/",H19)+1,20))+1,20))),INDEX(cal!$B$2:$B$52,MATCH(VALUE(LEFT(H19,FIND("/",H19)-1)),cal!$A$2:$A$52,0))+IF(VALUE(LEFT(MID(H19,FIND("/",H19)+1,20),FIND("/",MID(H19,FIND("/",H19)+1,20))-1))<=6,(VALUE(LEFT(MID(H19,FIND("/",H19)+1,20),FIND("/",MID(H19,FIND("/",H19)+1,20))-1))-1)*31,186+(VALUE(LEFT(MID(H19,FIND("/",H19)+1,20),FIND("/",MID(H19,FIND("/",H19)+1,20))-1))-7)*30)+VALUE(MID(MID(H19,FIND("/",H19)+1,20),FIND("/",MID(H19,FIND("/",H19)+1,20))+1,20))-1),""))) | J19: =IF(ISNUMBER(C19),"",SUBSTITUTE(SUBSTITUTE(SUBSTITUTE(SUBSTITUTE(SUBSTITUTE(SUBSTITUTE(SUBSTITUTE(SUBSTITUTE(SUBSTITUTE(SUBSTITUTE(SUBSTITUTE(SUBSTITUTE(TRIM(C19&""),"۰","0"),"۱","1"),"۲","2"),"۳","3"),"۴","4"),"۵","5"),"۶","6"),"۷","7"),"۸","8"),"۹","9"),"-","/"),".","/")) | K19: =IF(C19="","",IF(ISNUMBER(C19),C19,IFERROR(IF(VALUE(LEFT(J19,FIND("/",J19)-1))>1700,DATE(VALUE(LEFT(J19,FIND("/",J19)-1)),VALUE(LEFT(MID(J19,FIND("/",J19)+1,20),FIND("/",MID(J19,FIND("/",J19)+1,20))-1)),VALUE(MID(MID(J19,FIND("/",J19)+1,20),FIND("/",MID(J19,FIND("/",J19)+1,20))+1,20))),INDEX(cal!$B$2:$B$52,MATCH(VALUE(LEFT(J19,FIND("/",J19)-1)),cal!$A$2:$A$52,0))+IF(VALUE(LEFT(MID(J19,FIND("/",J19)+1,20),FIND("/",MID(J19,FIND("/",J19)+1,20))-1))<=6,(VALUE(LEFT(MID(J19,FIND("/",J19)+1,20),FIND("/",MID(J19,FIND("/",J19)+1,20))-1))-1)*31,186+(VALUE(LEFT(MID(J19,FIND("/",J19)+1,20),FIND("/",MID(J19,FIND("/",J19)+1,20))-1))-7)*30)+VALUE(MID(MID(J19,FIND("/",J19)+1,20),FIND("/",MID(J19,FIND("/",J19)+1,20))+1,20))-1),""))) | L19: =IF(AND(ISNUMBER(D19),D19>0),D19+(100-ROW())/1000,"")
A20: سیم‌کشی طبقه ۱ | B20: 1405/07/22 | C20: 1405/07/24 | D20: =IF(OR(I20="",K20=""),"",K20-I20) | E20: تغییر نقشه | H20: =IF(ISNUMBER(B20),"",SUBSTITUTE(SUBSTITUTE(SUBSTITUTE(SUBSTITUTE(SUBSTITUTE(SUBSTITUTE(SUBSTITUTE(SUBSTITUTE(SUBSTITUTE(SUBSTITUTE(SUBSTITUTE(SUBSTITUTE(TRIM(B20&""),"۰","0"),"۱","1"),"۲","2"),"۳","3"),"۴","4"),"۵","5"),"۶","6"),"۷","7"),"۸","8"),"۹","9"),"-","/"),".","/")) | I20: =IF(B20="","",IF(ISNUMBER(B20),B20,IFERROR(IF(VALUE(LEFT(H20,FIND("/",H20)-1))>1700,DATE(VALUE(LEFT(H20,FIND("/",H20)-1)),VALUE(LEFT(MID(H20,FIND("/",H20)+1,20),FIND("/",MID(H20,FIND("/",H20)+1,20))-1)),VALUE(MID(MID(H20,FIND("/",H20)+1,20),FIND("/",MID(H20,FIND("/",H20)+1,20))+1,20))),INDEX(cal!$B$2:$B$52,MATCH(VALUE(LEFT(H20,FIND("/",H20)-1)),cal!$A$2:$A$52,0))+IF(VALUE(LEFT(MID(H20,FIND("/",H20)+1,20),FIND("/",MID(H20,FIND("/",H20)+1,20))-1))<=6,(VALUE(LEFT(MID(H20,FIND("/",H20)+1,20),FIND("/",MID(H20,FIND("/",H20)+1,20))-1))-1)*31,186+(VALUE(LEFT(MID(H20,FIND("/",H20)+1,20),FIND("/",MID(H20,FIND("/",H20)+1,20))-1))-7)*30)+VALUE(MID(MID(H20,FIND("/",H20)+1,20),FIND("/",MID(H20,FIND("/",H20)+1,20))+1,20))-1),""))) | J20: =IF(ISNUMBER(C20),"",SUBSTITUTE(SUBSTITUTE(SUBSTITUTE(SUBSTITUTE(SUBSTITUTE(SUBSTITUTE(SUBSTITUTE(SUBSTITUTE(SUBSTITUTE(SUBSTITUTE(SUBSTITUTE(SUBSTITUTE(TRIM(C20&""),"۰","0"),"۱","1"),"۲","2"),"۳","3"),"۴","4"),"۵","5"),"۶","6"),"۷","7"),"۸","8"),"۹","9"),"-","/"),".","/")) | K20: =IF(C20="","",IF(ISNUMBER(C20),C20,IFERROR(IF(VALUE(LEFT(J20,FIND("/",J20)-1))>1700,DATE(VALUE(LEFT(J20,FIND("/",J20)-1)),VALUE(LEFT(MID(J20,FIND("/",J20)+1,20),FIND("/",MID(J20,FIND("/",J20)+1,20))-1)),VALUE(MID(MID(J20,FIND("/",J20)+1,20),FIND("/",MID(J20,FIND("/",J20)+1,20))+1,20))),INDEX(cal!$B$2:$B$52,MATCH(VALUE(LEFT(J20,FIND("/",J20)-1)),cal!$A$2:$A$52,0))+IF(VALUE(LEFT(MID(J20,FIND("/",J20)+1,20),FIND("/",MID(J20,FIND("/",J20)+1,20))-1))<=6,(VALUE(LEFT(MID(J20,FIND("/",J20)+1,20),FIND("/",MID(J20,FIND("/",J20)+1,20))-1))-1)*31,186+(VALUE(LEFT(MID(J20,FIND("/",J20)+1,20),FIND("/",MID(J20,FIND("/",J20)+1,20))-1))-7)*30)+VALUE(MID(MID(J20,FIND("/",J20)+1,20),FIND("/",MID(J20,FIND("/",J20)+1,20))+1,20))-1),""))) | L20: =IF(AND(ISNUMBER(D20),D20>0),D20+(100-ROW())/1000,"")
D21: =IF(OR(I21="",K21=""),"",K21-I21) | H21: =IF(ISNUMBER(B21),"",SUBSTITUTE(SUBSTITUTE(SUBSTITUTE(SUBSTITUTE(SUBSTITUTE(SUBSTITUTE(SUBSTITUTE(SUBSTITUTE(SUBSTITUTE(SUBSTITUTE(SUBSTITUTE(SUBSTITUTE(TRIM(B21&""),"۰","0"),"۱","1"),"۲","2"),"۳","3"),"۴","4"),"۵","5"),"۶","6"),"۷","7"),"۸","8"),"۹","9"),"-","/"),".","/")) | I21: =IF(B21="","",IF(ISNUMBER(B21),B21,IFERROR(IF(VALUE(LEFT(H21,FIND("/",H21)-1))>1700,DATE(VALUE(LEFT(H21,FIND("/",H21)-1)),VALUE(LEFT(MID(H21,FIND("/",H21)+1,20),FIND("/",MID(H21,FIND("/",H21)+1,20))-1)),VALUE(MID(MID(H21,FIND("/",H21)+1,20),FIND("/",MID(H21,FIND("/",H21)+1,20))+1,20))),INDEX(cal!$B$2:$B$52,MATCH(VALUE(LEFT(H21,FIND("/",H21)-1)),cal!$A$2:$A$52,0))+IF(VALUE(LEFT(MID(H21,FIND("/",H21)+1,20),FIND("/",MID(H21,FIND("/",H21)+1,20))-1))<=6,(VALUE(LEFT(MID(H21,FIND("/",H21)+1,20),FIND("/",MID(H21,FIND("/",H21)+1,20))-1))-1)*31,186+(VALUE(LEFT(MID(H21,FIND("/",H21)+1,20),FIND("/",MID(H21,FIND("/",H21)+1,20))-1))-7)*30)+VALUE(MID(MID(H21,FIND("/",H21)+1,20),FIND("/",MID(H21,FIND("/",H21)+1,20))+1,20))-1),""))) | J21: =IF(ISNUMBER(C21),"",SUBSTITUTE(SUBSTITUTE(SUBSTITUTE(SUBSTITUTE(SUBSTITUTE(SUBSTITUTE(SUBSTITUTE(SUBSTITUTE(SUBSTITUTE(SUBSTITUTE(SUBSTITUTE(SUBSTITUTE(TRIM(C21&""),"۰","0"),"۱","1"),"۲","2"),"۳","3"),"۴","4"),"۵","5"),"۶","6"),"۷","7"),"۸","8"),"۹","9"),"-","/"),".","/")) | K21: =IF(C21="","",IF(ISNUMBER(C21),C21,IFERROR(IF(VALUE(LEFT(J21,FIND("/",J21)-1))>1700,DATE(VALUE(LEFT(J21,FIND("/",J21)-1)),VALUE(LEFT(MID(J21,FIND("/",J21)+1,20),FIND("/",MID(J21,FIND("/",J21)+1,20))-1)),VALUE(MID(MID(J21,FIND("/",J21)+1,20),FIND("/",MID(J21,FIND("/",J21)+1,20))+1,20))),INDEX(cal!$B$2:$B$52,MATCH(VALUE(LEFT(J21,FIND("/",J21)-1)),cal!$A$2:$A$52,0))+IF(VALUE(LEFT(MID(J21,FIND("/",J21)+1,20),FIND("/",MID(J21,FIND("/",J21)+1,20))-1))<=6,(VALUE(LEFT(MID(J21,FIND("/",J21)+1,20),FIND("/",MID(J21,FIND("/",J21)+1,20))-1))-1)*31,186+(VALUE(LEFT(MID(J21,FIND("/",J21)+1,20),FIND("/",MID(J21,FIND("/",J21)+1,20))-1))-7)*30)+VALUE(MID(MID(J21,FIND("/",J21)+1,20),FIND("/",MID(J21,FIND("/",J21)+1,20))+1,20))-1),""))) | L21: =IF(AND(ISNUMBER(D21),D21>0),D21+(100-ROW())/1000,"")
D22: =IF(OR(I22="",K22=""),"",K22-I22) | H22: =IF(ISNUMBER(B22),"",SUBSTITUTE(SUBSTITUTE(SUBSTITUTE(SUBSTITUTE(SUBSTITUTE(SUBSTITUTE(SUBSTITUTE(SUBSTITUTE(SUBSTITUTE(SUBSTITUTE(SUBSTITUTE(SUBSTITUTE(TRIM(B22&""),"۰","0"),"۱","1"),"۲","2"),"۳","3"),"۴","4"),"۵","5"),"۶","6"),"۷","7"),"۸","8"),"۹","9"),"-","/"),".","/")) | I22: =IF(B22="","",IF(ISNUMBER(B22),B22,IFERROR(IF(VALUE(LEFT(H22,FIND("/",H22)-1))>1700,DATE(VALUE(LEFT(H22,FIND("/",H22)-1)),VALUE(LEFT(MID(H22,FIND("/",H22)+1,20),FIND("/",MID(H22,FIND("/",H22)+1,20))-1)),VALUE(MID(MID(H22,FIND("/",H22)+1,20),FIND("/",MID(H22,FIND("/",H22)+1,20))+1,20))),INDEX(cal!$B$2:$B$52,MATCH(VALUE(LEFT(H22,FIND("/",H22)-1)),cal!$A$2:$A$52,0))+IF(VALUE(LEFT(MID(H22,FIND("/",H22)+1,20),FIND("/",MID(H22,FIND("/",H22)+1,20))-1))<=6,(VALUE(LEFT(MID(H22,FIND("/",H22)+1,20),FIND("/",MID(H22,FIND("/",H22)+1,20))-1))-1)*31,186+(VALUE(LEFT(MID(H22,FIND("/",H22)+1,20),FIND("/",MID(H22,FIND("/",H22)+1,20))-1))-7)*30)+VALUE(MID(MID(H22,FIND("/",H22)+1,20),FIND("/",MID(H22,FIND("/",H22)+1,20))+1,20))-1),""))) | J22: =IF(ISNUMBER(C22),"",SUBSTITUTE(SUBSTITUTE(SUBSTITUTE(SUBSTITUTE(SUBSTITUTE(SUBSTITUTE(SUBSTITUTE(SUBSTITUTE(SUBSTITUTE(SUBSTITUTE(SUBSTITUTE(SUBSTITUTE(TRIM(C22&""),"۰","0"),"۱","1"),"۲","2"),"۳","3"),"۴","4"),"۵","5"),"۶","6"),"۷","7"),"۸","8"),"۹","9"),"-","/"),".","/")) | K22: =IF(C22="","",IF(ISNUMBER(C22),C22,IFERROR(IF(VALUE(LEFT(J22,FIND("/",J22)-1))>1700,DATE(VALUE(LEFT(J22,FIND("/",J22)-1)),VALUE(LEFT(MID(J22,FIND("/",J22)+1,20),FIND("/",MID(J22,FIND("/",J22)+1,20))-1)),VALUE(MID(MID(J22,FIND("/",J22)+1,20),FIND("/",MID(J22,FIND("/",J22)+1,20))+1,20))),INDEX(cal!$B$2:$B$52,MATCH(VALUE(LEFT(J22,FIND("/",J22)-1)),cal!$A$2:$A$52,0))+IF(VALUE(LEFT(MID(J22,FIND("/",J22)+1,20),FIND("/",MID(J22,FIND("/",J22)+1,20))-1))<=6,(VALUE(LEFT(MID(J22,FIND("/",J22)+1,20),FIND("/",MID(J22,FIND("/",J22)+1,20))-1))-1)*31,186+(VALUE(LEFT(MID(J22,FIND("/",J22)+1,20),FIND("/",MID(J22,FIND("/",J22)+1,20))-1))-7)*30)+VALUE(MID(MID(J22,FIND("/",J22)+1,20),FIND("/",MID(J22,FIND("/",J22)+1,20))+1,20))-1),""))) | L22: =IF(AND(ISNUMBER(D22),D22>0),D22+(100-ROW())/1000,"")
D23: =IF(OR(I23="",K23=""),"",K23-I23) | H23: =IF(ISNUMBER(B23),"",SUBSTITUTE(SUBSTITUTE(SUBSTITUTE(SUBSTITUTE(SUBSTITUTE(SUBSTITUTE(SUBSTITUTE(SUBSTITUTE(SUBSTITUTE(SUBSTITUTE(SUBSTITUTE(SUBSTITUTE(TRIM(B23&""),"۰","0"),"۱","1"),"۲","2"),"۳","3"),"۴","4"),"۵","5"),"۶","6"),"۷","7"),"۸","8"),"۹","9"),"-","/"),".","/")) | I23: =IF(B23="","",IF(ISNUMBER(B23),B23,IFERROR(IF(VALUE(LEFT(H23,FIND("/",H23)-1))>1700,DATE(VALUE(LEFT(H23,FIND("/",H23)-1)),VALUE(LEFT(MID(H23,FIND("/",H23)+1,20),FIND("/",MID(H23,FIND("/",H23)+1,20))-1)),VALUE(MID(MID(H23,FIND("/",H23)+1,20),FIND("/",MID(H23,FIND("/",H23)+1,20))+1,20))),INDEX(cal!$B$2:$B$52,MATCH(VALUE(LEFT(H23,FIND("/",H23)-1)),cal!$A$2:$A$52,0))+IF(VALUE(LEFT(MID(H23,FIND("/",H23)+1,20),FIND("/",MID(H23,FIND("/",H23)+1,20))-1))<=6,(VALUE(LEFT(MID(H23,FIND("/",H23)+1,20),FIND("/",MID(H23,FIND("/",H23)+1,20))-1))-1)*31,186+(VALUE(LEFT(MID(H23,FIND("/",H23)+1,20),FIND("/",MID(H23,FIND("/",H23)+1,20))-1))-7)*30)+VALUE(MID(MID(H23,FIND("/",H23)+1,20),FIND("/",MID(H23,FIND("/",H23)+1,20))+1,20))-1),""))) | J23: =IF(ISNUMBER(C23),"",SUBSTITUTE(SUBSTITUTE(SUBSTITUTE(SUBSTITUTE(SUBSTITUTE(SUBSTITUTE(SUBSTITUTE(SUBSTITUTE(SUBSTITUTE(SUBSTITUTE(SUBSTITUTE(SUBSTITUTE(TRIM(C23&""),"۰","0"),"۱","1"),"۲","2"),"۳","3"),"۴","4"),"۵","5"),"۶","6"),"۷","7"),"۸","8"),"۹","9"),"-","/"),".","/")) | K23: =IF(C23="","",IF(ISNUMBER(C23),C23,IFERROR(IF(VALUE(LEFT(J23,FIND("/",J23)-1))>1700,DATE(VALUE(LEFT(J23,FIND("/",J23)-1)),VALUE(LEFT(MID(J23,FIND("/",J23)+1,20),FIND("/",MID(J23,FIND("/",J23)+1,20))-1)),VALUE(MID(MID(J23,FIND("/",J23)+1,20),FIND("/",MID(J23,FIND("/",J23)+1,20))+1,20))),INDEX(cal!$B$2:$B$52,MATCH(VALUE(LEFT(J23,FIND("/",J23)-1)),cal!$A$2:$A$52,0))+IF(VALUE(LEFT(MID(J23,FIND("/",J23)+1,20),FIND("/",MID(J23,FIND("/",J23)+1,20))-1))<=6,(VALUE(LEFT(MID(J23,FIND("/",J23)+1,20),FIND("/",MID(J23,FIND("/",J23)+1,20))-1))-1)*31,186+(VALUE(LEFT(MID(J23,FIND("/",J23)+1,20),FIND("/",MID(J23,FIND("/",J23)+1,20))-1))-7)*30)+VALUE(MID(MID(J23,FIND("/",J23)+1,20),FIND("/",MID(J23,FIND("/",J23)+1,20))+1,20))-1),""))) | L23: =IF(AND(ISNUMBER(D23),D23>0),D23+(100-ROW())/1000,"")
D24: =IF(OR(I24="",K24=""),"",K24-I24) | H24: =IF(ISNUMBER(B24),"",SUBSTITUTE(SUBSTITUTE(SUBSTITUTE(SUBSTITUTE(SUBSTITUTE(SUBSTITUTE(SUBSTITUTE(SUBSTITUTE(SUBSTITUTE(SUBSTITUTE(SUBSTITUTE(SUBSTITUTE(TRIM(B24&""),"۰","0"),"۱","1"),"۲","2"),"۳","3"),"۴","4"),"۵","5"),"۶","6"),"۷","7"),"۸","8"),"۹","9"),"-","/"),".","/")) | I24: =IF(B24="","",IF(ISNUMBER(B24),B24,IFERROR(IF(VALUE(LEFT(H24,FIND("/",H24)-1))>1700,DATE(VALUE(LEFT(H24,FIND("/",H24)-1)),VALUE(LEFT(MID(H24,FIND("/",H24)+1,20),FIND("/",MID(H24,FIND("/",H24)+1,20))-1)),VALUE(MID(MID(H24,FIND("/",H24)+1,20),FIND("/",MID(H24,FIND("/",H24)+1,20))+1,20))),INDEX(cal!$B$2:$B$52,MATCH(VALUE(LEFT(H24,FIND("/",H24)-1)),cal!$A$2:$A$52,0))+IF(VALUE(LEFT(MID(H24,FIND("/",H24)+1,20),FIND("/",MID(H24,FIND("/",H24)+1,20))-1))<=6,(VALUE(LEFT(MID(H24,FIND("/",H24)+1,20),FIND("/",MID(H24,FIND("/",H24)+1,20))-1))-1)*31,186+(VALUE(LEFT(MID(H24,FIND("/",H24)+1,20),FIND("/",MID(H24,FIND("/",H24)+1,20))-1))-7)*30)+VALUE(MID(MID(H24,FIND("/",H24)+1,20),FIND("/",MID(H24,FIND("/",H24)+1,20))+1,20))-1),""))) | J24: =IF(ISNUMBER(C24),"",SUBSTITUTE(SUBSTITUTE(SUBSTITUTE(SUBSTITUTE(SUBSTITUTE(SUBSTITUTE(SUBSTITUTE(SUBSTITUTE(SUBSTITUTE(SUBSTITUTE(SUBSTITUTE(SUBSTITUTE(TRIM(C24&""),"۰","0"),"۱","1"),"۲","2"),"۳","3"),"۴","4"),"۵","5"),"۶","6"),"۷","7"),"۸","8"),"۹","9"),"-","/"),".","/")) | K24: =IF(C24="","",IF(ISNUMBER(C24),C24,IFERROR(IF(VALUE(LEFT(J24,FIND("/",J24)-1))>1700,DATE(VALUE(LEFT(J24,FIND("/",J24)-1)),VALUE(LEFT(MID(J24,FIND("/",J24)+1,20),FIND("/",MID(J24,FIND("/",J24)+1,20))-1)),VALUE(MID(MID(J24,FIND("/",J24)+1,20),FIND("/",MID(J24,FIND("/",J24)+1,20))+1,20))),INDEX(cal!$B$2:$B$52,MATCH(VALUE(LEFT(J24,FIND("/",J24)-1)),cal!$A$2:$A$52,0))+IF(VALUE(LEFT(MID(J24,FIND("/",J24)+1,20),FIND("/",MID(J24,FIND("/",J24)+1,20))-1))<=6,(VALUE(LEFT(MID(J24,FIND("/",J24)+1,20),FIND("/",MID(J24,FIND("/",J24)+1,20))-1))-1)*31,186+(VALUE(LEFT(MID(J24,FIND("/",J24)+1,20),FIND("/",MID(J24,FIND("/",J24)+1,20))-1))-7)*30)+VALUE(MID(MID(J24,FIND("/",J24)+1,20),FIND("/",MID(J24,FIND("/",J24)+1,20))+1,20))-1),""))) | L24: =IF(AND(ISNUMBER(D24),D24>0),D24+(100-ROW())/1000,"")
D25: =IF(OR(I25="",K25=""),"",K25-I25) | H25: =IF(ISNUMBER(B25),"",SUBSTITUTE(SUBSTITUTE(SUBSTITUTE(SUBSTITUTE(SUBSTITUTE(SUBSTITUTE(SUBSTITUTE(SUBSTITUTE(SUBSTITUTE(SUBSTITUTE(SUBSTITUTE(SUBSTITUTE(TRIM(B25&""),"۰","0"),"۱","1"),"۲","2"),"۳","3"),"۴","4"),"۵","5"),"۶","6"),"۷","7"),"۸","8"),"۹","9"),"-","/"),".","/")) | I25: =IF(B25="","",IF(ISNUMBER(B25),B25,IFERROR(IF(VALUE(LEFT(H25,FIND("/",H25)-1))>1700,DATE(VALUE(LEFT(H25,FIND("/",H25)-1)),VALUE(LEFT(MID(H25,FIND("/",H25)+1,20),FIND("/",MID(H25,FIND("/",H25)+1,20))-1)),VALUE(MID(MID(H25,FIND("/",H25)+1,20),FIND("/",MID(H25,FIND("/",H25)+1,20))+1,20))),INDEX(cal!$B$2:$B$52,MATCH(VALUE(LEFT(H25,FIND("/",H25)-1)),cal!$A$2:$A$52,0))+IF(VALUE(LEFT(MID(H25,FIND("/",H25)+1,20),FIND("/",MID(H25,FIND("/",H25)+1,20))-1))<=6,(VALUE(LEFT(MID(H25,FIND("/",H25)+1,20),FIND("/",MID(H25,FIND("/",H25)+1,20))-1))-1)*31,186+(VALUE(LEFT(MID(H25,FIND("/",H25)+1,20),FIND("/",MID(H25,FIND("/",H25)+1,20))-1))-7)*30)+VALUE(MID(MID(H25,FIND("/",H25)+1,20),FIND("/",MID(H25,FIND("/",H25)+1,20))+1,20))-1),""))) | J25: =IF(ISNUMBER(C25),"",SUBSTITUTE(SUBSTITUTE(SUBSTITUTE(SUBSTITUTE(SUBSTITUTE(SUBSTITUTE(SUBSTITUTE(SUBSTITUTE(SUBSTITUTE(SUBSTITUTE(SUBSTITUTE(SUBSTITUTE(TRIM(C25&""),"۰","0"),"۱","1"),"۲","2"),"۳","3"),"۴","4"),"۵","5"),"۶","6"),"۷","7"),"۸","8"),"۹","9"),"-","/"),".","/")) | K25: =IF(C25="","",IF(ISNUMBER(C25),C25,IFERROR(IF(VALUE(LEFT(J25,FIND("/",J25)-1))>1700,DATE(VALUE(LEFT(J25,FIND("/",J25)-1)),VALUE(LEFT(MID(J25,FIND("/",J25)+1,20),FIND("/",MID(J25,FIND("/",J25)+1,20))-1)),VALUE(MID(MID(J25,FIND("/",J25)+1,20),FIND("/",MID(J25,FIND("/",J25)+1,20))+1,20))),INDEX(cal!$B$2:$B$52,MATCH(VALUE(LEFT(J25,FIND("/",J25)-1)),cal!$A$2:$A$52,0))+IF(VALUE(LEFT(MID(J25,FIND("/",J25)+1,20),FIND("/",MID(J25,FIND("/",J25)+1,20))-1))<=6,(VALUE(LEFT(MID(J25,FIND("/",J25)+1,20),FIND("/",MID(J25,FIND("/",J25)+1,20))-1))-1)*31,186+(VALUE(LEFT(MID(J25,FIND("/",J25)+1,20),FIND("/",MID(J25,FIND("/",J25)+1,20))-1))-7)*30)+VALUE(MID(MID(J25,FIND("/",J25)+1,20),FIND("/",MID(J25,FIND("/",J25)+1,20))+1,20))-1),""))) | L25: =IF(AND(ISNUMBER(D25),D25>0),D25+(100-ROW())/1000,"")
D26: =IF(OR(I26="",K26=""),"",K26-I26) | H26: =IF(ISNUMBER(B26),"",SUBSTITUTE(SUBSTITUTE(SUBSTITUTE(SUBSTITUTE(SUBSTITUTE(SUBSTITUTE(SUBSTITUTE(SUBSTITUTE(SUBSTITUTE(SUBSTITUTE(SUBSTITUTE(SUBSTITUTE(TRIM(B26&""),"۰","0"),"۱","1"),"۲","2"),"۳","3"),"۴","4"),"۵","5"),"۶","6"),"۷","7"),"۸","8"),"۹","9"),"-","/"),".","/")) | I26: =IF(B26="","",IF(ISNUMBER(B26),B26,IFERROR(IF(VALUE(LEFT(H26,FIND("/",H26)-1))>1700,DATE(VALUE(LEFT(H26,FIND("/",H26)-1)),VALUE(LEFT(MID(H26,FIND("/",H26)+1,20),FIND("/",MID(H26,FIND("/",H26)+1,20))-1)),VALUE(MID(MID(H26,FIND("/",H26)+1,20),FIND("/",MID(H26,FIND("/",H26)+1,20))+1,20))),INDEX(cal!$B$2:$B$52,MATCH(VALUE(LEFT(H26,FIND("/",H26)-1)),cal!$A$2:$A$52,0))+IF(VALUE(LEFT(MID(H26,FIND("/",H26)+1,20),FIND("/",MID(H26,FIND("/",H26)+1,20))-1))<=6,(VALUE(LEFT(MID(H26,FIND("/",H26)+1,20),FIND("/",MID(H26,FIND("/",H26)+1,20))-1))-1)*31,186+(VALUE(LEFT(MID(H26,FIND("/",H26)+1,20),FIND("/",MID(H26,FIND("/",H26)+1,20))-1))-7)*30)+VALUE(MID(MID(H26,FIND("/",H26)+1,20),FIND("/",MID(H26,FIND("/",H26)+1,20))+1,20))-1),""))) | J26: =IF(ISNUMBER(C26),"",SUBSTITUTE(SUBSTITUTE(SUBSTITUTE(SUBSTITUTE(SUBSTITUTE(SUBSTITUTE(SUBSTITUTE(SUBSTITUTE(SUBSTITUTE(SUBSTITUTE(SUBSTITUTE(SUBSTITUTE(TRIM(C26&""),"۰","0"),"۱","1"),"۲","2"),"۳","3"),"۴","4"),"۵","5"),"۶","6"),"۷","7"),"۸","8"),"۹","9"),"-","/"),".","/")) | K26: =IF(C26="","",IF(ISNUMBER(C26),C26,IFERROR(IF(VALUE(LEFT(J26,FIND("/",J26)-1))>1700,DATE(VALUE(LEFT(J26,FIND("/",J26)-1)),VALUE(LEFT(MID(J26,FIND("/",J26)+1,20),FIND("/",MID(J26,FIND("/",J26)+1,20))-1)),VALUE(MID(MID(J26,FIND("/",J26)+1,20),FIND("/",MID(J26,FIND("/",J26)+1,20))+1,20))),INDEX(cal!$B$2:$B$52,MATCH(VALUE(LEFT(J26,FIND("/",J26)-1)),cal!$A$2:$A$52,0))+IF(VALUE(LEFT(MID(J26,FIND("/",J26)+1,20),FIND("/",MID(J26,FIND("/",J26)+1,20))-1))<=6,(VALUE(LEFT(MID(J26,FIND("/",J26)+1,20),FIND("/",MID(J26,FIND("/",J26)+1,20))-1))-1)*31,186+(VALUE(LEFT(MID(J26,FIND("/",J26)+1,20),FIND("/",MID(J26,FIND("/",J26)+1,20))-1))-7)*30)+VALUE(MID(MID(J26,FIND("/",J26)+1,20),FIND("/",MID(J26,FIND("/",J26)+1,20))+1,20))-1),""))) | L26: =IF(AND(ISNUMBER(D26),D26>0),D26+(100-ROW())/1000,"")
A28: ۴. برنامه‌ی هفته‌ی بعد (حداکثر ۵ مورد)
A29: هر خط یک کار مشخص؛ کوتاه.
A30: بتن‌ریزی سقف طبقه ۴
A31: شروع نمای شمالی
A32: تحویل تیرآهن باقی‌مانده
A33: تست فشار لوله‌کشی طبقات ۱ و ۲
A36: ۵. تصمیم‌های لازم از مدیریت (مهم‌ترین بخش گزارش)
A37: موضوع تصمیم | C37: از چه کسی | E37: تا چه تاریخی
A38: تأیید شیفت دوم برای اسکلت فلزی | C38: مدیر پروژه | E38: 1405/07/23
A39: انتخاب تأمین‌کننده‌ی جایگزین تیرآهن | C39: مدیر تدارکات | E39: 1405/07/25

Sheet راهنما
A1: راهنمای گزارش هفتگی یک‌صفحه‌ای
A3: ۱) برگه‌ی «ورودی‌ها» را باز کنید و فقط سلول‌های آبیِ زمینه‌زرد را پر کنید. نمونه‌ها را پاک کنید.
A4: ۲) پیشرفت‌ها «تجمعی» هستند (از شروع پروژه تا امروز)، نه فقط کار همین هفته.
A5: ۳) تاریخ‌ها شمسی و به شکل 1405/07/20 (اعداد فارسی هم قبول است). تأخیر خودکار حساب می‌شود.
A6: ۴) هر تعداد فعالیت عقب‌افتاده وارد کنید؛ گزارش فقط ۳ تای بیشترین تأخیر را نشان می‌دهد.
A7: ۵) بخش «تصمیم‌های لازم» را خالی نگذارید؛ گزارش برای همین است.
A8: ۶) برگه‌ی «گزارش» آماده‌ی چاپ روی یک صفحه‌ی A4 است: File ← Print، یا خروجی PDF برای ارسال.
A10: وضعیت (SPI = پیشرفت واقعی ÷ برنامه‌ای): ۰٫۹۵ و بالاتر سبز · بین ۰٫۸۵ و ۰٫۹۵ زرد · کمتر از ۰٫۸۵ قرمز.
A11: عدد پیشرفت را می‌توانید از قالب رایگان «منحنی S» اکسیس لبز بردارید.
A13: AXISLABS · اکسیس لبز — از داده تا تصمیم · axislabs.ir · t.me/iraxislabs

Sheet cal
A1: سال شمسی | B1: اول فروردین (میلادی)
A2: 1390 | B2: 40623
A3: 1391 | B3: 40988
A4: 1392 | B4: 41354
A5: 1393 | B5: 41719
A6: 1394 | B6: 42084
A7: 1395 | B7: 42449
A8: 1396 | B8: 42815
A9: 1397 | B9: 43180
A10: 1398 | B10: 43545
A11: 1399 | B11: 43910
A12: 1400 | B12: 44276
A13: 1401 | B13: 44641
... A52: 1440 | B52: 58885
