Workbook

Sheet داشبورد
A1: منحنی S پیشرفت پروژه
A2: AXISLABS · اکسیس لبز — از داده تا تصمیم · instagram.com/axislabs.ir
A3: قالب رایگان اکسیس لبز. فقط سلول‌های آبیِ زمینه‌زرد را تغییر دهید؛ بقیه خودکار است.
B4: نام پروژه | C4: پروژه‌ی نمونه
B5: هفته‌ی گزارش | C5: 12
B6: تاریخ شروع پروژه | C6: 46102
B8: SPI = واقعی ÷ برنامه‌ای ۱ یعنی دقیقاً طبق برنامه؛ زیر ۰٫۹۵ هشدار، زیر ۰٫۸۵ عقب‌افتاده. | E8: برنامه‌ای تا امروز | F8: =INDEX(C17:C42,$C$5) -> 0.46666667
E9: واقعی تا امروز | F9: =INDEX(D17:D42,$C$5) -> 0.375
E10: انحراف | F10: =F9-F8 -> -0.091666667
E11: شاخص SPI | F11: =IFERROR(F9/F8,0) -> 0.80357143
E12: وضعیت | F12: =IF(F11>=0.95,"در برنامه",IF(F11>=0.85,"هشدار","عقب‌افتاده")) -> عقب‌افتاده
B14: جمع وزن فعالیت‌ها | C14: ='فعالیت‌ها'!D21 -> ✓ درست است
A16: هفته | B16: تاریخ | C16: برنامه‌ای تجمعی | D16: واقعی تجمعی | E16: انحراف | F16: SPI
A17: 1 | B17: =$C$6+7*(A17-1) -> 46102 | C17: =SUMPRODUCT('فعالیت‌ها'!$C$6:$C$20,برنامه!C6:C20) -> 0.02 | D17: =IF(A17>$C$5,NA(),SUMPRODUCT('فعالیت‌ها'!$C$6:$C$20,'پیشرفت واقعی'!C6:C20)) -> 0.02 | E17: =IF(A17>$C$5,"",D17-C17) -> 0 | F17: =IF(A17>$C$5,"",IFERROR(D17/C17,"")) -> 1
A18: 2 | B18: =$C$6+7*(A18-1) -> 46109 | C18: =SUMPRODUCT('فعالیت‌ها'!$C$6:$C$20,برنامه!D6:D20) -> 0.0525 | D18: =IF(A18>$C$5,NA(),SUMPRODUCT('فعالیت‌ها'!$C$6:$C$20,'پیشرفت واقعی'!D6:D20)) -> 0.0525 | E18: =IF(A18>$C$5,"",D18-C18) -> 0 | F18: =IF(A18>$C$5,"",IFERROR(D18/C18,"")) -> 1
A19: 3 | B19: =$C$6+7*(A19-1) -> 46116 | C19: =SUMPRODUCT('فعالیت‌ها'!$C$6:$C$20,برنامه!E6:E20) -> 0.085 | D19: =IF(A19>$C$5,NA(),SUMPRODUCT('فعالیت‌ها'!$C$6:$C$20,'پیشرفت واقعی'!E6:E20)) -> 0.085 | E19: =IF(A19>$C$5,"",D19-C19) -> 0 | F19: =IF(A19>$C$5,"",IFERROR(D19/C19,"")) -> 1
A20: 4 | B20: =$C$6+7*(A20-1) -> 46123 | C20: =SUMPRODUCT('فعالیت‌ها'!$C$6:$C$20,برنامه!F6:F20) -> 0.1325 | D20: =IF(A20>$C$5,NA(),SUMPRODUCT('فعالیت‌ها'!$C$6:$C$20,'پیشرفت واقعی'!F6:F20)) -> 0.1295 | E20: =IF(A20>$C$5,"",D20-C20) -> -0.003 | F20: =IF(A20>$C$5,"",IFERROR(D20/C20,"")) -> 0.97735849
A21: 5 | B21: =$C$6+7*(A21-1) -> 46130 | C21: =SUMPRODUCT('فعالیت‌ها'!$C$6:$C$20,برنامه!G6:G20) -> 0.17666667 | D21: =IF(A21>$C$5,NA(),SUMPRODUCT('فعالیت‌ها'!$C$6:$C$20,'پیشرفت واقعی'!G6:G20)) -> 0.1665 | E21: =IF(A21>$C$5,"",D21-C21) -> -0.010166667 | F21: =IF(A21>$C$5,"",IFERROR(D21/C21,"")) -> 0.94245283
A22: 6 | B22: =$C$6+7*(A22-1) -> 46137 | C22: =SUMPRODUCT('فعالیت‌ها'!$C$6:$C$20,برنامه!H6:H20) -> 0.20833333 | D22: =IF(A22>$C$5,NA(),SUMPRODUCT('فعالیت‌ها'!$C$6:$C$20,'پیشرفت واقعی'!H6:H20)) -> 0.1935 | E22: =IF(A22>$C$5,"",D22-C22) -> -0.014833333 | F22: =IF(A22>$C$5,"",IFERROR(D22/C22,"")) -> 0.9288
A23: 7 | B23: =$C$6+7*(A23-1) -> 46144 | C23: =SUMPRODUCT('فعالیت‌ها'!$C$6:$C$20,برنامه!I6:I20) -> 0.26777778 | D23: =IF(A23>$C$5,NA(),SUMPRODUCT('فعالیت‌ها'!$C$6:$C$20,'پیشرفت واقعی'!I6:I20)) -> 0.2455 | E23: =IF(A23>$C$5,"",D23-C23) -> -0.022277778 | F23: =IF(A23>$C$5,"",IFERROR(D23/C23,"")) -> 0.91680498
A24: 8 | B24: =$C$6+7*(A24-1) -> 46151 | C24: =SUMPRODUCT('فعالیت‌ها'!$C$6:$C$20,برنامه!J6:J20) -> 0.31055556 | D24: =IF(A24>$C$5,NA(),SUMPRODUCT('فعالیت‌ها'!$C$6:$C$20,'پیشرفت واقعی'!J6:J20)) -> 0.264 | E24: =IF(A24>$C$5,"",D24-C24) -> -0.046555556 | F24: =IF(A24>$C$5,"",IFERROR(D24/C24,"")) -> 0.85008945
A25: 9 | B25: =$C$6+7*(A25-1) -> 46158 | C25: =SUMPRODUCT('فعالیت‌ها'!$C$6:$C$20,برنامه!K6:K20) -> 0.35333333 | D25: =IF(A25>$C$5,NA(),SUMPRODUCT('فعالیت‌ها'!$C$6:$C$20,'پیشرفت واقعی'!K6:K20)) -> 0.301 | E25: =IF(A25>$C$5,"",D25-C25) -> -0.052333333 | F25: =IF(A25>$C$5,"",IFERROR(D25/C25,"")) -> 0.85188679
A26: 10 | B26: =$C$6+7*(A26-1) -> 46165 | C26: =SUMPRODUCT('فعالیت‌ها'!$C$6:$C$20,برنامه!L6:L20) -> 0.39611111 | D26: =IF(A26>$C$5,NA(),SUMPRODUCT('فعالیت‌ها'!$C$6:$C$20,'پیشرفت واقعی'!L6:L20)) -> 0.3255 | E26: =IF(A26>$C$5,"",D26-C26) -> -0.070611111 | F26: =IF(A26>$C$5,"",IFERROR(D26/C26,"")) -> 0.82173913
A27: 11 | B27: =$C$6+7*(A27-1) -> 46172 | C27: =SUMPRODUCT('فعالیت‌ها'!$C$6:$C$20,برنامه!M6:M20) -> 0.43888889 | D27: =IF(A27>$C$5,NA(),SUMPRODUCT('فعالیت‌ها'!$C$6:$C$20,'پیشرفت واقعی'!M6:M20)) -> 0.3625 | E27: =IF(A27>$C$5,"",D27-C27) -> -0.076388889 | F27: =IF(A27>$C$5,"",IFERROR(D27/C27,"")) -> 0.82594937
A28: 12 | B28: =$C$6+7*(A28-1) -> 46179 | C28: =SUMPRODUCT('فعالیت‌ها'!$C$6:$C$20,برنامه!N6:N20) -> 0.46666667 | D28: =IF(A28>$C$5,NA(),SUMPRODUCT('فعالیت‌ها'!$C$6:$C$20,'پیشرفت واقعی'!N6:N20)) -> 0.375 | E28: =IF(A28>$C$5,"",D28-C28) -> -0.091666667 | F28: =IF(A28>$C$5,"",IFERROR(D28/C28,"")) -> 0.80357143
A29: 13 | B29: =$C$6+7*(A29-1) -> 46186 | C29: =SUMPRODUCT('فعالیت‌ها'!$C$6:$C$20,برنامه!O6:O20) -> 0.52222222 | D29: =IF(A29>$C$5,NA(),SUMPRODUCT('فعالیت‌ها'!$C$6:$C$20,'پیشرفت واقعی'!O6:O20)) -> #N/A | E29: =IF(A29>$C$5,"",D29-C29) | F29: =IF(A29>$C$5,"",IFERROR(D29/C29,""))
A30: 14 | B30: =$C$6+7*(A30-1) -> 46193 | C30: =SUMPRODUCT('فعالیت‌ها'!$C$6:$C$20,برنامه!P6:P20) -> 0.57777778 | D30: =IF(A30>$C$5,NA(),SUMPRODUCT('فعالیت‌ها'!$C$6:$C$20,'پیشرفت واقعی'!P6:P20)) -> #N/A | E30: =IF(A30>$C$5,"",D30-C30) | F30: =IF(A30>$C$5,"",IFERROR(D30/C30,""))
A31: 15 | B31: =$C$6+7*(A31-1) -> 46200 | C31: =SUMPRODUCT('فعالیت‌ها'!$C$6:$C$20,برنامه!Q6:Q20) -> 0.63333333 | D31: =IF(A31>$C$5,NA(),SUMPRODUCT('فعالیت‌ها'!$C$6:$C$20,'پیشرفت واقعی'!Q6:Q20)) -> #N/A | E31: =IF(A31>$C$5,"",D31-C31) | F31: =IF(A31>$C$5,"",IFERROR(D31/C31,""))
A32: 16 | B32: =$C$6+7*(A32-1) -> 46207 | C32: =SUMPRODUCT('فعالیت‌ها'!$C$6:$C$20,برنامه!R6:R20) -> 0.66111111 | D32: =IF(A32>$C$5,NA(),SUMPRODUCT('فعالیت‌ها'!$C$6:$C$20,'پیشرفت واقعی'!R6:R20)) -> #N/A | E32: =IF(A32>$C$5,"",D32-C32) | F32: =IF(A32>$C$5,"",IFERROR(D32/C32,""))
A33: 17 | B33: =$C$6+7*(A33-1) -> 46214 | C33: =SUMPRODUCT('فعالیت‌ها'!$C$6:$C$20,برنامه!S6:S20) -> 0.68888889 | D33: =IF(A33>$C$5,NA(),SUMPRODUCT('فعالیت‌ها'!$C$6:$C$20,'پیشرفت واقعی'!S6:S20)) -> #N/A | E33: =IF(A33>$C$5,"",D33-C33) | F33: =IF(A33>$C$5,"",IFERROR(D33/C33,""))
A34: 18 | B34: =$C$6+7*(A34-1) -> 46221 | C34: =SUMPRODUCT('فعالیت‌ها'!$C$6:$C$20,برنامه!T6:T20) -> 0.73809524 | D34: =IF(A34>$C$5,NA(),SUMPRODUCT('فعالیت‌ها'!$C$6:$C$20,'پیشرفت واقعی'!T6:T20)) -> #N/A | E34: =IF(A34>$C$5,"",D34-C34) | F34: =IF(A34>$C$5,"",IFERROR(D34/C34,""))
A35: 19 | B35: =$C$6+7*(A35-1) -> 46228 | C35: =SUMPRODUCT('فعالیت‌ها'!$C$6:$C$20,برنامه!U6:U20) -> 0.78730159 | D35: =IF(A35>$C$5,NA(),SUMPRODUCT('فعالیت‌ها'!$C$6:$C$20,'پیشرفت واقعی'!U6:U20)) -> #N/A | E35: =IF(A35>$C$5,"",D35-C35) | F35: =IF(A35>$C$5,"",IFERROR(D35/C35,""))
A36: 20 | B36: =$C$6+7*(A36-1) -> 46235 | C36: =SUMPRODUCT('فعالیت‌ها'!$C$6:$C$20,برنامه!V6:V20) -> 0.83650794 | D36: =IF(A36>$C$5,NA(),SUMPRODUCT('فعالیت‌ها'!$C$6:$C$20,'پیشرفت واقعی'!V6:V20)) -> #N/A | E36: =IF(A36>$C$5,"",D36-C36) | F36: =IF(A36>$C$5,"",IFERROR(D36/C36,""))
A37: 21 | B37: =$C$6+7*(A37-1) -> 46242 | C37: =SUMPRODUCT('فعالیت‌ها'!$C$6:$C$20,برنامه!W6:W20) -> 0.88571429 | D37: =IF(A37>$C$5,NA(),SUMPRODUCT('فعالیت‌ها'!$C$6:$C$20,'پیشرفت واقعی'!W6:W20)) -> #N/A | E37: =IF(A37>$C$5,"",D37-C37) | F37: =IF(A37>$C$5,"",IFERROR(D37/C37,""))
A38: 22 | B38: =$C$6+7*(A38-1) -> 46249 | C38: =SUMPRODUCT('فعالیت‌ها'!$C$6:$C$20,برنامه!X6:X20) -> 0.90714286 | D38: =IF(A38>$C$5,NA(),SUMPRODUCT('فعالیت‌ها'!$C$6:$C$20,'پیشرفت واقعی'!X6:X20)) -> #N/A | E38: =IF(A38>$C$5,"",D38-C38) | F38: =IF(A38>$C$5,"",IFERROR(D38/C38,""))
A39: 23 | B39: =$C$6+7*(A39-1) -> 46256 | C39: =SUMPRODUCT('فعالیت‌ها'!$C$6:$C$20,برنامه!Y6:Y20) -> 0.92857143 | D39: =IF(A39>$C$5,NA(),SUMPRODUCT('فعالیت‌ها'!$C$6:$C$20,'پیشرفت واقعی'!Y6:Y20)) -> #N/A | E39: =IF(A39>$C$5,"",D39-C39) | F39: =IF(A39>$C$5,"",IFERROR(D39/C39,""))
A40: 24 | B40: =$C$6+7*(A40-1) -> 46263 | C40: =SUMPRODUCT('فعالیت‌ها'!$C$6:$C$20,برنامه!Z6:Z20) -> 0.96666667 | D40: =IF(A40>$C$5,NA(),SUMPRODUCT('فعالیت‌ها'!$C$6:$C$20,'پیشرفت واقعی'!Z6:Z20)) -> #N/A | E40: =IF(A40>$C$5,"",D40-C40) | F40: =IF(A40>$C$5,"",IFERROR(D40/C40,""))
A41: 25 | B41: =$C$6+7*(A41-1) -> 46270 | C41: =SUMPRODUCT('فعالیت‌ها'!$C$6:$C$20,برنامه!AA6:AA20) -> 0.98333333 | D41: =IF(A41>$C$5,NA(),SUMPRODUCT('فعالیت‌ها'!$C$6:$C$20,'پیشرفت واقعی'!AA6:AA20)) -> #N/A | E41: =IF(A41>$C$5,"",D41-C41) | F41: =IF(A41>$C$5,"",IFERROR(D41/C41,""))
A42: 26 | B42: =$C$6+7*(A42-1) -> 46277 | C42: =SUMPRODUCT('فعالیت‌ها'!$C$6:$C$20,برنامه!AB6:AB20) -> 1 | D42: =IF(A42>$C$5,NA(),SUMPRODUCT('فعالیت‌ها'!$C$6:$C$20,'پیشرفت واقعی'!AB6:AB20)) -> #N/A | E42: =IF(A42>$C$5,"",D42-C42) | F42: =IF(A42>$C$5,"",IFERROR(D42/C42,""))
D43: خطای N/A در ستون «واقعی» بعد از هفته‌ی گزارش عمدی است تا خط «واقعی» در نمودار ادامه پیدا نکند.

Sheet راهنما
A1: راهنمای استفاده
A2: AXISLABS · اکسیس لبز — از داده تا تصمیم · instagram.com/axislabs.ir
A4: ۱ | B4: در برگه‌ی «فعالیت‌ها» فعالیت‌های پروژه را بنویسید (تا ۱۵ ردیف): نام، وزن، هفته‌ی شروع و مدت.
A5: ۲ | B5: وزن هر فعالیت سهم آن از کل پروژه است (مثلاً بر اساس بودجه یا نفر-ساعت). جمع وزن‌ها باید ۱۰۰٪ شود.
A6: ۳ | B6: برگه‌ی «برنامه» خودکار ساخته می‌شود: هر فعالیت در طول مدتش به‌صورت خطی پیش می‌رود.
A7: ۴ | B7: هر هفته در برگه‌ی «پیشرفت واقعی» درصد «تجمعی» هر فعالیت را وارد کنید (مثلاً ۴۰٪ یعنی تا امروز ۴۰٪ آن تمام شده).
A8: ۵ | B8: در «داشبورد» هفته‌ی گزارش را عوض کنید؛ منحنی S، انحراف و شاخص SPI به‌روز می‌شوند.
A9: SPI | B9: شاخص عملکرد زمانی = پیشرفت واقعی ÷ پیشرفت برنامه‌ای. ۱ یعنی طبق برنامه، کمتر از ۱ یعنی عقب‌تر از برنامه.
A10: رنگ‌ها | B10: آبی با زمینه‌ی زرد: ورودی شما · سیاه: فرمول · سبز: ارجاع به برگه‌ی دیگر.
A11: نمونه | B11: داده‌های فعلی ساختگی‌اند تا شکل خروجی را ببینید. آن‌ها را با داده‌های پروژه‌ی خودتان جایگزین کنید.
B12: سامانه‌ی کنترل پروژه‌ی کامل (چند پروژه، گانت، هشدار خودکار، گزارش) می‌خواهید؟ در اینستاگرام @axislabs.ir دایرکت بدهید.

Sheet فعالیت‌ها
A1: فهرست فعالیت‌ها و وزن‌ها
A2: AXISLABS · اکسیس لبز — از داده تا تصمیم · instagram.com/axislabs.ir
A3: سلول‌های آبیِ زمینه‌زرد را پر کنید. وزن‌ها باید روی‌هم ۱۰۰٪ شوند. شروع و مدت بر حسب «هفته» از شروع پروژه است.
A5: کد | B5: فعالیت | C5: وزن (٪) | D5: هفته‌ی شروع | E5: مدت (هفته) | F5: هفته‌ی پایان | G5: برنامه تا هفته‌ی گزارش | H5: واقعی تا هفته‌ی گزارش | I5: انحراف
A6: A1 | B6: طراحی و مستندات | C6: 0.08 | D6: 1 | E6: 4 | F6: =IF(OR(D6="",E6=""),"",D6+E6-1) -> 4 | G6: =IF(C6="","",INDEX(برنامه!$C6:$AB6,1,داشبورد!$C$5)) -> 1 | H6: =IF(C6="","",INDEX('پیشرفت واقعی'!$C6:$AB6,1,داشبورد!$C$5)) -> 1 | I6: =IF(C6="","",H6-G6) -> 0
A7: A2 | B7: مجوزها و قراردادها | C7: 0.05 | D7: 2 | E7: 4 | F7: =IF(OR(D7="",E7=""),"",D7+E7-1) -> 5 | G7: =IF(C7="","",INDEX(برنامه!$C7:$AB7,1,داشبورد!$C$5)) -> 1 | H7: =IF(C7="","",INDEX('پیشرفت واقعی'!$C7:$AB7,1,داشبورد!$C$5)) -> 0.95 | I7: =IF(C7="","",H7-G7) -> -0.05
A8: A3 | B8: تأمین مصالح و تجهیزات | C8: 0.12 | D8: 4 | E8: 8 | F8: =IF(OR(D8="",E8=""),"",D8+E8-1) -> 11 | G8: =IF(C8="","",INDEX(برنامه!$C8:$AB8,1,داشبورد!$C$5)) -> 1 | H8: =IF(C8="","",INDEX('پیشرفت واقعی'!$C8:$AB8,1,داشبورد!$C$5)) -> 0.75 | I8: =IF(C8="","",H8-G8) -> -0.25
A9: A4 | B9: آماده‌سازی کارگاه | C9: 0.05 | D9: 5 | E9: 3 | F9: =IF(OR(D9="",E9=""),"",D9+E9-1) -> 7 | G9: =IF(C9="","",INDEX(برنامه!$C9:$AB9,1,داشبورد!$C$5)) -> 1 | H9: =IF(C9="","",INDEX('پیشرفت واقعی'!$C9:$AB9,1,داشبورد!$C$5)) -> 0.9 | I9: =IF(C9="","",H9-G9) -> -0.1
A10: A5 | B10: اجرای فاز ۱ | C10: 0.25 | D10: 7 | E10: 9 | F10: =IF(OR(D10="",E10=""),"",D10+E10-1) -> 15 | G10: =IF(C10="","",INDEX(برنامه!$C10:$AB10,1,داشبورد!$C$5)) -> 0.66666667 | H10: =IF(C10="","",INDEX('پیشرفت واقعی'!$C10:$AB10,1,داشبورد!$C$5)) -> 0.45 | I10: =IF(C10="","",H10-G10) -> -0.21666667
A11: A6 | B11: اجرای فاز ۲ | C11: 0.25 | D11: 13 | E11: 9 | F11: =IF(OR(D11="",E11=""),"",D11+E11-1) -> 21 | G11: =IF(C11="","",INDEX(برنامه!$C11:$AB11,1,داشبورد!$C$5)) -> 0 | H11: =IF(C11="","",INDEX('پیشرفت واقعی'!$C11:$AB11,1,داشبورد!$C$5)) -> 0 | I11: =IF(C11="","",H11-G11) -> 0
A12: A7 | B12: تأسیسات و نازک‌کاری | C12: 0.15 | D12: 18 | E12: 7 | F12: =IF(OR(D12="",E12=""),"",D12+E12-1) -> 24 | G12: =IF(C12="","",INDEX(برنامه!$C12:$AB12,1,داشبورد!$C$5)) -> 0 | H12: =IF(C12="","",INDEX('پیشرفت واقعی'!$C12:$AB12,1,داشبورد!$C$5)) -> 0 | I12: =IF(C12="","",H12-G12) -> 0
A13: A8 | B13: تحویل و مستندسازی | C13: 0.05 | D13: 24 | E13: 3 | F13: =IF(OR(D13="",E13=""),"",D13+E13-1) -> 26 | G13: =IF(C13="","",INDEX(برنامه!$C13:$AB13,1,داشبورد!$C$5)) -> 0 | H13: =IF(C13="","",INDEX('پیشرفت واقعی'!$C13:$AB13,1,داشبورد!$C$5)) -> 0 | I13: =IF(C13="","",H13-G13) -> 0
F14: =IF(OR(D14="",E14=""),"",D14+E14-1) | G14: =IF(C14="","",INDEX(برنامه!$C14:$AB14,1,داشبورد!$C$5)) | H14: =IF(C14="","",INDEX('پیشرفت واقعی'!$C14:$AB14,1,داشبورد!$C$5)) | I14: =IF(C14="","",H14-G14)
F15: =IF(OR(D15="",E15=""),"",D15+E15-1) | G15: =IF(C15="","",INDEX(برنامه!$C15:$AB15,1,داشبورد!$C$5)) | H15: =IF(C15="","",INDEX('پیشرفت واقعی'!$C15:$AB15,1,داشبورد!$C$5)) | I15: =IF(C15="","",H15-G15)
F16: =IF(OR(D16="",E16=""),"",D16+E16-1) | G16: =IF(C16="","",INDEX(برنامه!$C16:$AB16,1,داشبورد!$C$5)) | H16: =IF(C16="","",INDEX('پیشرفت واقعی'!$C16:$AB16,1,داشبورد!$C$5)) | I16: =IF(C16="","",H16-G16)
F17: =IF(OR(D17="",E17=""),"",D17+E17-1) | G17: =IF(C17="","",INDEX(برنامه!$C17:$AB17,1,داشبورد!$C$5)) | H17: =IF(C17="","",INDEX('پیشرفت واقعی'!$C17:$AB17,1,داشبورد!$C$5)) | I17: =IF(C17="","",H17-G17)
F18: =IF(OR(D18="",E18=""),"",D18+E18-1) | G18: =IF(C18="","",INDEX(برنامه!$C18:$AB18,1,داشبورد!$C$5)) | H18: =IF(C18="","",INDEX('پیشرفت واقعی'!$C18:$AB18,1,داشبورد!$C$5)) | I18: =IF(C18="","",H18-G18)
F19: =IF(OR(D19="",E19=""),"",D19+E19-1) | G19: =IF(C19="","",INDEX(برنامه!$C19:$AB19,1,داشبورد!$C$5)) | H19: =IF(C19="","",INDEX('پیشرفت واقعی'!$C19:$AB19,1,داشبورد!$C$5)) | I19: =IF(C19="","",H19-G19)
F20: =IF(OR(D20="",E20=""),"",D20+E20-1) | G20: =IF(C20="","",INDEX(برنامه!$C20:$AB20,1,داشبورد!$C$5)) | H20: =IF(C20="","",INDEX('پیشرفت واقعی'!$C20:$AB20,1,داشبورد!$C$5)) | I20: =IF(C20="","",H20-G20)
B21: جمع وزن‌ها | C21: =SUM(C6:C20) -> 1 | D21: =IF(ROUND(C21,4)=1,"✓ درست است","✗ جمع وزن‌ها باید ۱۰۰٪ باشد") -> ✓ درست است

Sheet برنامه
A1: برنامه — پیشرفت تجمعی برنامه‌ای هر فعالیت
A2: خودکار محاسبه می‌شود (توزیع خطی در طول مدت فعالیت). دست نزنید.
A5: کد | B5: فعالیت | C5: هفته 1 | D5: هفته 2 | E5: هفته 3 | F5: هفته 4 | G5: هفته 5 | H5: هفته 6 | I5: هفته 7 | J5: هفته 8 | K5: هفته 9 | L5: هفته 10 | M5: هفته 11 | N5: هفته 12 | O5: هفته 13 | P5: هفته 14 | Q5: هفته 15 | R5: هفته 16 | S5: هفته 17 | T5: هفته 18 | U5: هفته 19 | V5: هفته 20 | W5: هفته 21 | X5: هفته 22 | Y5: هفته 23 | Z5: هفته 24 | AA5: هفته 25 | AB5: هفته 26
A6: =IF('فعالیت‌ها'!A6="","",'فعالیت‌ها'!A6) -> A1 | B6: =IF('فعالیت‌ها'!B6="","",'فعالیت‌ها'!B6) -> طراحی و مستندات | C6: =IF(OR('فعالیت‌ها'!$D6="",'فعالیت‌ها'!$E6="",'فعالیت‌ها'!$E6=0),0,IF(1<'فعالیت‌ها'!$D6,0,IF(1>='فعالیت‌ها'!$F6,1,(1-'فعالیت‌ها'!$D6+1)/'فعالیت‌ها'!$E6))) -> 0.25 | D6: =IF(OR('فعالیت‌ها'!$D6="",'فعالیت‌ها'!$E6="",'فعالیت‌ها'!$E6=0),0,IF(2<'فعالیت‌ها'!$D6,0,IF(2>='فعالیت‌ها'!$F6,1,(2-'فعالیت‌ها'!$D6+1)/'فعالیت‌ها'!$E6))) -> 0.5 | E6: =IF(OR('فعالیت‌ها'!$D6="",'فعالیت‌ها'!$E6="",'فعالیت‌ها'!$E6=0),0,IF(3<'فعالیت‌ها'!$D6,0,IF(3>='فعالیت‌ها'!$F6,1,(3-'فعالیت‌ها'!$D6+1)/'فعالیت‌ها'!$E6))) -> 0.75 | F6: =IF(OR('فعالیت‌ها'!$D6="",'فعالیت‌ها'!$E6="",'فعالیت‌ها'!$E6=0),0,IF(4<'فعالیت‌ها'!$D6,0,IF(4>='فعالیت‌ها'!$F6,1,(4-'فعالیت‌ها'!$D6+1)/'فعالیت‌ها'!$E6))) -> 1 | G6: =IF(OR('فعالیت‌ها'!$D6="",'فعالیت‌ها'!$E6="",'فعالیت‌ها'!$E6=0),0,IF(5<'فعالیت‌ها'!$D6,0,IF(5>='فعالیت‌ها'!$F6,1,(5-'فعالیت‌ها'!$D6+1)/'فعالیت‌ها'!$E6))) -> 1 | H6: =IF(OR('فعالیت‌ها'!$D6="",'فعالیت‌ها'!$E6="",'فعالیت‌ها'!$E6=0),0,IF(6<'فعالیت‌ها'!$D6,0,IF(6>='فعالیت‌ها'!$F6,1,(6-'فعالیت‌ها'!$D6+1)/'فعالیت‌ها'!$E6))) -> 1 | I6: =IF(OR('فعالیت‌ها'!$D6="",'فعالیت‌ها'!$E6="",'فعالیت‌ها'!$E6=0),0,IF(7<'فعالیت‌ها'!$D6,0,IF(7>='فعالیت‌ها'!$F6,1,(7-'فعالیت‌ها'!$D6+1)/'فعالیت‌ها'!$E6))) -> 1 | J6: =IF(OR('فعالیت‌ها'!$D6="",'فعالیت‌ها'!$E6="",'فعالیت‌ها'!$E6=0),0,IF(8<'فعالیت‌ها'!$D6,0,IF(8>='فعالیت‌ها'!$F6,1,(8-'فعالیت‌ها'!$D6+1)/'فعالیت‌ها'!$E6))) -> 1 | K6: =IF(OR('فعالیت‌ها'!$D6="",'فعالیت‌ها'!$E6="",'فعالیت‌ها'!$E6=0),0,IF(9<'فعالیت‌ها'!$D6,0,IF(9>='فعالیت‌ها'!$F6,1,(9-'فعالیت‌ها'!$D6+1)/'فعالیت‌ها'!$E6))) -> 1 | L6: =IF(OR('فعالیت‌ها'!$D6="",'فعالیت‌ها'!$E6="",'فعالیت‌ها'!$E6=0),0,IF(10<'فعالیت‌ها'!$D6,0,IF(10>='فعالیت‌ها'!$F6,1,(10-'فعالیت‌ها'!$D6+1)/'فعالیت‌ها'!$E6))) -> 1 | M6: =IF(OR('فعالیت‌ها'!$D6="",'فعالیت‌ها'!$E6="",'فعالیت‌ها'!$E6=0),0,IF(11<'فعالیت‌ها'!$D6,0,IF(11>='فعالیت‌ها'!$F6,1,(11-'فعالیت‌ها'!$D6+1)/'فعالیت‌ها'!$E6))) -> 1 | N6: =IF(OR('فعالیت‌ها'!$D6="",'فعالیت‌ها'!$E6="",'فعالیت‌ها'!$E6=0),0,IF(12<'فعالیت‌ها'!$D6,0,IF(12>='فعالیت‌ها'!$F6,1,(12-'فعالیت‌ها'!$D6+1)/'فعالیت‌ها'!$E6))) -> 1 | O6: =IF(OR('فعالیت‌ها'!$D6="",'فعالیت‌ها'!$E6="",'فعالیت‌ها'!$E6=0),0,IF(13<'فعالیت‌ها'!$D6,0,IF(13>='فعالیت‌ها'!$F6,1,(13-'فعالیت‌ها'!$D6+1)/'فعالیت‌ها'!$E6))) -> 1 | P6: =IF(OR('فعالیت‌ها'!$D6="",'فعالیت‌ها'!$E6="",'فعالیت‌ها'!$E6=0),0,IF(14<'فعالیت‌ها'!$D6,0,IF(14>='فعالیت‌ها'!$F6,1,(14-'فعالیت‌ها'!$D6+1)/'فعالیت‌ها'!$E6))) -> 1 | Q6: =IF(OR('فعالیت‌ها'!$D6="",'فعالیت‌ها'!$E6="",'فعالیت‌ها'!$E6=0),0,IF(15<'فعالیت‌ها'!$D6,0,IF(15>='فعالیت‌ها'!$F6,1,(15-'فعالیت‌ها'!$D6+1)/'فعالیت‌ها'!$E6))) -> 1 | R6: =IF(OR('فعالیت‌ها'!$D6="",'فعالیت‌ها'!$E6="",'فعالیت‌ها'!$E6=0),0,IF(16<'فعالیت‌ها'!$D6,0,IF(16>='فعالیت‌ها'!$F6,1,(16-'فعالیت‌ها'!$D6+1)/'فعالیت‌ها'!$E6))) -> 1 | S6: =IF(OR('فعالیت‌ها'!$D6="",'فعالیت‌ها'!$E6="",'فعالیت‌ها'!$E6=0),0,IF(17<'فعالیت‌ها'!$D6,0,IF(17>='فعالیت‌ها'!$F6,1,(17-'فعالیت‌ها'!$D6+1)/'فعالیت‌ها'!$E6))) -> 1 | T6: =IF(OR('فعالیت‌ها'!$D6="",'فعالیت‌ها'!$E6="",'فعالیت‌ها'!$E6=0),0,IF(18<'فعالیت‌ها'!$D6,0,IF(18>='فعالیت‌ها'!$F6,1,(18-'فعالیت‌ها'!$D6+1)/'فعالیت‌ها'!$E6))) -> 1 | U6: =IF(OR('فعالیت‌ها'!$D6="",'فعالیت‌ها'!$E6="",'فعالیت‌ها'!$E6=0),0,IF(19<'فعالیت‌ها'!$D6,0,IF(19>='فعالیت‌ها'!$F6,1,(19-'فعالیت‌ها'!$D6+1)/'فعالیت‌ها'!$E6))) -> 1 | V6: =IF(OR('فعالیت‌ها'!$D6="",'فعالیت‌ها'!$E6="",'فعالیت‌ها'!$E6=0),0,IF(20<'فعالیت‌ها'!$D6,0,IF(20>='فعالیت‌ها'!$F6,1,(20-'فعالیت‌ها'!$D6+1)/'فعالیت‌ها'!$E6))) -> 1 | W6: =IF(OR('فعالیت‌ها'!$D6="",'فعالیت‌ها'!$E6="",'فعالیت‌ها'!$E6=0),0,IF(21<'فعالیت‌ها'!$D6,0,IF(21>='فعالیت‌ها'!$F6,1,(21-'فعالیت‌ها'!$D6+1)/'فعالیت‌ها'!$E6))) -> 1 | X6: =IF(OR('فعالیت‌ها'!$D6="",'فعالیت‌ها'!$E6="",'فعالیت‌ها'!$E6=0),0,IF(22<'فعالیت‌ها'!$D6,0,IF(22>='فعالیت‌ها'!$F6,1,(22-'فعالیت‌ها'!$D6+1)/'فعالیت‌ها'!$E6))) -> 1 | Y6: =IF(OR('فعالیت‌ها'!$D6="",'فعالیت‌ها'!$E6="",'فعالیت‌ها'!$E6=0),0,IF(23<'فعالیت‌ها'!$D6,0,IF(23>='فعالیت‌ها'!$F6,1,(23-'فعالیت‌ها'!$D6+1)/'فعالیت‌ها'!$E6))) -> 1 | Z6: =IF(OR('فعالیت‌ها'!$D6="",'فعالیت‌ها'!$E6="",'فعالیت‌ها'!$E6=0),0,IF(24<'فعالیت‌ها'!$D6,0,IF(24>='فعالیت‌ها'!$F6,1,(24-'فعالیت‌ها'!$D6+1)/'فعالیت‌ها'!$E6))) -> 1 | AA6: =IF(OR('فعالیت‌ها'!$D6="",'فعالیت‌ها'!$E6="",'فعالیت‌ها'!$E6=0),0,IF(25<'فعالیت‌ها'!$D6,0,IF(25>='فعالیت‌ها'!$F6,1,(25-'فعالیت‌ها'!$D6+1)/'فعالیت‌ها'!$E6))) -> 1 | AB6: =IF(OR('فعالیت‌ها'!$D6="",'فعالیت‌ها'!$E6="",'فعالیت‌ها'!$E6=0),0,IF(26<'فعالیت‌ها'!$D6,0,IF(26>='فعالیت‌ها'!$F6,1,(26-'فعالیت‌ها'!$D6+1)/'فعالیت‌ها'!$E6))) -> 1
A7: =IF('فعالیت‌ها'!A7="","",'فعالیت‌ها'!A7) -> A2 | B7: =IF('فعالیت‌ها'!B7="","",'فعالیت‌ها'!B7) -> مجوزها و قراردادها | C7: =IF(OR('فعالیت‌ها'!$D7="",'فعالیت‌ها'!$E7="",'فعالیت‌ها'!$E7=0),0,IF(1<'فعالیت‌ها'!$D7,0,IF(1>='فعالیت‌ها'!$F7,1,(1-'فعالیت‌ها'!$D7+1)/'فعالیت‌ها'!$E7))) -> 0 | D7: =IF(OR('فعالیت‌ها'!$D7="",'فعالیت‌ها'!$E7="",'فعالیت‌ها'!$E7=0),0,IF(2<'فعالیت‌ها'!$D7,0,IF(2>='فعالیت‌ها'!$F7,1,(2-'فعالیت‌ها'!$D7+1)/'فعالیت‌ها'!$E7))) -> 0.25 | E7: =IF(OR('فعالیت‌ها'!$D7="",'فعالیت‌ها'!$E7="",'فعالیت‌ها'!$E7=0),0,IF(3<'فعالیت‌ها'!$D7,0,IF(3>='فعالیت‌ها'!$F7,1,(3-'فعالیت‌ها'!$D7+1)/'فعالیت‌ها'!$E7))) -> 0.5 | F7: =IF(OR('فعالیت‌ها'!$D7="",'فعالیت‌ها'!$E7="",'فعالیت‌ها'!$E7=0),0,IF(4<'فعالیت‌ها'!$D7,0,IF(4>='فعالیت‌ها'!$F7,1,(4-'فعالیت‌ها'!$D7+1)/'فعالیت‌ها'!$E7))) -> 0.75 | G7: =IF(OR('فعالیت‌ها'!$D7="",'فعالیت‌ها'!$E7="",'فعالیت‌ها'!$E7=0),0,IF(5<'فعالیت‌ها'!$D7,0,IF(5>='فعالیت‌ها'!$F7,1,(5-'فعالیت‌ها'!$D7+1)/'فعالیت‌ها'!$E7))) -> 1 | H7: =IF(OR('فعالیت‌ها'!$D7="",'فعالیت‌ها'!$E7="",'فعالیت‌ها'!$E7=0),0,IF(6<'فعالیت‌ها'!$D7,0,IF(6>='فعالیت‌ها'!$F7,1,(6-'فعالیت‌ها'!$D7+1)/'فعالیت‌ها'!$E7))) -> 1 | I7: =IF(OR('فعالیت‌ها'!$D7="",'فعالیت‌ها'!$E7="",'فعالیت‌ها'!$E7=0),0,IF(7<'فعالیت‌ها'!$D7,0,IF(7>='فعالیت‌ها'!$F7,1,(7-'فعالیت‌ها'!$D7+1)/'فعالیت‌ها'!$E7))) -> 1 | J7: =IF(OR('فعالیت‌ها'!$D7="",'فعالیت‌ها'!$E7="",'فعالیت‌ها'!$E7=0),0,IF(8<'فعالیت‌ها'!$D7,0,IF(8>='فعالیت‌ها'!$F7,1,(8-'فعالیت‌ها'!$D7+1)/'فعالیت‌ها'!$E7))) -> 1 | K7: =IF(OR('فعالیت‌ها'!$D7="",'فعالیت‌ها'!$E7="",'فعالیت‌ها'!$E7=0),0,IF(9<'فعالیت‌ها'!$D7,0,IF(9>='فعالیت‌ها'!$F7,1,(9-'فعالیت‌ها'!$D7+1)/'فعالیت‌ها'!$E7))) -> 1 | L7: =IF(OR('فعالیت‌ها'!$D7="",'فعالیت‌ها'!$E7="",'فعالیت‌ها'!$E7=0),0,IF(10<'فعالیت‌ها'!$D7,0,IF(10>='فعالیت‌ها'!$F7,1,(10-'فعالیت‌ها'!$D7+1)/'فعالیت‌ها'!$E7))) -> 1 | M7: =IF(OR('فعالیت‌ها'!$D7="",'فعالیت‌ها'!$E7="",'فعالیت‌ها'!$E7=0),0,IF(11<'فعالیت‌ها'!$D7,0,IF(11>='فعالیت‌ها'!$F7,1,(11-'فعالیت‌ها'!$D7+1)/'فعالیت‌ها'!$E7))) -> 1 | N7: =IF(OR('فعالیت‌ها'!$D7="",'فعالیت‌ها'!$E7="",'فعالیت‌ها'!$E7=0),0,IF(12<'فعالیت‌ها'!$D7,0,IF(12>='فعالیت‌ها'!$F7,1,(12-'فعالیت‌ها'!$D7+1)/'فعالیت‌ها'!$E7))) -> 1 | O7: =IF(OR('فعالیت‌ها'!$D7="",'فعالیت‌ها'!$E7="",'فعالیت‌ها'!$E7=0),0,IF(13<'فعالیت‌ها'!$D7,0,IF(13>='فعالیت‌ها'!$F7,1,(13-'فعالیت‌ها'!$D7+1)/'فعالیت‌ها'!$E7))) -> 1 | P7: =IF(OR('فعالیت‌ها'!$D7="",'فعالیت‌ها'!$E7="",'فعالیت‌ها'!$E7=0),0,IF(14<'فعالیت‌ها'!$D7,0,IF(14>='فعالیت‌ها'!$F7,1,(14-'فعالیت‌ها'!$D7+1)/'فعالیت‌ها'!$E7))) -> 1 | Q7: =IF(OR('فعالیت‌ها'!$D7="",'فعالیت‌ها'!$E7="",'فعالیت‌ها'!$E7=0),0,IF(15<'فعالیت‌ها'!$D7,0,IF(15>='فعالیت‌ها'!$F7,1,(15-'فعالیت‌ها'!$D7+1)/'فعالیت‌ها'!$E7))) -> 1 | R7: =IF(OR('فعالیت‌ها'!$D7="",'فعالیت‌ها'!$E7="",'فعالیت‌ها'!$E7=0),0,IF(16<'فعالیت‌ها'!$D7,0,IF(16>='فعالیت‌ها'!$F7,1,(16-'فعالیت‌ها'!$D7+1)/'فعالیت‌ها'!$E7))) -> 1 | S7: =IF(OR('فعالیت‌ها'!$D7="",'فعالیت‌ها'!$E7="",'فعالیت‌ها'!$E7=0),0,IF(17<'فعالیت‌ها'!$D7,0,IF(17>='فعالیت‌ها'!$F7,1,(17-'فعالیت‌ها'!$D7+1)/'فعالیت‌ها'!$E7))) -> 1 | T7: =IF(OR('فعالیت‌ها'!$D7="",'فعالیت‌ها'!$E7="",'فعالیت‌ها'!$E7=0),0,IF(18<'فعالیت‌ها'!$D7,0,IF(18>='فعالیت‌ها'!$F7,1,(18-'فعالیت‌ها'!$D7+1)/'فعالیت‌ها'!$E7))) -> 1 | U7: =IF(OR('فعالیت‌ها'!$D7="",'فعالیت‌ها'!$E7="",'فعالیت‌ها'!$E7=0),0,IF(19<'فعالیت‌ها'!$D7,0,IF(19>='فعالیت‌ها'!$F7,1,(19-'فعالیت‌ها'!$D7+1)/'فعالیت‌ها'!$E7))) -> 1 | V7: =IF(OR('فعالیت‌ها'!$D7="",'فعالیت‌ها'!$E7="",'فعالیت‌ها'!$E7=0),0,IF(20<'فعالیت‌ها'!$D7,0,IF(20>='فعالیت‌ها'!$F7,1,(20-'فعالیت‌ها'!$D7+1)/'فعالیت‌ها'!$E7))) -> 1 | W7: =IF(OR('فعالیت‌ها'!$D7="",'فعالیت‌ها'!$E7="",'فعالیت‌ها'!$E7=0),0,IF(21<'فعالیت‌ها'!$D7,0,IF(21>='فعالیت‌ها'!$F7,1,(21-'فعالیت‌ها'!$D7+1)/'فعالیت‌ها'!$E7))) -> 1 | X7: =IF(OR('فعالیت‌ها'!$D7="",'فعالیت‌ها'!$E7="",'فعالیت‌ها'!$E7=0),0,IF(22<'فعالیت‌ها'!$D7,0,IF(22>='فعالیت‌ها'!$F7,1,(22-'فعالیت‌ها'!$D7+1)/'فعالیت‌ها'!$E7))) -> 1 | Y7: =IF(OR('فعالیت‌ها'!$D7="",'فعالیت‌ها'!$E7="",'فعالیت‌ها'!$E7=0),0,IF(23<'فعالیت‌ها'!$D7,0,IF(23>='فعالیت‌ها'!$F7,1,(23-'فعالیت‌ها'!$D7+1)/'فعالیت‌ها'!$E7))) -> 1 | Z7: =IF(OR('فعالیت‌ها'!$D7="",'فعالیت‌ها'!$E7="",'فعالیت‌ها'!$E7=0),0,IF(24<'فعالیت‌ها'!$D7,0,IF(24>='فعالیت‌ها'!$F7,1,(24-'فعالیت‌ها'!$D7+1)/'فعالیت‌ها'!$E7))) -> 1 | AA7: =IF(OR('فعالیت‌ها'!$D7="",'فعالیت‌ها'!$E7="",'فعالیت‌ها'!$E7=0),0,IF(25<'فعالیت‌ها'!$D7,0,IF(25>='فعالیت‌ها'!$F7,1,(25-'فعالیت‌ها'!$D7+1)/'فعالیت‌ها'!$E7))) -> 1 | AB7: =IF(OR('فعالیت‌ها'!$D7="",'فعالیت‌ها'!$E7="",'فعالیت‌ها'!$E7=0),0,IF(26<'فعالیت‌ها'!$D7,0,IF(26>='فعالیت‌ها'!$F7,1,(26-'فعالیت‌ها'!$D7+1)/'فعالیت‌ها'!$E7))) -> 1
A8: =IF('فعالیت‌ها'!A8="","",'فعالیت‌ها'!A8) -> A3 | B8: =IF('فعالیت‌ها'!B8="","",'فعالیت‌ها'!B8) -> تأمین مصالح و تجهیزات | C8: =IF(OR('فعالیت‌ها'!$D8="",'فعالیت‌ها'!$E8="",'فعالیت‌ها'!$E8=0),0,IF(1<'فعالیت‌ها'!$D8,0,IF(1>='فعالیت‌ها'!$F8,1,(1-'فعالیت‌ها'!$D8+1)/'فعالیت‌ها'!$E8))) -> 0 | D8: =IF(OR('فعالیت‌ها'!$D8="",'فعالیت‌ها'!$E8="",'فعالیت‌ها'!$E8=0),0,IF(2<'فعالیت‌ها'!$D8,0,IF(2>='فعالیت‌ها'!$F8,1,(2-'فعالیت‌ها'!$D8+1)/'فعالیت‌ها'!$E8))) -> 0 | E8: =IF(OR('فعالیت‌ها'!$D8="",'فعالیت‌ها'!$E8="",'فعالیت‌ها'!$E8=0),0,IF(3<'فعالیت‌ها'!$D8,0,IF(3>='فعالیت‌ها'!$F8,1,(3-'فعالیت‌ها'!$D8+1)/'فعالیت‌ها'!$E8))) -> 0 | F8: =IF(OR('فعالیت‌ها'!$D8="",'فعالیت‌ها'!$E8="",'فعالیت‌ها'!$E8=0),0,IF(4<'فعالیت‌ها'!$D8,0,IF(4>='فعالیت‌ها'!$F8,1,(4-'فعالیت‌ها'!$D8+1)/'فعالیت‌ها'!$E8))) -> 0.125 | G8: =IF(OR('فعالیت‌ها'!$D8="",'فعالیت‌ها'!$E8="",'فعالیت‌ها'!$E8=0),0,IF(5<'فعالیت‌ها'!$D8,0,IF(5>='فعالیت‌ها'!$F8,1,(5-'فعالیت‌ها'!$D8+1)/'فعالیت‌ها'!$E8))) -> 0.25 | H8: =IF(OR('فعالیت‌ها'!$D8="",'فعالیت‌ها'!$E8="",'فعالیت‌ها'!$E8=0),0,IF(6<'فعالیت‌ها'!$D8,0,IF(6>='فعالیت‌ها'!$F8,1,(6-'فعالیت‌ها'!$D8+1)/'فعالیت‌ها'!$E8))) -> 0.375 | I8: =IF(OR('فعالیت‌ها'!$D8="",'فعالیت‌ها'!$E8="",'فعالیت‌ها'!$E8=0),0,IF(7<'فعالیت‌ها'!$D8,0,IF(7>='فعالیت‌ها'!$F8,1,(7-'فعالیت‌ها'!$D8+1)/'فعالیت‌ها'!$E8))) -> 0.5 | J8: =IF(OR('فعالیت‌ها'!$D8="",'فعالیت‌ها'!$E8="",'فعالیت‌ها'!$E8=0),0,IF(8<'فعالیت‌ها'!$D8,0,IF(8>='فعالیت‌ها'!$F8,1,(8-'فعالیت‌ها'!$D8+1)/'فعالیت‌ها'!$E8))) -> 0.625 | K8: =IF(OR('فعالیت‌ها'!$D8="",'فعالیت‌ها'!$E8="",'فعالیت‌ها'!$E8=0),0,IF(9<'فعالیت‌ها'!$D8,0,IF(9>='فعالیت‌ها'!$F8,1,(9-'فعالیت‌ها'!$D8+1)/'فعالیت‌ها'!$E8))) -> 0.75 | L8: =IF(OR('فعالیت‌ها'!$D8="",'فعالیت‌ها'!$E8="",'فعالیت‌ها'!$E8=0),0,IF(10<'فعالیت‌ها'!$D8,0,IF(10>='فعالیت‌ها'!$F8,1,(10-'فعالیت‌ها'!$D8+1)/'فعالیت‌ها'!$E8))) -> 0.875 | M8: =IF(OR('فعالیت‌ها'!$D8="",'فعالیت‌ها'!$E8="",'فعالیت‌ها'!$E8=0),0,IF(11<'فعالیت‌ها'!$D8,0,IF(11>='فعالیت‌ها'!$F8,1,(11-'فعالیت‌ها'!$D8+1)/'فعالیت‌ها'!$E8))) -> 1 | N8: =IF(OR('فعالیت‌ها'!$D8="",'فعالیت‌ها'!$E8="",'فعالیت‌ها'!$E8=0),0,IF(12<'فعالیت‌ها'!$D8,0,IF(12>='فعالیت‌ها'!$F8,1,(12-'فعالیت‌ها'!$D8+1)/'فعالیت‌ها'!$E8))) -> 1 | O8: =IF(OR('فعالیت‌ها'!$D8="",'فعالیت‌ها'!$E8="",'فعالیت‌ها'!$E8=0),0,IF(13<'فعالیت‌ها'!$D8,0,IF(13>='فعالیت‌ها'!$F8,1,(13-'فعالیت‌ها'!$D8+1)/'فعالیت‌ها'!$E8))) -> 1 | P8: =IF(OR('فعالیت‌ها'!$D8="",'فعالیت‌ها'!$E8="",'فعالیت‌ها'!$E8=0),0,IF(14<'فعالیت‌ها'!$D8,0,IF(14>='فعالیت‌ها'!$F8,1,(14-'فعالیت‌ها'!$D8+1)/'فعالیت‌ها'!$E8))) -> 1 | Q8: =IF(OR('فعالیت‌ها'!$D8="",'فعالیت‌ها'!$E8="",'فعالیت‌ها'!$E8=0),0,IF(15<'فعالیت‌ها'!$D8,0,IF(15>='فعالیت‌ها'!$F8,1,(15-'فعالیت‌ها'!$D8+1)/'فعالیت‌ها'!$E8))) -> 1 | R8: =IF(OR('فعالیت‌ها'!$D8="",'فعالیت‌ها'!$E8="",'فعالیت‌ها'!$E8=0),0,IF(16<'فعالیت‌ها'!$D8,0,IF(16>='فعالیت‌ها'!$F8,1,(16-'فعالیت‌ها'!$D8+1)/'فعالیت‌ها'!$E8))) -> 1 | S8: =IF(OR('فعالیت‌ها'!$D8="",'فعالیت‌ها'!$E8="",'فعالیت‌ها'!$E8=0),0,IF(17<'فعالیت‌ها'!$D8,0,IF(17>='فعالیت‌ها'!$F8,1,(17-'فعالیت‌ها'!$D8+1)/'فعالیت‌ها'!$E8))) -> 1 | T8: =IF(OR('فعالیت‌ها'!$D8="",'فعالیت‌ها'!$E8="",'فعالیت‌ها'!$E8=0),0,IF(18<'فعالیت‌ها'!$D8,0,IF(18>='فعالیت‌ها'!$F8,1,(18-'فعالیت‌ها'!$D8+1)/'فعالیت‌ها'!$E8))) -> 1 | U8: =IF(OR('فعالیت‌ها'!$D8="",'فعالیت‌ها'!$E8="",'فعالیت‌ها'!$E8=0),0,IF(19<'فعالیت‌ها'!$D8,0,IF(19>='فعالیت‌ها'!$F8,1,(19-'فعالیت‌ها'!$D8+1)/'فعالیت‌ها'!$E8))) -> 1 | V8: =IF(OR('فعالیت‌ها'!$D8="",'فعالیت‌ها'!$E8="",'فعالیت‌ها'!$E8=0),0,IF(20<'فعالیت‌ها'!$D8,0,IF(20>='فعالیت‌ها'!$F8,1,(20-'فعالیت‌ها'!$D8+1)/'فعالیت‌ها'!$E8))) -> 1 | W8: =IF(OR('فعالیت‌ها'!$D8="",'فعالیت‌ها'!$E8="",'فعالیت‌ها'!$E8=0),0,IF(21<'فعالیت‌ها'!$D8,0,IF(21>='فعالیت‌ها'!$F8,1,(21-'فعالیت‌ها'!$D8+1)/'فعالیت‌ها'!$E8))) -> 1 | X8: =IF(OR('فعالیت‌ها'!$D8="",'فعالیت‌ها'!$E8="",'فعالیت‌ها'!$E8=0),0,IF(22<'فعالیت‌ها'!$D8,0,IF(22>='فعالیت‌ها'!$F8,1,(22-'فعالیت‌ها'!$D8+1)/'فعالیت‌ها'!$E8))) -> 1 | Y8: =IF(OR('فعالیت‌ها'!$D8="",'فعالیت‌ها'!$E8="",'فعالیت‌ها'!$E8=0),0,IF(23<'فعالیت‌ها'!$D8,0,IF(23>='فعالیت‌ها'!$F8,1,(23-'فعالیت‌ها'!$D8+1)/'فعالیت‌ها'!$E8))) -> 1 | Z8: =IF(OR('فعالیت‌ها'!$D8="",'فعالیت‌ها'!$E8="",'فعالیت‌ها'!$E8=0),0,IF(24<'فعالیت‌ها'!$D8,0,IF(24>='فعالیت‌ها'!$F8,1,(24-'فعالیت‌ها'!$D8+1)/'فعالیت‌ها'!$E8))) -> 1 | AA8: =IF(OR('فعالیت‌ها'!$D8="",'فعالیت‌ها'!$E8="",'فعالیت‌ها'!$E8=0),0,IF(25<'فعالیت‌ها'!$D8,0,IF(25>='فعالیت‌ها'!$F8,1,(25-'فعالیت‌ها'!$D8+1)/'فعالیت‌ها'!$E8))) -> 1 | AB8: =IF(OR('فعالیت‌ها'!$D8="",'فعالیت‌ها'!$E8="",'فعالیت‌ها'!$E8=0),0,IF(26<'فعالیت‌ها'!$D8,0,IF(26>='فعالیت‌ها'!$F8,1,(26-'فعالیت‌ها'!$D8+1)/'فعالیت‌ها'!$E8))) -> 1
A9: =IF('فعالیت‌ها'!A9="","",'فعالیت‌ها'!A9) -> A4 | B9: =IF('فعالیت‌ها'!B9="","",'فعالیت‌ها'!B9) -> آماده‌سازی کارگاه | C9: =IF(OR('فعالیت‌ها'!$D9="",'فعالیت‌ها'!$E9="",'فعالیت‌ها'!$E9=0),0,IF(1<'فعالیت‌ها'!$D9,0,IF(1>='فعالیت‌ها'!$F9,1,(1-'فعالیت‌ها'!$D9+1)/'فعالیت‌ها'!$E9))) -> 0 | D9: =IF(OR('فعالیت‌ها'!$D9="",'فعالیت‌ها'!$E9="",'فعالیت‌ها'!$E9=0),0,IF(2<'فعالیت‌ها'!$D9,0,IF(2>='فعالیت‌ها'!$F9,1,(2-'فعالیت‌ها'!$D9+1)/'فعالیت‌ها'!$E9))) -> 0 | E9: =IF(OR('فعالیت‌ها'!$D9="",'فعالیت‌ها'!$E9="",'فعالیت‌ها'!$E9=0),0,IF(3<'فعالیت‌ها'!$D9,0,IF(3>='فعالیت‌ها'!$F9,1,(3-'فعالیت‌ها'!$D9+1)/'فعالیت‌ها'!$E9))) -> 0 | F9: =IF(OR('فعالیت‌ها'!$D9="",'فعالیت‌ها'!$E9="",'فعالیت‌ها'!$E9=0),0,IF(4<'فعالیت‌ها'!$D9,0,IF(4>='فعالیت‌ها'!$F9,1,(4-'فعالیت‌ها'!$D9+1)/'فعالیت‌ها'!$E9))) -> 0 | G9: =IF(OR('فعالیت‌ها'!$D9="",'فعالیت‌ها'!$E9="",'فعالیت‌ها'!$E9=0),0,IF(5<'فعالیت‌ها'!$D9,0,IF(5>='فعالیت‌ها'!$F9,1,(5-'فعالیت‌ها'!$D9+1)/'فعالیت‌ها'!$E9))) -> 0.33333333 | H9: =IF(OR('فعالیت‌ها'!$D9="",'فعالیت‌ها'!$E9="",'فعالیت‌ها'!$E9=0),0,IF(6<'فعالیت‌ها'!$D9,0,IF(6>='فعالیت‌ها'!$F9,1,(6-'فعالیت‌ها'!$D9+1)/'فعالیت‌ها'!$E9))) -> 0.66666667 | I9: =IF(OR('فعالیت‌ها'!$D9="",'فعالیت‌ها'!$E9="",'فعالیت‌ها'!$E9=0),0,IF(7<'فعالیت‌ها'!$D9,0,IF(7>='فعالیت‌ها'!$F9,1,(7-'فعالیت‌ها'!$D9+1)/'فعالیت‌ها'!$E9))) -> 1 | J9: =IF(OR('فعالیت‌ها'!$D9="",'فعالیت‌ها'!$E9="",'فعالیت‌ها'!$E9=0),0,IF(8<'فعالیت‌ها'!$D9,0,IF(8>='فعالیت‌ها'!$F9,1,(8-'فعالیت‌ها'!$D9+1)/'فعالیت‌ها'!$E9))) -> 1 | K9: =IF(OR('فعالیت‌ها'!$D9="",'فعالیت‌ها'!$E9="",'فعالیت‌ها'!$E9=0),0,IF(9<'فعالیت‌ها'!$D9,0,IF(9>='فعالیت‌ها'!$F9,1,(9-'فعالیت‌ها'!$D9+1)/'فعالیت‌ها'!$E9))) -> 1 | L9: =IF(OR('فعالیت‌ها'!$D9="",'فعالیت‌ها'!$E9="",'فعالیت‌ها'!$E9=0),0,IF(10<'فعالیت‌ها'!$D9,0,IF(10>='فعالیت‌ها'!$F9,1,(10-'فعالیت‌ها'!$D9+1)/'فعالیت‌ها'!$E9))) -> 1 | M9: =IF(OR('فعالیت‌ها'!$D9="",'فعالیت‌ها'!$E9="",'فعالیت‌ها'!$E9=0),0,IF(11<'فعالیت‌ها'!$D9,0,IF(11>='فعالیت‌ها'!$F9,1,(11-'فعالیت‌ها'!$D9+1)/'فعالیت‌ها'!$E9))) -> 1 | N9: =IF(OR('فعالیت‌ها'!$D9="",'فعالیت‌ها'!$E9="",'فعالیت‌ها'!$E9=0),0,IF(12<'فعالیت‌ها'!$D9,0,IF(12>='فعالیت‌ها'!$F9,1,(12-'فعالیت‌ها'!$D9+1)/'فعالیت‌ها'!$E9))) -> 1 | O9: =IF(OR('فعالیت‌ها'!$D9="",'فعالیت‌ها'!$E9="",'فعالیت‌ها'!$E9=0),0,IF(13<'فعالیت‌ها'!$D9,0,IF(13>='فعالیت‌ها'!$F9,1,(13-'فعالیت‌ها'!$D9+1)/'فعالیت‌ها'!$E9))) -> 1 | P9: =IF(OR('فعالیت‌ها'!$D9="",'فعالیت‌ها'!$E9="",'فعالیت‌ها'!$E9=0),0,IF(14<'فعالیت‌ها'!$D9,0,IF(14>='فعالیت‌ها'!$F9,1,(14-'فعالیت‌ها'!$D9+1)/'فعالیت‌ها'!$E9))) -> 1 | Q9: =IF(OR('فعالیت‌ها'!$D9="",'فعالیت‌ها'!$E9="",'فعالیت‌ها'!$E9=0),0,IF(15<'فعالیت‌ها'!$D9,0,IF(15>='فعالیت‌ها'!$F9,1,(15-'فعالیت‌ها'!$D9+1)/'فعالیت‌ها'!$E9))) -> 1 | R9: =IF(OR('فعالیت‌ها'!$D9="",'فعالیت‌ها'!$E9="",'فعالیت‌ها'!$E9=0),0,IF(16<'فعالیت‌ها'!$D9,0,IF(16>='فعالیت‌ها'!$F9,1,(16-'فعالیت‌ها'!$D9+1)/'فعالیت‌ها'!$E9))) -> 1 | S9: =IF(OR('فعالیت‌ها'!$D9="",'فعالیت‌ها'!$E9="",'فعالیت‌ها'!$E9=0),0,IF(17<'فعالیت‌ها'!$D9,0,IF(17>='فعالیت‌ها'!$F9,1,(17-'فعالیت‌ها'!$D9+1)/'فعالیت‌ها'!$E9))) -> 1 | T9: =IF(OR('فعالیت‌ها'!$D9="",'فعالیت‌ها'!$E9="",'فعالیت‌ها'!$E9=0),0,IF(18<'فعالیت‌ها'!$D9,0,IF(18>='فعالیت‌ها'!$F9,1,(18-'فعالیت‌ها'!$D9+1)/'فعالیت‌ها'!$E9))) -> 1 | U9: =IF(OR('فعالیت‌ها'!$D9="",'فعالیت‌ها'!$E9="",'فعالیت‌ها'!$E9=0),0,IF(19<'فعالیت‌ها'!$D9,0,IF(19>='فعالیت‌ها'!$F9,1,(19-'فعالیت‌ها'!$D9+1)/'فعالیت‌ها'!$E9))) -> 1 | V9: =IF(OR('فعالیت‌ها'!$D9="",'فعالیت‌ها'!$E9="",'فعالیت‌ها'!$E9=0),0,IF(20<'فعالیت‌ها'!$D9,0,IF(20>='فعالیت‌ها'!$F9,1,(20-'فعالیت‌ها'!$D9+1)/'فعالیت‌ها'!$E9))) -> 1 | W9: =IF(OR('فعالیت‌ها'!$D9="",'فعالیت‌ها'!$E9="",'فعالیت‌ها'!$E9=0),0,IF(21<'فعالیت‌ها'!$D9,0,IF(21>='فعالیت‌ها'!$F9,1,(21-'فعالیت‌ها'!$D9+1)/'فعالیت‌ها'!$E9))) -> 1 | X9: =IF(OR('فعالیت‌ها'!$D9="",'فعالیت‌ها'!$E9="",'فعالیت‌ها'!$E9=0),0,IF(22<'فعالیت‌ها'!$D9,0,IF(22>='فعالیت‌ها'!$F9,1,(22-'فعالیت‌ها'!$D9+1)/'فعالیت‌ها'!$E9))) -> 1 | Y9: =IF(OR('فعالیت‌ها'!$D9="",'فعالیت‌ها'!$E9="",'فعالیت‌ها'!$E9=0),0,IF(23<'فعالیت‌ها'!$D9,0,IF(23>='فعالیت‌ها'!$F9,1,(23-'فعالیت‌ها'!$D9+1)/'فعالیت‌ها'!$E9))) -> 1 | Z9: =IF(OR('فعالیت‌ها'!$D9="",'فعالیت‌ها'!$E9="",'فعالیت‌ها'!$E9=0),0,IF(24<'فعالیت‌ها'!$D9,0,IF(24>='فعالیت‌ها'!$F9,1,(24-'فعالیت‌ها'!$D9+1)/'فعالیت‌ها'!$E9))) -> 1 | AA9: =IF(OR('فعالیت‌ها'!$D9="",'فعالیت‌ها'!$E9="",'فعالیت‌ها'!$E9=0),0,IF(25<'فعالیت‌ها'!$D9,0,IF(25>='فعالیت‌ها'!$F9,1,(25-'فعالیت‌ها'!$D9+1)/'فعالیت‌ها'!$E9))) -> 1 | AB9: =IF(OR('فعالیت‌ها'!$D9="",'فعالیت‌ها'!$E9="",'فعالیت‌ها'!$E9=0),0,IF(26<'فعالیت‌ها'!$D9,0,IF(26>='فعالیت‌ها'!$F9,1,(26-'فعالیت‌ها'!$D9+1)/'فعالیت‌ها'!$E9))) -> 1
A10: =IF('فعالیت‌ها'!A10="","",'فعالیت‌ها'!A10) -> A5 | B10: =IF('فعالیت‌ها'!B10="","",'فعالیت‌ها'!B10) -> اجرای فاز ۱ | C10: =IF(OR('فعالیت‌ها'!$D10="",'فعالیت‌ها'!$E10="",'فعالیت‌ها'!$E10=0),0,IF(1<'فعالیت‌ها'!$D10,0,IF(1>='فعالیت‌ها'!$F10,1,(1-'فعالیت‌ها'!$D10+1)/'فعالیت‌ها'!$E10))) -> 0 | D10: =IF(OR('فعالیت‌ها'!$D10="",'فعالیت‌ها'!$E10="",'فعالیت‌ها'!$E10=0),0,IF(2<'فعالیت‌ها'!$D10,0,IF(2>='فعالیت‌ها'!$F10,1,(2-'فعالیت‌ها'!$D10+1)/'فعالیت‌ها'!$E10))) -> 0 | E10: =IF(OR('فعالیت‌ها'!$D10="",'فعالیت‌ها'!$E10="",'فعالیت‌ها'!$E10=0),0,IF(3<'فعالیت‌ها'!$D10,0,IF(3>='فعالیت‌ها'!$F10,1,(3-'فعالیت‌ها'!$D10+1)/'فعالیت‌ها'!$E10))) -> 0 | F10: =IF(OR('فعالیت‌ها'!$D10="",'فعالیت‌ها'!$E10="",'فعالیت‌ها'!$E10=0),0,IF(4<'فعالیت‌ها'!$D10,0,IF(4>='فعالیت‌ها'!$F10,1,(4-'فعالیت‌ها'!$D10+1)/'فعالیت‌ها'!$E10))) -> 0 | G10: =IF(OR('فعالیت‌ها'!$D10="",'فعالیت‌ها'!$E10="",'فعالیت‌ها'!$E10=0),0,IF(5<'فعالیت‌ها'!$D10,0,IF(5>='فعالیت‌ها'!$F10,1,(5-'فعالیت‌ها'!$D10+1)/'فعالیت‌ها'!$E10))) -> 0 | H10: =IF(OR('فعالیت‌ها'!$D10="",'فعالیت‌ها'!$E10="",'فعالیت‌ها'!$E10=0),0,IF(6<'فعالیت‌ها'!$D10,0,IF(6>='فعالیت‌ها'!$F10,1,(6-'فعالیت‌ها'!$D10+1)/'فعالیت‌ها'!$E10))) -> 0 | I10: =IF(OR('فعالیت‌ها'!$D10="",'فعالیت‌ها'!$E10="",'فعالیت‌ها'!$E10=0),0,IF(7<'فعالیت‌ها'!$D10,0,IF(7>='فعالیت‌ها'!$F10,1,(7-'فعالیت‌ها'!$D10+1)/'فعالیت‌ها'!$E10))) -> 0.11111111 | J10: =IF(OR('فعالیت‌ها'!$D10="",'فعالیت‌ها'!$E10="",'فعالیت‌ها'!$E10=0),0,IF(8<'فعالیت‌ها'!$D10,0,IF(8>='فعالیت‌ها'!$F10,1,(8-'فعالیت‌ها'!$D10+1)/'فعالیت‌ها'!$E10))) -> 0.22222222 | K10: =IF(OR('فعالیت‌ها'!$D10="",'فعالیت‌ها'!$E10="",'فعالیت‌ها'!$E10=0),0,IF(9<'فعالیت‌ها'!$D10,0,IF(9>='فعالیت‌ها'!$F10,1,(9-'فعالیت‌ها'!$D10+1)/'فعالیت‌ها'!$E10))) -> 0.33333333 | L10: =IF(OR('فعالیت‌ها'!$D10="",'فعالیت‌ها'!$E10="",'فعالیت‌ها'!$E10=0),0,IF(10<'فعالیت‌ها'!$D10,0,IF(10>='فعالیت‌ها'!$F10,1,(10-'فعالیت‌ها'!$D10+1)/'فعالیت‌ها'!$E10))) -> 0.44444444 | M10: =IF(OR('فعالیت‌ها'!$D10="",'فعالیت‌ها'!$E10="",'فعالیت‌ها'!$E10=0),0,IF(11<'فعالیت‌ها'!$D10,0,IF(11>='فعالیت‌ها'!$F10,1,(11-'فعالیت‌ها'!$D10+1)/'فعالیت‌ها'!$E10))) -> 0.55555556 | N10: =IF(OR('فعالیت‌ها'!$D10="",'فعالیت‌ها'!$E10="",'فعالیت‌ها'!$E10=0),0,IF(12<'فعالیت‌ها'!$D10,0,IF(12>='فعالیت‌ها'!$F10,1,(12-'فعالیت‌ها'!$D10+1)/'فعالیت‌ها'!$E10))) -> 0.66666667 | O10: =IF(OR('فعالیت‌ها'!$D10="",'فعالیت‌ها'!$E10="",'فعالیت‌ها'!$E10=0),0,IF(13<'فعالیت‌ها'!$D10,0,IF(13>='فعالیت‌ها'!$F10,1,(13-'فعالیت‌ها'!$D10+1)/'فعالیت‌ها'!$E10))) -> 0.77777778 | P10: =IF(OR('فعالیت‌ها'!$D10="",'فعالیت‌ها'!$E10="",'فعالیت‌ها'!$E10=0),0,IF(14<'فعالیت‌ها'!$D10,0,IF(14>='فعالیت‌ها'!$F10,1,(14-'فعالیت‌ها'!$D10+1)/'فعالیت‌ها'!$E10))) -> 0.88888889 | Q10: =IF(OR('فعالیت‌ها'!$D10="",'فعالیت‌ها'!$E10="",'فعالیت‌ها'!$E10=0),0,IF(15<'فعالیت‌ها'!$D10,0,IF(15>='فعالیت‌ها'!$F10,1,(15-'فعالیت‌ها'!$D10+1)/'فعالیت‌ها'!$E10))) -> 1 | R10: =IF(OR('فعالیت‌ها'!$D10="",'فعالیت‌ها'!$E10="",'فعالیت‌ها'!$E10=0),0,IF(16<'فعالیت‌ها'!$D10,0,IF(16>='فعالیت‌ها'!$F10,1,(16-'فعالیت‌ها'!$D10+1)/'فعالیت‌ها'!$E10))) -> 1 | S10: =IF(OR('فعالیت‌ها'!$D10="",'فعالیت‌ها'!$E10="",'فعالیت‌ها'!$E10=0),0,IF(17<'فعالیت‌ها'!$D10,0,IF(17>='فعالیت‌ها'!$F10,1,(17-'فعالیت‌ها'!$D10+1)/'فعالیت‌ها'!$E10))) -> 1 | T10: =IF(OR('فعالیت‌ها'!$D10="",'فعالیت‌ها'!$E10="",'فعالیت‌ها'!$E10=0),0,IF(18<'فعالیت‌ها'!$D10,0,IF(18>='فعالیت‌ها'!$F10,1,(18-'فعالیت‌ها'!$D10+1)/'فعالیت‌ها'!$E10))) -> 1 | U10: =IF(OR('فعالیت‌ها'!$D10="",'فعالیت‌ها'!$E10="",'فعالیت‌ها'!$E10=0),0,IF(19<'فعالیت‌ها'!$D10,0,IF(19>='فعالیت‌ها'!$F10,1,(19-'فعالیت‌ها'!$D10+1)/'فعالیت‌ها'!$E10))) -> 1 | V10: =IF(OR('فعالیت‌ها'!$D10="",'فعالیت‌ها'!$E10="",'فعالیت‌ها'!$E10=0),0,IF(20<'فعالیت‌ها'!$D10,0,IF(20>='فعالیت‌ها'!$F10,1,(20-'فعالیت‌ها'!$D10+1)/'فعالیت‌ها'!$E10))) -> 1 | W10: =IF(OR('فعالیت‌ها'!$D10="",'فعالیت‌ها'!$E10="",'فعالیت‌ها'!$E10=0),0,IF(21<'فعالیت‌ها'!$D10,0,IF(21>='فعالیت‌ها'!$F10,1,(21-'فعالیت‌ها'!$D10+1)/'فعالیت‌ها'!$E10))) -> 1 | X10: =IF(OR('فعالیت‌ها'!$D10="",'فعالیت‌ها'!$E10="",'فعالیت‌ها'!$E10=0),0,IF(22<'فعالیت‌ها'!$D10,0,IF(22>='فعالیت‌ها'!$F10,1,(22-'فعالیت‌ها'!$D10+1)/'فعالیت‌ها'!$E10))) -> 1 | Y10: =IF(OR('فعالیت‌ها'!$D10="",'فعالیت‌ها'!$E10="",'فعالیت‌ها'!$E10=0),0,IF(23<'فعالیت‌ها'!$D10,0,IF(23>='فعالیت‌ها'!$F10,1,(23-'فعالیت‌ها'!$D10+1)/'فعالیت‌ها'!$E10))) -> 1 | Z10: =IF(OR('فعالیت‌ها'!$D10="",'فعالیت‌ها'!$E10="",'فعالیت‌ها'!$E10=0),0,IF(24<'فعالیت‌ها'!$D10,0,IF(24>='فعالیت‌ها'!$F10,1,(24-'فعالیت‌ها'!$D10+1)/'فعالیت‌ها'!$E10))) -> 1 | AA10: =IF(OR('فعالیت‌ها'!$D10="",'فعالیت‌ها'!$E10="",'فعالیت‌ها'!$E10=0),0,IF(25<'فعالیت‌ها'!$D10,0,IF(25>='فعالیت‌ها'!$F10,1,(25-'فعالیت‌ها'!$D10+1)/'فعالیت‌ها'!$E10))) -> 1 | AB10: =IF(OR('فعالیت‌ها'!$D10="",'فعالیت‌ها'!$E10="",'فعالیت‌ها'!$E10=0),0,IF(26<'فعالیت‌ها'!$D10,0,IF(26>='فعالیت‌ها'!$F10,1,(26-'فعالیت‌ها'!$D10+1)/'فعالیت‌ها'!$E10))) -> 1
A11: =IF('فعالیت‌ها'!A11="","",'فعالیت‌ها'!A11) -> A6 | B11: =IF('فعالیت‌ها'!B11="","",'فعالیت‌ها'!B11) -> اجرای فاز ۲ | C11: =IF(OR('فعالیت‌ها'!$D11="",'فعالیت‌ها'!$E11="",'فعالیت‌ها'!$E11=0),0,IF(1<'فعالیت‌ها'!$D11,0,IF(1>='فعالیت‌ها'!$F11,1,(1-'فعالیت‌ها'!$D11+1)/'فعالیت‌ها'!$E11))) -> 0 | D11: =IF(OR('فعالیت‌ها'!$D11="",'فعالیت‌ها'!$E11="",'فعالیت‌ها'!$E11=0),0,IF(2<'فعالیت‌ها'!$D11,0,IF(2>='فعالیت‌ها'!$F11,1,(2-'فعالیت‌ها'!$D11+1)/'فعالیت‌ها'!$E11))) -> 0 | E11: =IF(OR('فعالیت‌ها'!$D11="",'فعالیت‌ها'!$E11="",'فعالیت‌ها'!$E11=0),0,IF(3<'فعالیت‌ها'!$D11,0,IF(3>='فعالیت‌ها'!$F11,1,(3-'فعالیت‌ها'!$D11+1)/'فعالیت‌ها'!$E11))) -> 0 | F11: =IF(OR('فعالیت‌ها'!$D11="",'فعالیت‌ها'!$E11="",'فعالیت‌ها'!$E11=0),0,IF(4<'فعالیت‌ها'!$D11,0,IF(4>='فعالیت‌ها'!$F11,1,(4-'فعالیت‌ها'!$D11+1)/'فعالیت‌ها'!$E11))) -> 0 | G11: =IF(OR('فعالیت‌ها'!$D11="",'فعالیت‌ها'!$E11="",'فعالیت‌ها'!$E11=0),0,IF(5<'فعالیت‌ها'!$D11,0,IF(5>='فعالیت‌ها'!$F11,1,(5-'فعالیت‌ها'!$D11+1)/'فعالیت‌ها'!$E11))) -> 0 | H11: =IF(OR('فعالیت‌ها'!$D11="",'فعالیت‌ها'!$E11="",'فعالیت‌ها'!$E11=0),0,IF(6<'فعالیت‌ها'!$D11,0,IF(6>='فعالیت‌ها'!$F11,1,(6-'فعالیت‌ها'!$D11+1)/'فعالیت‌ها'!$E11))) -> 0 | I11: =IF(OR('فعالیت‌ها'!$D11="",'فعالیت‌ها'!$E11="",'فعالیت‌ها'!$E11=0),0,IF(7<'فعالیت‌ها'!$D11,0,IF(7>='فعالیت‌ها'!$F11,1,(7-'فعالیت‌ها'!$D11+1)/'فعالیت‌ها'!$E11))) -> 0 | J11: =IF(OR('فعالیت‌ها'!$D11="",'فعالیت‌ها'!$E11="",'فعالیت‌ها'!$E11=0),0,IF(8<'فعالیت‌ها'!$D11,0,IF(8>='فعالیت‌ها'!$F11,1,(8-'فعالیت‌ها'!$D11+1)/'فعالیت‌ها'!$E11))) -> 0 | K11: =IF(OR('فعالیت‌ها'!$D11="",'فعالیت‌ها'!$E11="",'فعالیت‌ها'!$E11=0),0,IF(9<'فعالیت‌ها'!$D11,0,IF(9>='فعالیت‌ها'!$F11,1,(9-'فعالیت‌ها'!$D11+1)/'فعالیت‌ها'!$E11))) -> 0 | L11: =IF(OR('فعالیت‌ها'!$D11="",'فعالیت‌ها'!$E11="",'فعالیت‌ها'!$E11=0),0,IF(10<'فعالیت‌ها'!$D11,0,IF(10>='فعالیت‌ها'!$F11,1,(10-'فعالیت‌ها'!$D11+1)/'فعالیت‌ها'!$E11))) -> 0 | M11: =IF(OR('فعالیت‌ها'!$D11="",'فعالیت‌ها'!$E11="",'فعالیت‌ها'!$E11=0),0,IF(11<'فعالیت‌ها'!$D11,0,IF(11>='فعالیت‌ها'!$F11,1,(11-'فعالیت‌ها'!$D11+1)/'فعالیت‌ها'!$E11))) -> 0 | N11: =IF(OR('فعالیت‌ها'!$D11="",'فعالیت‌ها'!$E11="",'فعالیت‌ها'!$E11=0),0,IF(12<'فعالیت‌ها'!$D11,0,IF(12>='فعالیت‌ها'!$F11,1,(12-'فعالیت‌ها'!$D11+1)/'فعالیت‌ها'!$E11))) -> 0 | O11: =IF(OR('فعالیت‌ها'!$D11="",'فعالیت‌ها'!$E11="",'فعالیت‌ها'!$E11=0),0,IF(13<'فعالیت‌ها'!$D11,0,IF(13>='فعالیت‌ها'!$F11,1,(13-'فعالیت‌ها'!$D11+1)/'فعالیت‌ها'!$E11))) -> 0.11111111 | P11: =IF(OR('فعالیت‌ها'!$D11="",'فعالیت‌ها'!$E11="",'فعالیت‌ها'!$E11=0),0,IF(14<'فعالیت‌ها'!$D11,0,IF(14>='فعالیت‌ها'!$F11,1,(14-'فعالیت‌ها'!$D11+1)/'فعالیت‌ها'!$E11))) -> 0.22222222 | Q11: =IF(OR('فعالیت‌ها'!$D11="",'فعالیت‌ها'!$E11="",'فعالیت‌ها'!$E11=0),0,IF(15<'فعالیت‌ها'!$D11,0,IF(15>='فعالیت‌ها'!$F11,1,(15-'فعالیت‌ها'!$D11+1)/'فعالیت‌ها'!$E11))) -> 0.33333333 | R11: =IF(OR('فعالیت‌ها'!$D11="",'فعالیت‌ها'!$E11="",'فعالیت‌ها'!$E11=0),0,IF(16<'فعالیت‌ها'!$D11,0,IF(16>='فعالیت‌ها'!$F11,1,(16-'فعالیت‌ها'!$D11+1)/'فعالیت‌ها'!$E11))) -> 0.44444444 | S11: =IF(OR('فعالیت‌ها'!$D11="",'فعالیت‌ها'!$E11="",'فعالیت‌ها'!$E11=0),0,IF(17<'فعالیت‌ها'!$D11,0,IF(17>='فعالیت‌ها'!$F11,1,(17-'فعالیت‌ها'!$D11+1)/'فعالیت‌ها'!$E11))) -> 0.55555556 | T11: =IF(OR('فعالیت‌ها'!$D11="",'فعالیت‌ها'!$E11="",'فعالیت‌ها'!$E11=0),0,IF(18<'فعالیت‌ها'!$D11,0,IF(18>='فعالیت‌ها'!$F11,1,(18-'فعالیت‌ها'!$D11+1)/'فعالیت‌ها'!$E11))) -> 0.66666667 | U11: =IF(OR('فعالیت‌ها'!$D11="",'فعالیت‌ها'!$E11="",'فعالیت‌ها'!$E11=0),0,IF(19<'فعالیت‌ها'!$D11,0,IF(19>='فعالیت‌ها'!$F11,1,(19-'فعالیت‌ها'!$D11+1)/'فعالیت‌ها'!$E11))) -> 0.77777778 | V11: =IF(OR('فعالیت‌ها'!$D11="",'فعالیت‌ها'!$E11="",'فعالیت‌ها'!$E11=0),0,IF(20<'فعالیت‌ها'!$D11,0,IF(20>='فعالیت‌ها'!$F11,1,(20-'فعالیت‌ها'!$D11+1)/'فعالیت‌ها'!$E11))) -> 0.88888889 | W11: =IF(OR('فعالیت‌ها'!$D11="",'فعالیت‌ها'!$E11="",'فعالیت‌ها'!$E11=0),0,IF(21<'فعالیت‌ها'!$D11,0,IF(21>='فعالیت‌ها'!$F11,1,(21-'فعالیت‌ها'!$D11+1)/'فعالیت‌ها'!$E11))) -> 1 | X11: =IF(OR('فعالیت‌ها'!$D11="",'فعالیت‌ها'!$E11="",'فعالیت‌ها'!$E11=0),0,IF(22<'فعالیت‌ها'!$D11,0,IF(22>='فعالیت‌ها'!$F11,1,(22-'فعالیت‌ها'!$D11+1)/'فعالیت‌ها'!$E11))) -> 1 | Y11: =IF(OR('فعالیت‌ها'!$D11="",'فعالیت‌ها'!$E11="",'فعالیت‌ها'!$E11=0),0,IF(23<'فعالیت‌ها'!$D11,0,IF(23>='فعالیت‌ها'!$F11,1,(23-'فعالیت‌ها'!$D11+1)/'فعالیت‌ها'!$E11))) -> 1 | Z11: =IF(OR('فعالیت‌ها'!$D11="",'فعالیت‌ها'!$E11="",'فعالیت‌ها'!$E11=0),0,IF(24<'فعالیت‌ها'!$D11,0,IF(24>='فعالیت‌ها'!$F11,1,(24-'فعالیت‌ها'!$D11+1)/'فعالیت‌ها'!$E11))) -> 1 | AA11: =IF(OR('فعالیت‌ها'!$D11="",'فعالیت‌ها'!$E11="",'فعالیت‌ها'!$E11=0),0,IF(25<'فعالیت‌ها'!$D11,0,IF(25>='فعالیت‌ها'!$F11,1,(25-'فعالیت‌ها'!$D11+1)/'فعالیت‌ها'!$E11))) -> 1 | AB11: =IF(OR('فعالیت‌ها'!$D11="",'فعالیت‌ها'!$E11="",'فعالیت‌ها'!$E11=0),0,IF(26<'فعالیت‌ها'!$D11,0,IF(26>='فعالیت‌ها'!$F11,1,(26-'فعالیت‌ها'!$D11+1)/'فعالیت‌ها'!$E11))) -> 1
A12: =IF('فعالیت‌ها'!A12="","",'فعالیت‌ها'!A12) -> A7 | B12: =IF('فعالیت‌ها'!B12="","",'فعالیت‌ها'!B12) -> تأسیسات و نازک‌کاری | C12: =IF(OR('فعالیت‌ها'!$D12="",'فعالیت‌ها'!$E12="",'فعالیت‌ها'!$E12=0),0,IF(1<'فعالیت‌ها'!$D12,0,IF(1>='فعالیت‌ها'!$F12,1,(1-'فعالیت‌ها'!$D12+1)/'فعالیت‌ها'!$E12))) -> 0 | D12: =IF(OR('فعالیت‌ها'!$D12="",'فعالیت‌ها'!$E12="",'فعالیت‌ها'!$E12=0),0,IF(2<'فعالیت‌ها'!$D12,0,IF(2>='فعالیت‌ها'!$F12,1,(2-'فعالیت‌ها'!$D12+1)/'فعالیت‌ها'!$E12))) -> 0 | E12: =IF(OR('فعالیت‌ها'!$D12="",'فعالیت‌ها'!$E12="",'فعالیت‌ها'!$E12=0),0,IF(3<'فعالیت‌ها'!$D12,0,IF(3>='فعالیت‌ها'!$F12,1,(3-'فعالیت‌ها'!$D12+1)/'فعالیت‌ها'!$E12))) -> 0 | F12: =IF(OR('فعالیت‌ها'!$D12="",'فعالیت‌ها'!$E12="",'فعالیت‌ها'!$E12=0),0,IF(4<'فعالیت‌ها'!$D12,0,IF(4>='فعالیت‌ها'!$F12,1,(4-'فعالیت‌ها'!$D12+1)/'فعالیت‌ها'!$E12))) -> 0 | G12: =IF(OR('فعالیت‌ها'!$D12="",'فعالیت‌ها'!$E12="",'فعالیت‌ها'!$E12=0),0,IF(5<'فعالیت‌ها'!$D12,0,IF(5>='فعالیت‌ها'!$F12,1,(5-'فعالیت‌ها'!$D12+1)/'فعالیت‌ها'!$E12))) -> 0 | H12: =IF(OR('فعالیت‌ها'!$D12="",'فعالیت‌ها'!$E12="",'فعالیت‌ها'!$E12=0),0,IF(6<'فعالیت‌ها'!$D12,0,IF(6>='فعالیت‌ها'!$F12,1,(6-'فعالیت‌ها'!$D12+1)/'فعالیت‌ها'!$E12))) -> 0 | I12: =IF(OR('فعالیت‌ها'!$D12="",'فعالیت‌ها'!$E12="",'فعالیت‌ها'!$E12=0),0,IF(7<'فعالیت‌ها'!$D12,0,IF(7>='فعالیت‌ها'!$F12,1,(7-'فعالیت‌ها'!$D12+1)/'فعالیت‌ها'!$E12))) -> 0 | J12: =IF(OR('فعالیت‌ها'!$D12="",'فعالیت‌ها'!$E12="",'فعالیت‌ها'!$E12=0),0,IF(8<'فعالیت‌ها'!$D12,0,IF(8>='فعالیت‌ها'!$F12,1,(8-'فعالیت‌ها'!$D12+1)/'فعالیت‌ها'!$E12))) -> 0 | K12: =IF(OR('فعالیت‌ها'!$D12="",'فعالیت‌ها'!$E12="",'فعالیت‌ها'!$E12=0),0,IF(9<'فعالیت‌ها'!$D12,0,IF(9>='فعالیت‌ها'!$F12,1,(9-'فعالیت‌ها'!$D12+1)/'فعالیت‌ها'!$E12))) -> 0 | L12: =IF(OR('فعالیت‌ها'!$D12="",'فعالیت‌ها'!$E12="",'فعالیت‌ها'!$E12=0),0,IF(10<'فعالیت‌ها'!$D12,0,IF(10>='فعالیت‌ها'!$F12,1,(10-'فعالیت‌ها'!$D12+1)/'فعالیت‌ها'!$E12))) -> 0 | M12: =IF(OR('فعالیت‌ها'!$D12="",'فعالیت‌ها'!$E12="",'فعالیت‌ها'!$E12=0),0,IF(11<'فعالیت‌ها'!$D12,0,IF(11>='فعالیت‌ها'!$F12,1,(11-'فعالیت‌ها'!$D12+1)/'فعالیت‌ها'!$E12))) -> 0 | N12: =IF(OR('فعالیت‌ها'!$D12="",'فعالیت‌ها'!$E12="",'فعالیت‌ها'!$E12=0),0,IF(12<'فعالیت‌ها'!$D12,0,IF(12>='فعالیت‌ها'!$F12,1,(12-'فعالیت‌ها'!$D12+1)/'فعالیت‌ها'!$E12))) -> 0 | O12: =IF(OR('فعالیت‌ها'!$D12="",'فعالیت‌ها'!$E12="",'فعالیت‌ها'!$E12=0),0,IF(13<'فعالیت‌ها'!$D12,0,IF(13>='فعالیت‌ها'!$F12,1,(13-'فعالیت‌ها'!$D12+1)/'فعالیت‌ها'!$E12))) -> 0 | P12: =IF(OR('فعالیت‌ها'!$D12="",'فعالیت‌ها'!$E12="",'فعالیت‌ها'!$E12=0),0,IF(14<'فعالیت‌ها'!$D12,0,IF(14>='فعالیت‌ها'!$F12,1,(14-'فعالیت‌ها'!$D12+1)/'فعالیت‌ها'!$E12))) -> 0 | Q12: =IF(OR('فعالیت‌ها'!$D12="",'فعالیت‌ها'!$E12="",'فعالیت‌ها'!$E12=0),0,IF(15<'فعالیت‌ها'!$D12,0,IF(15>='فعالیت‌ها'!$F12,1,(15-'فعالیت‌ها'!$D12+1)/'فعالیت‌ها'!$E12))) -> 0 | R12: =IF(OR('فعالیت‌ها'!$D12="",'فعالیت‌ها'!$E12="",'فعالیت‌ها'!$E12=0),0,IF(16<'فعالیت‌ها'!$D12,0,IF(16>='فعالیت‌ها'!$F12,1,(16-'فعالیت‌ها'!$D12+1)/'فعالیت‌ها'!$E12))) -> 0 | S12: =IF(OR('فعالیت‌ها'!$D12="",'فعالیت‌ها'!$E12="",'فعالیت‌ها'!$E12=0),0,IF(17<'فعالیت‌ها'!$D12,0,IF(17>='فعالیت‌ها'!$F12,1,(17-'فعالیت‌ها'!$D12+1)/'فعالیت‌ها'!$E12))) -> 0 | T12: =IF(OR('فعالیت‌ها'!$D12="",'فعالیت‌ها'!$E12="",'فعالیت‌ها'!$E12=0),0,IF(18<'فعالیت‌ها'!$D12,0,IF(18>='فعالیت‌ها'!$F12,1,(18-'فعالیت‌ها'!$D12+1)/'فعالیت‌ها'!$E12))) -> 0.14285714 | U12: =IF(OR('فعالیت‌ها'!$D12="",'فعالیت‌ها'!$E12="",'فعالیت‌ها'!$E12=0),0,IF(19<'فعالیت‌ها'!$D12,0,IF(19>='فعالیت‌ها'!$F12,1,(19-'فعالیت‌ها'!$D12+1)/'فعالیت‌ها'!$E12))) -> 0.28571429 | V12: =IF(OR('فعالیت‌ها'!$D12="",'فعالیت‌ها'!$E12="",'فعالیت‌ها'!$E12=0),0,IF(20<'فعالیت‌ها'!$D12,0,IF(20>='فعالیت‌ها'!$F12,1,(20-'فعالیت‌ها'!$D12+1)/'فعالیت‌ها'!$E12))) -> 0.42857143 | W12: =IF(OR('فعالیت‌ها'!$D12="",'فعالیت‌ها'!$E12="",'فعالیت‌ها'!$E12=0),0,IF(21<'فعالیت‌ها'!$D12,0,IF(21>='فعالیت‌ها'!$F12,1,(21-'فعالیت‌ها'!$D12+1)/'فعالیت‌ها'!$E12))) -> 0.57142857 | X12: =IF(OR('فعالیت‌ها'!$D12="",'فعالیت‌ها'!$E12="",'فعالیت‌ها'!$E12=0),0,IF(22<'فعالیت‌ها'!$D12,0,IF(22>='فعالیت‌ها'!$F12,1,(22-'فعالیت‌ها'!$D12+1)/'فعالیت‌ها'!$E12))) -> 0.71428571 | Y12: =IF(OR('فعالیت‌ها'!$D12="",'فعالیت‌ها'!$E12="",'فعالیت‌ها'!$E12=0),0,IF(23<'فعالیت‌ها'!$D12,0,IF(23>='فعالیت‌ها'!$F12,1,(23-'فعالیت‌ها'!$D12+1)/'فعالیت‌ها'!$E12))) -> 0.85714286 | Z12: =IF(OR('فعالیت‌ها'!$D12="",'فعالیت‌ها'!$E12="",'فعالیت‌ها'!$E12=0),0,IF(24<'فعالیت‌ها'!$D12,0,IF(24>='فعالیت‌ها'!$F12,1,(24-'فعالیت‌ها'!$D12+1)/'فعالیت‌ها'!$E12))) -> 1 | AA12: =IF(OR('فعالیت‌ها'!$D12="",'فعالیت‌ها'!$E12="",'فعالیت‌ها'!$E12=0),0,IF(25<'فعالیت‌ها'!$D12,0,IF(25>='فعالیت‌ها'!$F12,1,(25-'فعالیت‌ها'!$D12+1)/'فعالیت‌ها'!$E12))) -> 1 | AB12: =IF(OR('فعالیت‌ها'!$D12="",'فعالیت‌ها'!$E12="",'فعالیت‌ها'!$E12=0),0,IF(26<'فعالیت‌ها'!$D12,0,IF(26>='فعالیت‌ها'!$F12,1,(26-'فعالیت‌ها'!$D12+1)/'فعالیت‌ها'!$E12))) -> 1
A13: =IF('فعالیت‌ها'!A13="","",'فعالیت‌ها'!A13) -> A8 | B13: =IF('فعالیت‌ها'!B13="","",'فعالیت‌ها'!B13) -> تحویل و مستندسازی | C13: =IF(OR('فعالیت‌ها'!$D13="",'فعالیت‌ها'!$E13="",'فعالیت‌ها'!$E13=0),0,IF(1<'فعالیت‌ها'!$D13,0,IF(1>='فعالیت‌ها'!$F13,1,(1-'فعالیت‌ها'!$D13+1)/'فعالیت‌ها'!$E13))) -> 0 | D13: =IF(OR('فعالیت‌ها'!$D13="",'فعالیت‌ها'!$E13="",'فعالیت‌ها'!$E13=0),0,IF(2<'فعالیت‌ها'!$D13,0,IF(2>='فعالیت‌ها'!$F13,1,(2-'فعالیت‌ها'!$D13+1)/'فعالیت‌ها'!$E13))) -> 0 | E13: =IF(OR('فعالیت‌ها'!$D13="",'فعالیت‌ها'!$E13="",'فعالیت‌ها'!$E13=0),0,IF(3<'فعالیت‌ها'!$D13,0,IF(3>='فعالیت‌ها'!$F13,1,(3-'فعالیت‌ها'!$D13+1)/'فعالیت‌ها'!$E13))) -> 0 | F13: =IF(OR('فعالیت‌ها'!$D13="",'فعالیت‌ها'!$E13="",'فعالیت‌ها'!$E13=0),0,IF(4<'فعالیت‌ها'!$D13,0,IF(4>='فعالیت‌ها'!$F13,1,(4-'فعالیت‌ها'!$D13+1)/'فعالیت‌ها'!$E13))) -> 0 | G13: =IF(OR('فعالیت‌ها'!$D13="",'فعالیت‌ها'!$E13="",'فعالیت‌ها'!$E13=0),0,IF(5<'فعالیت‌ها'!$D13,0,IF(5>='فعالیت‌ها'!$F13,1,(5-'فعالیت‌ها'!$D13+1)/'فعالیت‌ها'!$E13))) -> 0 | H13: =IF(OR('فعالیت‌ها'!$D13="",'فعالیت‌ها'!$E13="",'فعالیت‌ها'!$E13=0),0,IF(6<'فعالیت‌ها'!$D13,0,IF(6>='فعالیت‌ها'!$F13,1,(6-'فعالیت‌ها'!$D13+1)/'فعالیت‌ها'!$E13))) -> 0 | I13: =IF(OR('فعالیت‌ها'!$D13="",'فعالیت‌ها'!$E13="",'فعالیت‌ها'!$E13=0),0,IF(7<'فعالیت‌ها'!$D13,0,IF(7>='فعالیت‌ها'!$F13,1,(7-'فعالیت‌ها'!$D13+1)/'فعالیت‌ها'!$E13))) -> 0 | J13: =IF(OR('فعالیت‌ها'!$D13="",'فعالیت‌ها'!$E13="",'فعالیت‌ها'!$E13=0),0,IF(8<'فعالیت‌ها'!$D13,0,IF(8>='فعالیت‌ها'!$F13,1,(8-'فعالیت‌ها'!$D13+1)/'فعالیت‌ها'!$E13))) -> 0 | K13: =IF(OR('فعالیت‌ها'!$D13="",'فعالیت‌ها'!$E13="",'فعالیت‌ها'!$E13=0),0,IF(9<'فعالیت‌ها'!$D13,0,IF(9>='فعالیت‌ها'!$F13,1,(9-'فعالیت‌ها'!$D13+1)/'فعالیت‌ها'!$E13))) -> 0 | L13: =IF(OR('فعالیت‌ها'!$D13="",'فعالیت‌ها'!$E13="",'فعالیت‌ها'!$E13=0),0,IF(10<'فعالیت‌ها'!$D13,0,IF(10>='فعالیت‌ها'!$F13,1,(10-'فعالیت‌ها'!$D13+1)/'فعالیت‌ها'!$E13))) -> 0 | M13: =IF(OR('فعالیت‌ها'!$D13="",'فعالیت‌ها'!$E13="",'فعالیت‌ها'!$E13=0),0,IF(11<'فعالیت‌ها'!$D13,0,IF(11>='فعالیت‌ها'!$F13,1,(11-'فعالیت‌ها'!$D13+1)/'فعالیت‌ها'!$E13))) -> 0 | N13: =IF(OR('فعالیت‌ها'!$D13="",'فعالیت‌ها'!$E13="",'فعالیت‌ها'!$E13=0),0,IF(12<'فعالیت‌ها'!$D13,0,IF(12>='فعالیت‌ها'!$F13,1,(12-'فعالیت‌ها'!$D13+1)/'فعالیت‌ها'!$E13))) -> 0 | O13: =IF(OR('فعالیت‌ها'!$D13="",'فعالیت‌ها'!$E13="",'فعالیت‌ها'!$E13=0),0,IF(13<'فعالیت‌ها'!$D13,0,IF(13>='فعالیت‌ها'!$F13,1,(13-'فعالیت‌ها'!$D13+1)/'فعالیت‌ها'!$E13))) -> 0 | P13: =IF(OR('فعالیت‌ها'!$D13="",'فعالیت‌ها'!$E13="",'فعالیت‌ها'!$E13=0),0,IF(14<'فعالیت‌ها'!$D13,0,IF(14>='فعالیت‌ها'!$F13,1,(14-'فعالیت‌ها'!$D13+1)/'فعالیت‌ها'!$E13))) -> 0 | Q13: =IF(OR('فعالیت‌ها'!$D13="",'فعالیت‌ها'!$E13="",'فعالیت‌ها'!$E13=0),0,IF(15<'فعالیت‌ها'!$D13,0,IF(15>='فعالیت‌ها'!$F13,1,(15-'فعالیت‌ها'!$D13+1)/'فعالیت‌ها'!$E13))) -> 0 | R13: =IF(OR('فعالیت‌ها'!$D13="",'فعالیت‌ها'!$E13="",'فعالیت‌ها'!$E13=0),0,IF(16<'فعالیت‌ها'!$D13,0,IF(16>='فعالیت‌ها'!$F13,1,(16-'فعالیت‌ها'!$D13+1)/'فعالیت‌ها'!$E13))) -> 0 | S13: =IF(OR('فعالیت‌ها'!$D13="",'فعالیت‌ها'!$E13="",'فعالیت‌ها'!$E13=0),0,IF(17<'فعالیت‌ها'!$D13,0,IF(17>='فعالیت‌ها'!$F13,1,(17-'فعالیت‌ها'!$D13+1)/'فعالیت‌ها'!$E13))) -> 0 | T13: =IF(OR('فعالیت‌ها'!$D13="",'فعالیت‌ها'!$E13="",'فعالیت‌ها'!$E13=0),0,IF(18<'فعالیت‌ها'!$D13,0,IF(18>='فعالیت‌ها'!$F13,1,(18-'فعالیت‌ها'!$D13+1)/'فعالیت‌ها'!$E13))) -> 0 | U13: =IF(OR('فعالیت‌ها'!$D13="",'فعالیت‌ها'!$E13="",'فعالیت‌ها'!$E13=0),0,IF(19<'فعالیت‌ها'!$D13,0,IF(19>='فعالیت‌ها'!$F13,1,(19-'فعالیت‌ها'!$D13+1)/'فعالیت‌ها'!$E13))) -> 0 | V13: =IF(OR('فعالیت‌ها'!$D13="",'فعالیت‌ها'!$E13="",'فعالیت‌ها'!$E13=0),0,IF(20<'فعالیت‌ها'!$D13,0,IF(20>='فعالیت‌ها'!$F13,1,(20-'فعالیت‌ها'!$D13+1)/'فعالیت‌ها'!$E13))) -> 0 | W13: =IF(OR('فعالیت‌ها'!$D13="",'فعالیت‌ها'!$E13="",'فعالیت‌ها'!$E13=0),0,IF(21<'فعالیت‌ها'!$D13,0,IF(21>='فعالیت‌ها'!$F13,1,(21-'فعالیت‌ها'!$D13+1)/'فعالیت‌ها'!$E13))) -> 0 | X13: =IF(OR('فعالیت‌ها'!$D13="",'فعالیت‌ها'!$E13="",'فعالیت‌ها'!$E13=0),0,IF(22<'فعالیت‌ها'!$D13,0,IF(22>='فعالیت‌ها'!$F13,1,(22-'فعالیت‌ها'!$D13+1)/'فعالیت‌ها'!$E13))) -> 0 | Y13: =IF(OR('فعالیت‌ها'!$D13="",'فعالیت‌ها'!$E13="",'فعالیت‌ها'!$E13=0),0,IF(23<'فعالیت‌ها'!$D13,0,IF(23>='فعالیت‌ها'!$F13,1,(23-'فعالیت‌ها'!$D13+1)/'فعالیت‌ها'!$E13))) -> 0 | Z13: =IF(OR('فعالیت‌ها'!$D13="",'فعالیت‌ها'!$E13="",'فعالیت‌ها'!$E13=0),0,IF(24<'فعالیت‌ها'!$D13,0,IF(24>='فعالیت‌ها'!$F13,1,(24-'فعالیت‌ها'!$D13+1)/'فعالیت‌ها'!$E13))) -> 0.33333333 | AA13: =IF(OR('فعالیت‌ها'!$D13="",'فعالیت‌ها'!$E13="",'فعالیت‌ها'!$E13=0),0,IF(25<'فعالیت‌ها'!$D13,0,IF(25>='فعالیت‌ها'!$F13,1,(25-'فعالیت‌ها'!$D13+1)/'فعالیت‌ها'!$E13))) -> 0.66666667 | AB13: =IF(OR('فعالیت‌ها'!$D13="",'فعالیت‌ها'!$E13="",'فعالیت‌ها'!$E13=0),0,IF(26<'فعالیت‌ها'!$D13,0,IF(26>='فعالیت‌ها'!$F13,1,(26-'فعالیت‌ها'!$D13+1)/'فعالیت‌ها'!$E13))) -> 1
A14: =IF('فعالیت‌ها'!A14="","",'فعالیت‌ها'!A14) | B14: =IF('فعالیت‌ها'!B14="","",'فعالیت‌ها'!B14) | C14: =IF(OR('فعالیت‌ها'!$D14="",'فعالیت‌ها'!$E14="",'فعالیت‌ها'!$E14=0),0,IF(1<'فعالیت‌ها'!$D14,0,IF(1>='فعالیت‌ها'!$F14,1,(1-'فعالیت‌ها'!$D14+1)/'فعالیت‌ها'!$E14))) -> 0 | D14: =IF(OR('فعالیت‌ها'!$D14="",'فعالیت‌ها'!$E14="",'فعالیت‌ها'!$E14=0),0,IF(2<'فعالیت‌ها'!$D14,0,IF(2>='فعالیت‌ها'!$F14,1,(2-'فعالیت‌ها'!$D14+1)/'فعالیت‌ها'!$E14))) -> 0 | E14: =IF(OR('فعالیت‌ها'!$D14="",'فعالیت‌ها'!$E14="",'فعالیت‌ها'!$E14=0),0,IF(3<'فعالیت‌ها'!$D14,0,IF(3>='فعالیت‌ها'!$F14,1,(3-'فعالیت‌ها'!$D14+1)/'فعالیت‌ها'!$E14))) -> 0 | F14: =IF(OR('فعالیت‌ها'!$D14="",'فعالیت‌ها'!$E14="",'فعالیت‌ها'!$E14=0),0,IF(4<'فعالیت‌ها'!$D14,0,IF(4>='فعالیت‌ها'!$F14,1,(4-'فعالیت‌ها'!$D14+1)/'فعالیت‌ها'!$E14))) -> 0 | G14: =IF(OR('فعالیت‌ها'!$D14="",'فعالیت‌ها'!$E14="",'فعالیت‌ها'!$E14=0),0,IF(5<'فعالیت‌ها'!$D14,0,IF(5>='فعالیت‌ها'!$F14,1,(5-'فعالیت‌ها'!$D14+1)/'فعالیت‌ها'!$E14))) -> 0 | H14: =IF(OR('فعالیت‌ها'!$D14="",'فعالیت‌ها'!$E14="",'فعالیت‌ها'!$E14=0),0,IF(6<'فعالیت‌ها'!$D14,0,IF(6>='فعالیت‌ها'!$F14,1,(6-'فعالیت‌ها'!$D14+1)/'فعالیت‌ها'!$E14))) -> 0 | I14: =IF(OR('فعالیت‌ها'!$D14="",'فعالیت‌ها'!$E14="",'فعالیت‌ها'!$E14=0),0,IF(7<'فعالیت‌ها'!$D14,0,IF(7>='فعالیت‌ها'!$F14,1,(7-'فعالیت‌ها'!$D14+1)/'فعالیت‌ها'!$E14))) -> 0 | J14: =IF(OR('فعالیت‌ها'!$D14="",'فعالیت‌ها'!$E14="",'فعالیت‌ها'!$E14=0),0,IF(8<'فعالیت‌ها'!$D14,0,IF(8>='فعالیت‌ها'!$F14,1,(8-'فعالیت‌ها'!$D14+1)/'فعالیت‌ها'!$E14))) -> 0 | K14: =IF(OR('فعالیت‌ها'!$D14="",'فعالیت‌ها'!$E14="",'فعالیت‌ها'!$E14=0),0,IF(9<'فعالیت‌ها'!$D14,0,IF(9>='فعالیت‌ها'!$F14,1,(9-'فعالیت‌ها'!$D14+1)/'فعالیت‌ها'!$E14))) -> 0 | L14: =IF(OR('فعالیت‌ها'!$D14="",'فعالیت‌ها'!$E14="",'فعالیت‌ها'!$E14=0),0,IF(10<'فعالیت‌ها'!$D14,0,IF(10>='فعالیت‌ها'!$F14,1,(10-'فعالیت‌ها'!$D14+1)/'فعالیت‌ها'!$E14))) -> 0 | M14: =IF(OR('فعالیت‌ها'!$D14="",'فعالیت‌ها'!$E14="",'فعالیت‌ها'!$E14=0),0,IF(11<'فعالیت‌ها'!$D14,0,IF(11>='فعالیت‌ها'!$F14,1,(11-'فعالیت‌ها'!$D14+1)/'فعالیت‌ها'!$E14))) -> 0 | N14: =IF(OR('فعالیت‌ها'!$D14="",'فعالیت‌ها'!$E14="",'فعالیت‌ها'!$E14=0),0,IF(12<'فعالیت‌ها'!$D14,0,IF(12>='فعالیت‌ها'!$F14,1,(12-'فعالیت‌ها'!$D14+1)/'فعالیت‌ها'!$E14))) -> 0 | O14: =IF(OR('فعالیت‌ها'!$D14="",'فعالیت‌ها'!$E14="",'فعالیت‌ها'!$E14=0),0,IF(13<'فعالیت‌ها'!$D14,0,IF(13>='فعالیت‌ها'!$F14,1,(13-'فعالیت‌ها'!$D14+1)/'فعالیت‌ها'!$E14))) -> 0 | P14: =IF(OR('فعالیت‌ها'!$D14="",'فعالیت‌ها'!$E14="",'فعالیت‌ها'!$E14=0),0,IF(14<'فعالیت‌ها'!$D14,0,IF(14>='فعالیت‌ها'!$F14,1,(14-'فعالیت‌ها'!$D14+1)/'فعالیت‌ها'!$E14))) -> 0 | Q14: =IF(OR('فعالیت‌ها'!$D14="",'فعالیت‌ها'!$E14="",'فعالیت‌ها'!$E14=0),0,IF(15<'فعالیت‌ها'!$D14,0,IF(15>='فعالیت‌ها'!$F14,1,(15-'فعالیت‌ها'!$D14+1)/'فعالیت‌ها'!$E14))) -> 0 | R14: =IF(OR('فعالیت‌ها'!$D14="",'فعالیت‌ها'!$E14="",'فعالیت‌ها'!$E14=0),0,IF(16<'فعالیت‌ها'!$D14,0,IF(16>='فعالیت‌ها'!$F14,1,(16-'فعالیت‌ها'!$D14+1)/'فعالیت‌ها'!$E14))) -> 0 | S14: =IF(OR('فعالیت‌ها'!$D14="",'فعالیت‌ها'!$E14="",'فعالیت‌ها'!$E14=0),0,IF(17<'فعالیت‌ها'!$D14,0,IF(17>='فعالیت‌ها'!$F14,1,(17-'فعالیت‌ها'!$D14+1)/'فعالیت‌ها'!$E14))) -> 0 | T14: =IF(OR('فعالیت‌ها'!$D14="",'فعالیت‌ها'!$E14="",'فعالیت‌ها'!$E14=0),0,IF(18<'فعالیت‌ها'!$D14,0,IF(18>='فعالیت‌ها'!$F14,1,(18-'فعالیت‌ها'!$D14+1)/'فعالیت‌ها'!$E14))) -> 0 | U14: =IF(OR('فعالیت‌ها'!$D14="",'فعالیت‌ها'!$E14="",'فعالیت‌ها'!$E14=0),0,IF(19<'فعالیت‌ها'!$D14,0,IF(19>='فعالیت‌ها'!$F14,1,(19-'فعالیت‌ها'!$D14+1)/'فعالیت‌ها'!$E14))) -> 0 | V14: =IF(OR('فعالیت‌ها'!$D14="",'فعالیت‌ها'!$E14="",'فعالیت‌ها'!$E14=0),0,IF(20<'فعالیت‌ها'!$D14,0,IF(20>='فعالیت‌ها'!$F14,1,(20-'فعالیت‌ها'!$D14+1)/'فعالیت‌ها'!$E14))) -> 0 | W14: =IF(OR('فعالیت‌ها'!$D14="",'فعالیت‌ها'!$E14="",'فعالیت‌ها'!$E14=0),0,IF(21<'فعالیت‌ها'!$D14,0,IF(21>='فعالیت‌ها'!$F14,1,(21-'فعالیت‌ها'!$D14+1)/'فعالیت‌ها'!$E14))) -> 0 | X14: =IF(OR('فعالیت‌ها'!$D14="",'فعالیت‌ها'!$E14="",'فعالیت‌ها'!$E14=0),0,IF(22<'فعالیت‌ها'!$D14,0,IF(22>='فعالیت‌ها'!$F14,1,(22-'فعالیت‌ها'!$D14+1)/'فعالیت‌ها'!$E14))) -> 0 | Y14: =IF(OR('فعالیت‌ها'!$D14="",'فعالیت‌ها'!$E14="",'فعالیت‌ها'!$E14=0),0,IF(23<'فعالیت‌ها'!$D14,0,IF(23>='فعالیت‌ها'!$F14,1,(23-'فعالیت‌ها'!$D14+1)/'فعالیت‌ها'!$E14))) -> 0 | Z14: =IF(OR('فعالیت‌ها'!$D14="",'فعالیت‌ها'!$E14="",'فعالیت‌ها'!$E14=0),0,IF(24<'فعالیت‌ها'!$D14,0,IF(24>='فعالیت‌ها'!$F14,1,(24-'فعالیت‌ها'!$D14+1)/'فعالیت‌ها'!$E14))) -> 0 | AA14: =IF(OR('فعالیت‌ها'!$D14="",'فعالیت‌ها'!$E14="",'فعالیت‌ها'!$E14=0),0,IF(25<'فعالیت‌ها'!$D14,0,IF(25>='فعالیت‌ها'!$F14,1,(25-'فعالیت‌ها'!$D14+1)/'فعالیت‌ها'!$E14))) -> 0 | AB14: =IF(OR('فعالیت‌ها'!$D14="",'فعالیت‌ها'!$E14="",'فعالیت‌ها'!$E14=0),0,IF(26<'فعالیت‌ها'!$D14,0,IF(26>='فعالیت‌ها'!$F14,1,(26-'فعالیت‌ها'!$D14+1)/'فعالیت‌ها'!$E14))) -> 0
A15: =IF('فعالیت‌ها'!A15="","",'فعالیت‌ها'!A15) | B15: =IF('فعالیت‌ها'!B15="","",'فعالیت‌ها'!B15) | C15: =IF(OR('فعالیت‌ها'!$D15="",'فعالیت‌ها'!$E15="",'فعالیت‌ها'!$E15=0),0,IF(1<'فعالیت‌ها'!$D15,0,IF(1>='فعالیت‌ها'!$F15,1,(1-'فعالیت‌ها'!$D15+1)/'فعالیت‌ها'!$E15))) -> 0 | D15: =IF(OR('فعالیت‌ها'!$D15="",'فعالیت‌ها'!$E15="",'فعالیت‌ها'!$E15=0),0,IF(2<'فعالیت‌ها'!$D15,0,IF(2>='فعالیت‌ها'!$F15,1,(2-'فعالیت‌ها'!$D15+1)/'فعالیت‌ها'!$E15))) -> 0 | E15: =IF(OR('فعالیت‌ها'!$D15="",'فعالیت‌ها'!$E15="",'فعالیت‌ها'!$E15=0),0,IF(3<'فعالیت‌ها'!$D15,0,IF(3>='فعالیت‌ها'!$F15,1,(3-'فعالیت‌ها'!$D15+1)/'فعالیت‌ها'!$E15))) -> 0 | F15: =IF(OR('فعالیت‌ها'!$D15="",'فعالیت‌ها'!$E15="",'فعالیت‌ها'!$E15=0),0,IF(4<'فعالیت‌ها'!$D15,0,IF(4>='فعالیت‌ها'!$F15,1,(4-'فعالیت‌ها'!$D15+1)/'فعالیت‌ها'!$E15))) -> 0 | G15: =IF(OR('فعالیت‌ها'!$D15="",'فعالیت‌ها'!$E15="",'فعالیت‌ها'!$E15=0),0,IF(5<'فعالیت‌ها'!$D15,0,IF(5>='فعالیت‌ها'!$F15,1,(5-'فعالیت‌ها'!$D15+1)/'فعالیت‌ها'!$E15))) -> 0 | H15: =IF(OR('فعالیت‌ها'!$D15="",'فعالیت‌ها'!$E15="",'فعالیت‌ها'!$E15=0),0,IF(6<'فعالیت‌ها'!$D15,0,IF(6>='فعالیت‌ها'!$F15,1,(6-'فعالیت‌ها'!$D15+1)/'فعالیت‌ها'!$E15))) -> 0 | I15: =IF(OR('فعالیت‌ها'!$D15="",'فعالیت‌ها'!$E15="",'فعالیت‌ها'!$E15=0),0,IF(7<'فعالیت‌ها'!$D15,0,IF(7>='فعالیت‌ها'!$F15,1,(7-'فعالیت‌ها'!$D15+1)/'فعالیت‌ها'!$E15))) -> 0 | J15: =IF(OR('فعالیت‌ها'!$D15="",'فعالیت‌ها'!$E15="",'فعالیت‌ها'!$E15=0),0,IF(8<'فعالیت‌ها'!$D15,0,IF(8>='فعالیت‌ها'!$F15,1,(8-'فعالیت‌ها'!$D15+1)/'فعالیت‌ها'!$E15))) -> 0 | K15: =IF(OR('فعالیت‌ها'!$D15="",'فعالیت‌ها'!$E15="",'فعالیت‌ها'!$E15=0),0,IF(9<'فعالیت‌ها'!$D15,0,IF(9>='فعالیت‌ها'!$F15,1,(9-'فعالیت‌ها'!$D15+1)/'فعالیت‌ها'!$E15))) -> 0 | L15: =IF(OR('فعالیت‌ها'!$D15="",'فعالیت‌ها'!$E15="",'فعالیت‌ها'!$E15=0),0,IF(10<'فعالیت‌ها'!$D15,0,IF(10>='فعالیت‌ها'!$F15,1,(10-'فعالیت‌ها'!$D15+1)/'فعالیت‌ها'!$E15))) -> 0 | M15: =IF(OR('فعالیت‌ها'!$D15="",'فعالیت‌ها'!$E15="",'فعالیت‌ها'!$E15=0),0,IF(11<'فعالیت‌ها'!$D15,0,IF(11>='فعالیت‌ها'!$F15,1,(11-'فعالیت‌ها'!$D15+1)/'فعالیت‌ها'!$E15))) -> 0 | N15: =IF(OR('فعالیت‌ها'!$D15="",'فعالیت‌ها'!$E15="",'فعالیت‌ها'!$E15=0),0,IF(12<'فعالیت‌ها'!$D15,0,IF(12>='فعالیت‌ها'!$F15,1,(12-'فعالیت‌ها'!$D15+1)/'فعالیت‌ها'!$E15))) -> 0 | O15: =IF(OR('فعالیت‌ها'!$D15="",'فعالیت‌ها'!$E15="",'فعالیت‌ها'!$E15=0),0,IF(13<'فعالیت‌ها'!$D15,0,IF(13>='فعالیت‌ها'!$F15,1,(13-'فعالیت‌ها'!$D15+1)/'فعالیت‌ها'!$E15))) -> 0 | P15: =IF(OR('فعالیت‌ها'!$D15="",'فعالیت‌ها'!$E15="",'فعالیت‌ها'!$E15=0),0,IF(14<'فعالیت‌ها'!$D15,0,IF(14>='فعالیت‌ها'!$F15,1,(14-'فعالیت‌ها'!$D15+1)/'فعالیت‌ها'!$E15))) -> 0 | Q15: =IF(OR('فعالیت‌ها'!$D15="",'فعالیت‌ها'!$E15="",'فعالیت‌ها'!$E15=0),0,IF(15<'فعالیت‌ها'!$D15,0,IF(15>='فعالیت‌ها'!$F15,1,(15-'فعالیت‌ها'!$D15+1)/'فعالیت‌ها'!$E15))) -> 0 | R15: =IF(OR('فعالیت‌ها'!$D15="",'فعالیت‌ها'!$E15="",'فعالیت‌ها'!$E15=0),0,IF(16<'فعالیت‌ها'!$D15,0,IF(16>='فعالیت‌ها'!$F15,1,(16-'فعالیت‌ها'!$D15+1)/'فعالیت‌ها'!$E15))) -> 0 | S15: =IF(OR('فعالیت‌ها'!$D15="",'فعالیت‌ها'!$E15="",'فعالیت‌ها'!$E15=0),0,IF(17<'فعالیت‌ها'!$D15,0,IF(17>='فعالیت‌ها'!$F15,1,(17-'فعالیت‌ها'!$D15+1)/'فعالیت‌ها'!$E15))) -> 0 | T15: =IF(OR('فعالیت‌ها'!$D15="",'فعالیت‌ها'!$E15="",'فعالیت‌ها'!$E15=0),0,IF(18<'فعالیت‌ها'!$D15,0,IF(18>='فعالیت‌ها'!$F15,1,(18-'فعالیت‌ها'!$D15+1)/'فعالیت‌ها'!$E15))) -> 0 | U15: =IF(OR('فعالیت‌ها'!$D15="",'فعالیت‌ها'!$E15="",'فعالیت‌ها'!$E15=0),0,IF(19<'فعالیت‌ها'!$D15,0,IF(19>='فعالیت‌ها'!$F15,1,(19-'فعالیت‌ها'!$D15+1)/'فعالیت‌ها'!$E15))) -> 0 | V15: =IF(OR('فعالیت‌ها'!$D15="",'فعالیت‌ها'!$E15="",'فعالیت‌ها'!$E15=0),0,IF(20<'فعالیت‌ها'!$D15,0,IF(20>='فعالیت‌ها'!$F15,1,(20-'فعالیت‌ها'!$D15+1)/'فعالیت‌ها'!$E15))) -> 0 | W15: =IF(OR('فعالیت‌ها'!$D15="",'فعالیت‌ها'!$E15="",'فعالیت‌ها'!$E15=0),0,IF(21<'فعالیت‌ها'!$D15,0,IF(21>='فعالیت‌ها'!$F15,1,(21-'فعالیت‌ها'!$D15+1)/'فعالیت‌ها'!$E15))) -> 0 | X15: =IF(OR('فعالیت‌ها'!$D15="",'فعالیت‌ها'!$E15="",'فعالیت‌ها'!$E15=0),0,IF(22<'فعالیت‌ها'!$D15,0,IF(22>='فعالیت‌ها'!$F15,1,(22-'فعالیت‌ها'!$D15+1)/'فعالیت‌ها'!$E15))) -> 0 | Y15: =IF(OR('فعالیت‌ها'!$D15="",'فعالیت‌ها'!$E15="",'فعالیت‌ها'!$E15=0),0,IF(23<'فعالیت‌ها'!$D15,0,IF(23>='فعالیت‌ها'!$F15,1,(23-'فعالیت‌ها'!$D15+1)/'فعالیت‌ها'!$E15))) -> 0 | Z15: =IF(OR('فعالیت‌ها'!$D15="",'فعالیت‌ها'!$E15="",'فعالیت‌ها'!$E15=0),0,IF(24<'فعالیت‌ها'!$D15,0,IF(24>='فعالیت‌ها'!$F15,1,(24-'فعالیت‌ها'!$D15+1)/'فعالیت‌ها'!$E15))) -> 0 | AA15: =IF(OR('فعالیت‌ها'!$D15="",'فعالیت‌ها'!$E15="",'فعالیت‌ها'!$E15=0),0,IF(25<'فعالیت‌ها'!$D15,0,IF(25>='فعالیت‌ها'!$F15,1,(25-'فعالیت‌ها'!$D15+1)/'فعالیت‌ها'!$E15))) -> 0 | AB15: =IF(OR('فعالیت‌ها'!$D15="",'فعالیت‌ها'!$E15="",'فعالیت‌ها'!$E15=0),0,IF(26<'فعالیت‌ها'!$D15,0,IF(26>='فعالیت‌ها'!$F15,1,(26-'فعالیت‌ها'!$D15+1)/'فعالیت‌ها'!$E15))) -> 0
A16: =IF('فعالیت‌ها'!A16="","",'فعالیت‌ها'!A16) | B16: =IF('فعالیت‌ها'!B16="","",'فعالیت‌ها'!B16) | C16: =IF(OR('فعالیت‌ها'!$D16="",'فعالیت‌ها'!$E16="",'فعالیت‌ها'!$E16=0),0,IF(1<'فعالیت‌ها'!$D16,0,IF(1>='فعالیت‌ها'!$F16,1,(1-'فعالیت‌ها'!$D16+1)/'فعالیت‌ها'!$E16))) -> 0 | D16: =IF(OR('فعالیت‌ها'!$D16="",'فعالیت‌ها'!$E16="",'فعالیت‌ها'!$E16=0),0,IF(2<'فعالیت‌ها'!$D16,0,IF(2>='فعالیت‌ها'!$F16,1,(2-'فعالیت‌ها'!$D16+1)/'فعالیت‌ها'!$E16))) -> 0 | E16: =IF(OR('فعالیت‌ها'!$D16="",'فعالیت‌ها'!$E16="",'فعالیت‌ها'!$E16=0),0,IF(3<'فعالیت‌ها'!$D16,0,IF(3>='فعالیت‌ها'!$F16,1,(3-'فعالیت‌ها'!$D16+1)/'فعالیت‌ها'!$E16))) -> 0 | F16: =IF(OR('فعالیت‌ها'!$D16="",'فعالیت‌ها'!$E16="",'فعالیت‌ها'!$E16=0),0,IF(4<'فعالیت‌ها'!$D16,0,IF(4>='فعالیت‌ها'!$F16,1,(4-'فعالیت‌ها'!$D16+1)/'فعالیت‌ها'!$E16))) -> 0 | G16: =IF(OR('فعالیت‌ها'!$D16="",'فعالیت‌ها'!$E16="",'فعالیت‌ها'!$E16=0),0,IF(5<'فعالیت‌ها'!$D16,0,IF(5>='فعالیت‌ها'!$F16,1,(5-'فعالیت‌ها'!$D16+1)/'فعالیت‌ها'!$E16))) -> 0 | H16: =IF(OR('فعالیت‌ها'!$D16="",'فعالیت‌ها'!$E16="",'فعالیت‌ها'!$E16=0),0,IF(6<'فعالیت‌ها'!$D16,0,IF(6>='فعالیت‌ها'!$F16,1,(6-'فعالیت‌ها'!$D16+1)/'فعالیت‌ها'!$E16))) -> 0 | I16: =IF(OR('فعالیت‌ها'!$D16="",'فعالیت‌ها'!$E16="",'فعالیت‌ها'!$E16=0),0,IF(7<'فعالیت‌ها'!$D16,0,IF(7>='فعالیت‌ها'!$F16,1,(7-'فعالیت‌ها'!$D16+1)/'فعالیت‌ها'!$E16))) -> 0 | J16: =IF(OR('فعالیت‌ها'!$D16="",'فعالیت‌ها'!$E16="",'فعالیت‌ها'!$E16=0),0,IF(8<'فعالیت‌ها'!$D16,0,IF(8>='فعالیت‌ها'!$F16,1,(8-'فعالیت‌ها'!$D16+1)/'فعالیت‌ها'!$E16))) -> 0 | K16: =IF(OR('فعالیت‌ها'!$D16="",'فعالیت‌ها'!$E16="",'فعالیت‌ها'!$E16=0),0,IF(9<'فعالیت‌ها'!$D16,0,IF(9>='فعالیت‌ها'!$F16,1,(9-'فعالیت‌ها'!$D16+1)/'فعالیت‌ها'!$E16))) -> 0 | L16: =IF(OR('فعالیت‌ها'!$D16="",'فعالیت‌ها'!$E16="",'فعالیت‌ها'!$E16=0),0,IF(10<'فعالیت‌ها'!$D16,0,IF(10>='فعالیت‌ها'!$F16,1,(10-'فعالیت‌ها'!$D16+1)/'فعالیت‌ها'!$E16))) -> 0 | M16: =IF(OR('فعالیت‌ها'!$D16="",'فعالیت‌ها'!$E16="",'فعالیت‌ها'!$E16=0),0,IF(11<'فعالیت‌ها'!$D16,0,IF(11>='فعالیت‌ها'!$F16,1,(11-'فعالیت‌ها'!$D16+1)/'فعالیت‌ها'!$E16))) -> 0 | N16: =IF(OR('فعالیت‌ها'!$D16="",'فعالیت‌ها'!$E16="",'فعالیت‌ها'!$E16=0),0,IF(12<'فعالیت‌ها'!$D16,0,IF(12>='فعالیت‌ها'!$F16,1,(12-'فعالیت‌ها'!$D16+1)/'فعالیت‌ها'!$E16))) -> 0 | O16: =IF(OR('فعالیت‌ها'!$D16="",'فعالیت‌ها'!$E16="",'فعالیت‌ها'!$E16=0),0,IF(13<'فعالیت‌ها'!$D16,0,IF(13>='فعالیت‌ها'!$F16,1,(13-'فعالیت‌ها'!$D16+1)/'فعالیت‌ها'!$E16))) -> 0 | P16: =IF(OR('فعالیت‌ها'!$D16="",'فعالیت‌ها'!$E16="",'فعالیت‌ها'!$E16=0),0,IF(14<'فعالیت‌ها'!$D16,0,IF(14>='فعالیت‌ها'!$F16,1,(14-'فعالیت‌ها'!$D16+1)/'فعالیت‌ها'!$E16))) -> 0 | Q16: =IF(OR('فعالیت‌ها'!$D16="",'فعالیت‌ها'!$E16="",'فعالیت‌ها'!$E16=0),0,IF(15<'فعالیت‌ها'!$D16,0,IF(15>='فعالیت‌ها'!$F16,1,(15-'فعالیت‌ها'!$D16+1)/'فعالیت‌ها'!$E16))) -> 0 | R16: =IF(OR('فعالیت‌ها'!$D16="",'فعالیت‌ها'!$E16="",'فعالیت‌ها'!$E16=0),0,IF(16<'فعالیت‌ها'!$D16,0,IF(16>='فعالیت‌ها'!$F16,1,(16-'فعالیت‌ها'!$D16+1)/'فعالیت‌ها'!$E16))) -> 0 | S16: =IF(OR('فعالیت‌ها'!$D16="",'فعالیت‌ها'!$E16="",'فعالیت‌ها'!$E16=0),0,IF(17<'فعالیت‌ها'!$D16,0,IF(17>='فعالیت‌ها'!$F16,1,(17-'فعالیت‌ها'!$D16+1)/'فعالیت‌ها'!$E16))) -> 0 | T16: =IF(OR('فعالیت‌ها'!$D16="",'فعالیت‌ها'!$E16="",'فعالیت‌ها'!$E16=0),0,IF(18<'فعالیت‌ها'!$D16,0,IF(18>='فعالیت‌ها'!$F16,1,(18-'فعالیت‌ها'!$D16+1)/'فعالیت‌ها'!$E16))) -> 0 | U16: =IF(OR('فعالیت‌ها'!$D16="",'فعالیت‌ها'!$E16="",'فعالیت‌ها'!$E16=0),0,IF(19<'فعالیت‌ها'!$D16,0,IF(19>='فعالیت‌ها'!$F16,1,(19-'فعالیت‌ها'!$D16+1)/'فعالیت‌ها'!$E16))) -> 0 | V16: =IF(OR('فعالیت‌ها'!$D16="",'فعالیت‌ها'!$E16="",'فعالیت‌ها'!$E16=0),0,IF(20<'فعالیت‌ها'!$D16,0,IF(20>='فعالیت‌ها'!$F16,1,(20-'فعالیت‌ها'!$D16+1)/'فعالیت‌ها'!$E16))) -> 0 | W16: =IF(OR('فعالیت‌ها'!$D16="",'فعالیت‌ها'!$E16="",'فعالیت‌ها'!$E16=0),0,IF(21<'فعالیت‌ها'!$D16,0,IF(21>='فعالیت‌ها'!$F16,1,(21-'فعالیت‌ها'!$D16+1)/'فعالیت‌ها'!$E16))) -> 0 | X16: =IF(OR('فعالیت‌ها'!$D16="",'فعالیت‌ها'!$E16="",'فعالیت‌ها'!$E16=0),0,IF(22<'فعالیت‌ها'!$D16,0,IF(22>='فعالیت‌ها'!$F16,1,(22-'فعالیت‌ها'!$D16+1)/'فعالیت‌ها'!$E16))) -> 0 | Y16: =IF(OR('فعالیت‌ها'!$D16="",'فعالیت‌ها'!$E16="",'فعالیت‌ها'!$E16=0),0,IF(23<'فعالیت‌ها'!$D16,0,IF(23>='فعالیت‌ها'!$F16,1,(23-'فعالیت‌ها'!$D16+1)/'فعالیت‌ها'!$E16))) -> 0 | Z16: =IF(OR('فعالیت‌ها'!$D16="",'فعالیت‌ها'!$E16="",'فعالیت‌ها'!$E16=0),0,IF(24<'فعالیت‌ها'!$D16,0,IF(24>='فعالیت‌ها'!$F16,1,(24-'فعالیت‌ها'!$D16+1)/'فعالیت‌ها'!$E16))) -> 0 | AA16: =IF(OR('فعالیت‌ها'!$D16="",'فعالیت‌ها'!$E16="",'فعالیت‌ها'!$E16=0),0,IF(25<'فعالیت‌ها'!$D16,0,IF(25>='فعالیت‌ها'!$F16,1,(25-'فعالیت‌ها'!$D16+1)/'فعالیت‌ها'!$E16))) -> 0 | AB16: =IF(OR('فعالیت‌ها'!$D16="",'فعالیت‌ها'!$E16="",'فعالیت‌ها'!$E16=0),0,IF(26<'فعالیت‌ها'!$D16,0,IF(26>='فعالیت‌ها'!$F16,1,(26-'فعالیت‌ها'!$D16+1)/'فعالیت‌ها'!$E16))) -> 0
A17: =IF('فعالیت‌ها'!A17="","",'فعالیت‌ها'!A17) | B17: =IF('فعالیت‌ها'!B17="","",'فعالیت‌ها'!B17) | C17: =IF(OR('فعالیت‌ها'!$D17="",'فعالیت‌ها'!$E17="",'فعالیت‌ها'!$E17=0),0,IF(1<'فعالیت‌ها'!$D17,0,IF(1>='فعالیت‌ها'!$F17,1,(1-'فعالیت‌ها'!$D17+1)/'فعالیت‌ها'!$E17))) -> 0 | D17: =IF(OR('فعالیت‌ها'!$D17="",'فعالیت‌ها'!$E17="",'فعالیت‌ها'!$E17=0),0,IF(2<'فعالیت‌ها'!$D17,0,IF(2>='فعالیت‌ها'!$F17,1,(2-'فعالیت‌ها'!$D17+1)/'فعالیت‌ها'!$E17))) -> 0 | E17: =IF(OR('فعالیت‌ها'!$D17="",'فعالیت‌ها'!$E17="",'فعالیت‌ها'!$E17=0),0,IF(3<'فعالیت‌ها'!$D17,0,IF(3>='فعالیت‌ها'!$F17,1,(3-'فعالیت‌ها'!$D17+1)/'فعالیت‌ها'!$E17))) -> 0 | F17: =IF(OR('فعالیت‌ها'!$D17="",'فعالیت‌ها'!$E17="",'فعالیت‌ها'!$E17=0),0,IF(4<'فعالیت‌ها'!$D17,0,IF(4>='فعالیت‌ها'!$F17,1,(4-'فعالیت‌ها'!$D17+1)/'فعالیت‌ها'!$E17))) -> 0 | G17: =IF(OR('فعالیت‌ها'!$D17="",'فعالیت‌ها'!$E17="",'فعالیت‌ها'!$E17=0),0,IF(5<'فعالیت‌ها'!$D17,0,IF(5>='فعالیت‌ها'!$F17,1,(5-'فعالیت‌ها'!$D17+1)/'فعالیت‌ها'!$E17))) -> 0 | H17: =IF(OR('فعالیت‌ها'!$D17="",'فعالیت‌ها'!$E17="",'فعالیت‌ها'!$E17=0),0,IF(6<'فعالیت‌ها'!$D17,0,IF(6>='فعالیت‌ها'!$F17,1,(6-'فعالیت‌ها'!$D17+1)/'فعالیت‌ها'!$E17))) -> 0 | I17: =IF(OR('فعالیت‌ها'!$D17="",'فعالیت‌ها'!$E17="",'فعالیت‌ها'!$E17=0),0,IF(7<'فعالیت‌ها'!$D17,0,IF(7>='فعالیت‌ها'!$F17,1,(7-'فعالیت‌ها'!$D17+1)/'فعالیت‌ها'!$E17))) -> 0 | J17: =IF(OR('فعالیت‌ها'!$D17="",'فعالیت‌ها'!$E17="",'فعالیت‌ها'!$E17=0),0,IF(8<'فعالیت‌ها'!$D17,0,IF(8>='فعالیت‌ها'!$F17,1,(8-'فعالیت‌ها'!$D17+1)/'فعالیت‌ها'!$E17))) -> 0 | K17: =IF(OR('فعالیت‌ها'!$D17="",'فعالیت‌ها'!$E17="",'فعالیت‌ها'!$E17=0),0,IF(9<'فعالیت‌ها'!$D17,0,IF(9>='فعالیت‌ها'!$F17,1,(9-'فعالیت‌ها'!$D17+1)/'فعالیت‌ها'!$E17))) -> 0 | L17: =IF(OR('فعالیت‌ها'!$D17="",'فعالیت‌ها'!$E17="",'فعالیت‌ها'!$E17=0),0,IF(10<'فعالیت‌ها'!$D17,0,IF(10>='فعالیت‌ها'!$F17,1,(10-'فعالیت‌ها'!$D17+1)/'فعالیت‌ها'!$E17))) -> 0 | M17: =IF(OR('فعالیت‌ها'!$D17="",'فعالیت‌ها'!$E17="",'فعالیت‌ها'!$E17=0),0,IF(11<'فعالیت‌ها'!$D17,0,IF(11>='فعالیت‌ها'!$F17,1,(11-'فعالیت‌ها'!$D17+1)/'فعالیت‌ها'!$E17))) -> 0 | N17: =IF(OR('فعالیت‌ها'!$D17="",'فعالیت‌ها'!$E17="",'فعالیت‌ها'!$E17=0),0,IF(12<'فعالیت‌ها'!$D17,0,IF(12>='فعالیت‌ها'!$F17,1,(12-'فعالیت‌ها'!$D17+1)/'فعالیت‌ها'!$E17))) -> 0 | O17: =IF(OR('فعالیت‌ها'!$D17="",'فعالیت‌ها'!$E17="",'فعالیت‌ها'!$E17=0),0,IF(13<'فعالیت‌ها'!$D17,0,IF(13>='فعالیت‌ها'!$F17,1,(13-'فعالیت‌ها'!$D17+1)/'فعالیت‌ها'!$E17))) -> 0 | P17: =IF(OR('فعالیت‌ها'!$D17="",'فعالیت‌ها'!$E17="",'فعالیت‌ها'!$E17=0),0,IF(14<'فعالیت‌ها'!$D17,0,IF(14>='فعالیت‌ها'!$F17,1,(14-'فعالیت‌ها'!$D17+1)/'فعالیت‌ها'!$E17))) -> 0 | Q17: =IF(OR('فعالیت‌ها'!$D17="",'فعالیت‌ها'!$E17="",'فعالیت‌ها'!$E17=0),0,IF(15<'فعالیت‌ها'!$D17,0,IF(15>='فعالیت‌ها'!$F17,1,(15-'فعالیت‌ها'!$D17+1)/'فعالیت‌ها'!$E17))) -> 0 | R17: =IF(OR('فعالیت‌ها'!$D17="",'فعالیت‌ها'!$E17="",'فعالیت‌ها'!$E17=0),0,IF(16<'فعالیت‌ها'!$D17,0,IF(16>='فعالیت‌ها'!$F17,1,(16-'فعالیت‌ها'!$D17+1)/'فعالیت‌ها'!$E17))) -> 0 | S17: =IF(OR('فعالیت‌ها'!$D17="",'فعالیت‌ها'!$E17="",'فعالیت‌ها'!$E17=0),0,IF(17<'فعالیت‌ها'!$D17,0,IF(17>='فعالیت‌ها'!$F17,1,(17-'فعالیت‌ها'!$D17+1)/'فعالیت‌ها'!$E17))) -> 0 | T17: =IF(OR('فعالیت‌ها'!$D17="",'فعالیت‌ها'!$E17="",'فعالیت‌ها'!$E17=0),0,IF(18<'فعالیت‌ها'!$D17,0,IF(18>='فعالیت‌ها'!$F17,1,(18-'فعالیت‌ها'!$D17+1)/'فعالیت‌ها'!$E17))) -> 0 | U17: =IF(OR('فعالیت‌ها'!$D17="",'فعالیت‌ها'!$E17="",'فعالیت‌ها'!$E17=0),0,IF(19<'فعالیت‌ها'!$D17,0,IF(19>='فعالیت‌ها'!$F17,1,(19-'فعالیت‌ها'!$D17+1)/'فعالیت‌ها'!$E17))) -> 0 | V17: =IF(OR('فعالیت‌ها'!$D17="",'فعالیت‌ها'!$E17="",'فعالیت‌ها'!$E17=0),0,IF(20<'فعالیت‌ها'!$D17,0,IF(20>='فعالیت‌ها'!$F17,1,(20-'فعالیت‌ها'!$D17+1)/'فعالیت‌ها'!$E17))) -> 0 | W17: =IF(OR('فعالیت‌ها'!$D17="",'فعالیت‌ها'!$E17="",'فعالیت‌ها'!$E17=0),0,IF(21<'فعالیت‌ها'!$D17,0,IF(21>='فعالیت‌ها'!$F17,1,(21-'فعالیت‌ها'!$D17+1)/'فعالیت‌ها'!$E17))) -> 0 | X17: =IF(OR('فعالیت‌ها'!$D17="",'فعالیت‌ها'!$E17="",'فعالیت‌ها'!$E17=0),0,IF(22<'فعالیت‌ها'!$D17,0,IF(22>='فعالیت‌ها'!$F17,1,(22-'فعالیت‌ها'!$D17+1)/'فعالیت‌ها'!$E17))) -> 0 | Y17: =IF(OR('فعالیت‌ها'!$D17="",'فعالیت‌ها'!$E17="",'فعالیت‌ها'!$E17=0),0,IF(23<'فعالیت‌ها'!$D17,0,IF(23>='فعالیت‌ها'!$F17,1,(23-'فعالیت‌ها'!$D17+1)/'فعالیت‌ها'!$E17))) -> 0 | Z17: =IF(OR('فعالیت‌ها'!$D17="",'فعالیت‌ها'!$E17="",'فعالیت‌ها'!$E17=0),0,IF(24<'فعالیت‌ها'!$D17,0,IF(24>='فعالیت‌ها'!$F17,1,(24-'فعالیت‌ها'!$D17+1)/'فعالیت‌ها'!$E17))) -> 0 | AA17: =IF(OR('فعالیت‌ها'!$D17="",'فعالیت‌ها'!$E17="",'فعالیت‌ها'!$E17=0),0,IF(25<'فعالیت‌ها'!$D17,0,IF(25>='فعالیت‌ها'!$F17,1,(25-'فعالیت‌ها'!$D17+1)/'فعالیت‌ها'!$E17))) -> 0 | AB17: =IF(OR('فعالیت‌ها'!$D17="",'فعالیت‌ها'!$E17="",'فعالیت‌ها'!$E17=0),0,IF(26<'فعالیت‌ها'!$D17,0,IF(26>='فعالیت‌ها'!$F17,1,(26-'فعالیت‌ها'!$D17+1)/'فعالیت‌ها'!$E17))) -> 0
... A20: =IF('فعالیت‌ها'!A20="","",'فعالیت‌ها'!A20) | B20: =IF('فعالیت‌ها'!B20="","",'فعالیت‌ها'!B20) | C20: =IF(OR('فعالیت‌ها'!$D20="",'فعالیت‌ها'!$E20="",'فعالیت‌ها'!$E20=0),0,IF(1<'فعالیت‌ها'!$D20,0,IF(1>='فعالیت‌ها'!$F20,1,(1-'فعالیت‌ها'!$D20+1)/'فعالیت‌ها'!$E20))) -> 0 | D20: =IF(OR('فعالیت‌ها'!$D20="",'فعالیت‌ها'!$E20="",'فعالیت‌ها'!$E20=0),0,IF(2<'فعالیت‌ها'!$D20,0,IF(2>='فعالیت‌ها'!$F20,1,(2-'فعالیت‌ها'!$D20+1)/'فعالیت‌ها'!$E20))) -> 0 | E20: =IF(OR('فعالیت‌ها'!$D20="",'فعالیت‌ها'!$E20="",'فعالیت‌ها'!$E20=0),0,IF(3<'فعالیت‌ها'!$D20,0,IF(3>='فعالیت‌ها'!$F20,1,(3-'فعالیت‌ها'!$D20+1)/'فعالیت‌ها'!$E20))) -> 0 | F20: =IF(OR('فعالیت‌ها'!$D20="",'فعالیت‌ها'!$E20="",'فعالیت‌ها'!$E20=0),0,IF(4<'فعالیت‌ها'!$D20,0,IF(4>='فعالیت‌ها'!$F20,1,(4-'فعالیت‌ها'!$D20+1)/'فعالیت‌ها'!$E20))) -> 0 | G20: =IF(OR('فعالیت‌ها'!$D20="",'فعالیت‌ها'!$E20="",'فعالیت‌ها'!$E20=0),0,IF(5<'فعالیت‌ها'!$D20,0,IF(5>='فعالیت‌ها'!$F20,1,(5-'فعالیت‌ها'!$D20+1)/'فعالیت‌ها'!$E20))) -> 0 | H20: =IF(OR('فعالیت‌ها'!$D20="",'فعالیت‌ها'!$E20="",'فعالیت‌ها'!$E20=0),0,IF(6<'فعالیت‌ها'!$D20,0,IF(6>='فعالیت‌ها'!$F20,1,(6-'فعالیت‌ها'!$D20+1)/'فعالیت‌ها'!$E20))) -> 0 | I20: =IF(OR('فعالیت‌ها'!$D20="",'فعالیت‌ها'!$E20="",'فعالیت‌ها'!$E20=0),0,IF(7<'فعالیت‌ها'!$D20,0,IF(7>='فعالیت‌ها'!$F20,1,(7-'فعالیت‌ها'!$D20+1)/'فعالیت‌ها'!$E20))) -> 0 | J20: =IF(OR('فعالیت‌ها'!$D20="",'فعالیت‌ها'!$E20="",'فعالیت‌ها'!$E20=0),0,IF(8<'فعالیت‌ها'!$D20,0,IF(8>='فعالیت‌ها'!$F20,1,(8-'فعالیت‌ها'!$D20+1)/'فعالیت‌ها'!$E20))) -> 0 | K20: =IF(OR('فعالیت‌ها'!$D20="",'فعالیت‌ها'!$E20="",'فعالیت‌ها'!$E20=0),0,IF(9<'فعالیت‌ها'!$D20,0,IF(9>='فعالیت‌ها'!$F20,1,(9-'فعالیت‌ها'!$D20+1)/'فعالیت‌ها'!$E20))) -> 0 | L20: =IF(OR('فعالیت‌ها'!$D20="",'فعالیت‌ها'!$E20="",'فعالیت‌ها'!$E20=0),0,IF(10<'فعالیت‌ها'!$D20,0,IF(10>='فعالیت‌ها'!$F20,1,(10-'فعالیت‌ها'!$D20+1)/'فعالیت‌ها'!$E20))) -> 0 | M20: =IF(OR('فعالیت‌ها'!$D20="",'فعالیت‌ها'!$E20="",'فعالیت‌ها'!$E20=0),0,IF(11<'فعالیت‌ها'!$D20,0,IF(11>='فعالیت‌ها'!$F20,1,(11-'فعالیت‌ها'!$D20+1)/'فعالیت‌ها'!$E20))) -> 0 | N20: =IF(OR('فعالیت‌ها'!$D20="",'فعالیت‌ها'!$E20="",'فعالیت‌ها'!$E20=0),0,IF(12<'فعالیت‌ها'!$D20,0,IF(12>='فعالیت‌ها'!$F20,1,(12-'فعالیت‌ها'!$D20+1)/'فعالیت‌ها'!$E20))) -> 0 | O20: =IF(OR('فعالیت‌ها'!$D20="",'فعالیت‌ها'!$E20="",'فعالیت‌ها'!$E20=0),0,IF(13<'فعالیت‌ها'!$D20,0,IF(13>='فعالیت‌ها'!$F20,1,(13-'فعالیت‌ها'!$D20+1)/'فعالیت‌ها'!$E20))) -> 0 | P20: =IF(OR('فعالیت‌ها'!$D20="",'فعالیت‌ها'!$E20="",'فعالیت‌ها'!$E20=0),0,IF(14<'فعالیت‌ها'!$D20,0,IF(14>='فعالیت‌ها'!$F20,1,(14-'فعالیت‌ها'!$D20+1)/'فعالیت‌ها'!$E20))) -> 0 | Q20: =IF(OR('فعالیت‌ها'!$D20="",'فعالیت‌ها'!$E20="",'فعالیت‌ها'!$E20=0),0,IF(15<'فعالیت‌ها'!$D20,0,IF(15>='فعالیت‌ها'!$F20,1,(15-'فعالیت‌ها'!$D20+1)/'فعالیت‌ها'!$E20))) -> 0 | R20: =IF(OR('فعالیت‌ها'!$D20="",'فعالیت‌ها'!$E20="",'فعالیت‌ها'!$E20=0),0,IF(16<'فعالیت‌ها'!$D20,0,IF(16>='فعالیت‌ها'!$F20,1,(16-'فعالیت‌ها'!$D20+1)/'فعالیت‌ها'!$E20))) -> 0 | S20: =IF(OR('فعالیت‌ها'!$D20="",'فعالیت‌ها'!$E20="",'فعالیت‌ها'!$E20=0),0,IF(17<'فعالیت‌ها'!$D20,0,IF(17>='فعالیت‌ها'!$F20,1,(17-'فعالیت‌ها'!$D20+1)/'فعالیت‌ها'!$E20))) -> 0 | T20: =IF(OR('فعالیت‌ها'!$D20="",'فعالیت‌ها'!$E20="",'فعالیت‌ها'!$E20=0),0,IF(18<'فعالیت‌ها'!$D20,0,IF(18>='فعالیت‌ها'!$F20,1,(18-'فعالیت‌ها'!$D20+1)/'فعالیت‌ها'!$E20))) -> 0 | U20: =IF(OR('فعالیت‌ها'!$D20="",'فعالیت‌ها'!$E20="",'فعالیت‌ها'!$E20=0),0,IF(19<'فعالیت‌ها'!$D20,0,IF(19>='فعالیت‌ها'!$F20,1,(19-'فعالیت‌ها'!$D20+1)/'فعالیت‌ها'!$E20))) -> 0 | V20: =IF(OR('فعالیت‌ها'!$D20="",'فعالیت‌ها'!$E20="",'فعالیت‌ها'!$E20=0),0,IF(20<'فعالیت‌ها'!$D20,0,IF(20>='فعالیت‌ها'!$F20,1,(20-'فعالیت‌ها'!$D20+1)/'فعالیت‌ها'!$E20))) -> 0 | W20: =IF(OR('فعالیت‌ها'!$D20="",'فعالیت‌ها'!$E20="",'فعالیت‌ها'!$E20=0),0,IF(21<'فعالیت‌ها'!$D20,0,IF(21>='فعالیت‌ها'!$F20,1,(21-'فعالیت‌ها'!$D20+1)/'فعالیت‌ها'!$E20))) -> 0 | X20: =IF(OR('فعالیت‌ها'!$D20="",'فعالیت‌ها'!$E20="",'فعالیت‌ها'!$E20=0),0,IF(22<'فعالیت‌ها'!$D20,0,IF(22>='فعالیت‌ها'!$F20,1,(22-'فعالیت‌ها'!$D20+1)/'فعالیت‌ها'!$E20))) -> 0 | Y20: =IF(OR('فعالیت‌ها'!$D20="",'فعالیت‌ها'!$E20="",'فعالیت‌ها'!$E20=0),0,IF(23<'فعالیت‌ها'!$D20,0,IF(23>='فعالیت‌ها'!$F20,1,(23-'فعالیت‌ها'!$D20+1)/'فعالیت‌ها'!$E20))) -> 0 | Z20: =IF(OR('فعالیت‌ها'!$D20="",'فعالیت‌ها'!$E20="",'فعالیت‌ها'!$E20=0),0,IF(24<'فعالیت‌ها'!$D20,0,IF(24>='فعالیت‌ها'!$F20,1,(24-'فعالیت‌ها'!$D20+1)/'فعالیت‌ها'!$E20))) -> 0 | AA20: =IF(OR('فعالیت‌ها'!$D20="",'فعالیت‌ها'!$E20="",'فعالیت‌ها'!$E20=0),0,IF(25<'فعالیت‌ها'!$D20,0,IF(25>='فعالیت‌ها'!$F20,1,(25-'فعالیت‌ها'!$D20+1)/'فعالیت‌ها'!$E20))) -> 0 | AB20: =IF(OR('فعالیت‌ها'!$D20="",'فعالیت‌ها'!$E20="",'فعالیت‌ها'!$E20=0),0,IF(26<'فعالیت‌ها'!$D20,0,IF(26>='فعالیت‌ها'!$F20,1,(26-'فعالیت‌ها'!$D20+1)/'فعالیت‌ها'!$E20))) -> 0

Sheet پیشرفت واقعی
A1: پیشرفت واقعی — درصد تجمعی هر فعالیت در پایان هر هفته
A2: فقط تا هفته‌ی گزارش پر کنید؛ عدد هر هفته «تجمعی» است، نه افزایشی.
A5: کد | B5: فعالیت | C5: هفته 1 | D5: هفته 2 | E5: هفته 3 | F5: هفته 4 | G5: هفته 5 | H5: هفته 6 | I5: هفته 7 | J5: هفته 8 | K5: هفته 9 | L5: هفته 10 | M5: هفته 11 | N5: هفته 12 | O5: هفته 13 | P5: هفته 14 | Q5: هفته 15 | R5: هفته 16 | S5: هفته 17 | T5: هفته 18 | U5: هفته 19 | V5: هفته 20 | W5: هفته 21 | X5: هفته 22 | Y5: هفته 23 | Z5: هفته 24 | AA5: هفته 25 | AB5: هفته 26
A6: =IF('فعالیت‌ها'!A6="","",'فعالیت‌ها'!A6) -> A1 | B6: =IF('فعالیت‌ها'!B6="","",'فعالیت‌ها'!B6) -> طراحی و مستندات | C6: 0.25 | D6: 0.5 | E6: 0.75 | F6: 1 | G6: 1 | H6: 1 | I6: 1 | J6: 1 | K6: 1 | L6: 1 | M6: 1 | N6: 1
A7: =IF('فعالیت‌ها'!A7="","",'فعالیت‌ها'!A7) -> A2 | B7: =IF('فعالیت‌ها'!B7="","",'فعالیت‌ها'!B7) -> مجوزها و قراردادها | D7: 0.25 | E7: 0.5 | F7: 0.75 | G7: 0.95 | H7: 0.95 | I7: 0.95 | J7: 0.95 | K7: 0.95 | L7: 0.95 | M7: 0.95 | N7: 0.95
A8: =IF('فعالیت‌ها'!A8="","",'فعالیت‌ها'!A8) -> A3 | B8: =IF('فعالیت‌ها'!B8="","",'فعالیت‌ها'!B8) -> تأمین مصالح و تجهیزات | F8: 0.1 | G8: 0.2 | H8: 0.3 | I8: 0.4 | J8: 0.45 | K8: 0.55 | L8: 0.65 | M8: 0.75 | N8: 0.75
A9: =IF('فعالیت‌ها'!A9="","",'فعالیت‌ها'!A9) -> A4 | B9: =IF('فعالیت‌ها'!B9="","",'فعالیت‌ها'!B9) -> آماده‌سازی کارگاه | G9: 0.3 | H9: 0.6 | I9: 0.9 | J9: 0.9 | K9: 0.9 | L9: 0.9 | M9: 0.9 | N9: 0.9
A10: =IF('فعالیت‌ها'!A10="","",'فعالیت‌ها'!A10) -> A5 | B10: =IF('فعالیت‌ها'!B10="","",'فعالیت‌ها'!B10) -> اجرای فاز ۱ | I10: 0.1 | J10: 0.15 | K10: 0.25 | L10: 0.3 | M10: 0.4 | N10: 0.45
A11: =IF('فعالیت‌ها'!A11="","",'فعالیت‌ها'!A11) -> A6 | B11: =IF('فعالیت‌ها'!B11="","",'فعالیت‌ها'!B11) -> اجرای فاز ۲
A12: =IF('فعالیت‌ها'!A12="","",'فعالیت‌ها'!A12) -> A7 | B12: =IF('فعالیت‌ها'!B12="","",'فعالیت‌ها'!B12) -> تأسیسات و نازک‌کاری
A13: =IF('فعالیت‌ها'!A13="","",'فعالیت‌ها'!A13) -> A8 | B13: =IF('فعالیت‌ها'!B13="","",'فعالیت‌ها'!B13) -> تحویل و مستندسازی
A14: =IF('فعالیت‌ها'!A14="","",'فعالیت‌ها'!A14) | B14: =IF('فعالیت‌ها'!B14="","",'فعالیت‌ها'!B14)
A15: =IF('فعالیت‌ها'!A15="","",'فعالیت‌ها'!A15) | B15: =IF('فعالیت‌ها'!B15="","",'فعالیت‌ها'!B15)
A16: =IF('فعالیت‌ها'!A16="","",'فعالیت‌ها'!A16) | B16: =IF('فعالیت‌ها'!B16="","",'فعالیت‌ها'!B16)
A17: =IF('فعالیت‌ها'!A17="","",'فعالیت‌ها'!A17) | B17: =IF('فعالیت‌ها'!B17="","",'فعالیت‌ها'!B17)
A18: =IF('فعالیت‌ها'!A18="","",'فعالیت‌ها'!A18) | B18: =IF('فعالیت‌ها'!B18="","",'فعالیت‌ها'!B18)
A19: =IF('فعالیت‌ها'!A19="","",'فعالیت‌ها'!A19) | B19: =IF('فعالیت‌ها'!B19="","",'فعالیت‌ها'!B19)
A20: =IF('فعالیت‌ها'!A20="","",'فعالیت‌ها'!A20) | B20: =IF('فعالیت‌ها'!B20="","",'فعالیت‌ها'!B20)
